Workbook

Sheet 2023年 152村级电站发电收益
A1: 2023年152个村光伏扶贫项目发电收益情况统计表
A4: 序号 | B4: 乡镇 | C4: 行政村 | D4: 电站名称 | F4: 电站容量（千瓦） | G4: 发电户号 | H4: 1月份 | J4: 2月份 | L4: 3月份(2022年12-3月份国补)7月录入系统 | P4: 4月份 | R4: 5月份 | T4: 6月份（4-6月份国补）7月录入系统 | X4: 7月份 | Z4: 8月份 | AB4: 9月份 | AD4: 10月份(7-9月国补) | AH4: 11月份(11月份录入10.11月国补) | AN4: 12月份 | AR4: 总计
C5: 0 | H5: 电量 | I5: 电费 | J5: 电量 | K5: 电费 | L5: 电量 | M5: 电费 | N5: 国补 | O5: 合计 | P5: 电量 | Q5: 电费 | R5: 电量 | S5: 电费 | T5: 电量 | U5: 电费 | V5: 国补 | W5: 合计 | X5: 电量 | Y5: 电费 | Z5: 电量 | AA5: 电费 | AB5: 电量 | AC5: 电费 | AD5: 电量 | AE5: 电费 | AF5: 国补 | AG5: 合计 | AH5: 电量 | AI5: 电费 | AJ5: 11月国补 | AK5: 10月国补 | AL5: 10.11国补合计 | AM5: 11电费+10.11国补 | AN5: 电量 | AO5: 电费 | AP5: 国补 | AQ5: 合计
A6: 1 | B6: 白石山 | C6: 白石山村级电站 | F6: 300 | G6: 0705521350 | H6: =VLOOKUP(G6,[1]分布式发票数据!$A:$D,4) -> 37009 | I6: =VLOOKUP(G6,[1]分布式发票数据!$A:$E,5,FALSE) -> 13486.08 | J6: =VLOOKUP(G6,[2]分布式发票数据!$A:$D,4,FALSE) -> 35304 | K6: =VLOOKUP(G6,[2]分布式发票数据!$A:$E,5,FALSE) -> 12864.78 | L6: 44159 | M6: 16091.54 | N6: =VLOOKUP(G6,'[7]2022年12月-2023年3月'!$A$4:$E$193,5,FALSE) -> 95380.45 | O6: =M6+N6 -> 111471.99 | P6: 32164 | Q6: 11720.56 | R6: =VLOOKUP(G:G,[4]分布式发票数据!$A:$E,4,FALSE) -> 35732 | S6: =VLOOKUP(G:G,[4]分布式发票数据!$A:$E,5,FALSE) -> 13020.74 | T6: =VLOOKUP(G6,[5]分布式发票数据!$A$4:$E$193,4,FALSE) -> 40211 | U6: =VLOOKUP(G6,[5]分布式发票数据!$A$4:$E$193,5,FALSE) -> 14652.89 | V6: =VLOOKUP(G6,'[8]2023年4-6月'!$A$4:$E$193,5,FALSE) -> 66550.67 | W6: =U6+V6 -> 81203.56 | X6: =VLOOKUP(G6,[6]分布式发票数据!$A$4:$D$193,4,FALSE) -> 33838 | Y6: =VLOOKUP(G6,[6]分布式发票数据!$A$4:$E$193,5,FALSE) -> 12330.57 | Z6: =VLOOKUP(G6,[9]分布式发票数据!$A$4:$E$193,4,FALSE) -> 36689 | AA6: =VLOOKUP(G6,[9]分布式发票数据!$A$4:$E$193,5,FALSE) -> 13369.47 | AB6: =VLOOKUP(G6,[10]分布式发票数据!$A:$D,4,FALSE) -> 28735 | AC6: =VLOOKUP(G6,[10]分布式发票数据!$A:$E,5,FALSE) -> 10471.03 | AD6: =VLOOKUP(G6,[12]sheet1!$G:$S,13,FALSE) -> 38562 | AE6: =VLOOKUP(G6,[12]sheet1!$G:$X,18,FALSE) -> 14051.99 | AF6: =VLOOKUP(G6,[11]Sheet1!$B:$E,4,FALSE) -> 61105.69 | AG6: =AE6+AF6 -> 75157.68 | AH6: =VLOOKUP(G6,[13]Sheet1!$C$1:$H$65536,6,FALSE) -> 39356 | AI6: =VLOOKUP(G6,[13]Sheet1!$C$1:$I$65536,7,FALSE) -> 14341.33 | AJ6: =VLOOKUP(G6,[14]Sheet1!$E$1:$I$65536,5,FALSE) -> 24227.55 | AK6: =VLOOKUP(G6,[15]Sheet1!$E$1:$I$65536,5,FALSE) -> 23738.77 | AL6: =AJ6+AK6 -> 47966.32 | AM6: =AI6+AL6 -> 62307.65 | AN6: =VLOOKUP(G6,[16]分布式营销结算明细接收数据!$E:$K,7,FALSE) -> 27594 | AO6: =VLOOKUP(G6,[16]分布式营销结算明细接收数据!$E:$O,11,FALSE) -> 10055.25 | AP6: =VLOOKUP(G6,[16]分布式营销结算明细接收数据!$E:$R,14,FALSE) -> 16986.87 | AQ6: =AO6+AP6 -> 27042.12 | AR6: =AQ6+AM6+AG6+AC6+AA6+Y6+W6+S6+Q6+O6+K6+I6 -> 444446.23
A7: 2 | C7: 菜村岗村级电站 | F7: 300 | G7: 0705511030 | H7: =VLOOKUP(G7,[1]分布式发票数据!$A:$D,4) -> 35364 | I7: =VLOOKUP(G7,[1]分布式发票数据!$A:$E,5,FALSE) -> 12886.64 | J7: =VLOOKUP(G7,[2]分布式发票数据!$A:$D,4,FALSE) -> 33802 | K7: =VLOOKUP(G7,[2]分布式发票数据!$A:$E,5,FALSE) -> 12317.45 | L7: 46898 | M7: 17089.63 | N7: =VLOOKUP(G7,'[7]2022年12月-2023年3月'!$A$4:$E$193,5,FALSE) -> 94386.87 | O7: =M7+N7 -> 111476.5 | P7: 35266 | Q7: 12850.93 | R7: =VLOOKUP(G:G,[4]分布式发票数据!$A:$E,4,FALSE) -> 40157 | S7: =VLOOKUP(G:G,[4]分布式发票数据!$A:$E,5,FALSE) -> 14633.21 | T7: =VLOOKUP(G7,[5]分布式发票数据!$A$4:$E$193,4,FALSE) -> 45233 | U7: =VLOOKUP(G7,[5]分布式发票数据!$A$4:$E$193,5,FALSE) -> 16482.91 | V7: =VLOOKUP(G7,'[8]2023年4-6月'!$A$4:$E$193,5,FALSE) -> 74275.83 | W7: =U7+V7 -> 90758.74 | X7: =VLOOKUP(G7,[6]分布式发票数据!$A$4:$D$193,4,FALSE) -> 38969 | Y7: =VLOOKUP(G7,[6]分布式发票数据!$A$4:$E$193,5,FALSE) -> 14200.3 | Z7: =VLOOKUP(G7,[9]分布式发票数据!$A$4:$E$193,4,FALSE) -> 42035 | AA7: =VLOOKUP(G7,[9]分布式发票数据!$A$4:$E$193,5,FALSE) -> 15317.55 | AB7: =VLOOKUP(G7,[10]分布式发票数据!$A:$D,4,FALSE) -> 35658 | AC7: =VLOOKUP(G7,[10]分布式发票数据!$A:$E,5,FALSE) -> 12993.78 | AD7: =VLOOKUP(G7,[12]sheet1!$G:$S,13,FALSE) -> 44294 | AE7: =VLOOKUP(G7,[12]sheet1!$G:$X,18,FALSE) -> 16140.73 | AF7: =VLOOKUP(G7,[11]Sheet1!$B:$E,4,FALSE) -> 71817.13 | AG7: =AE7+AF7 -> 87957.86 | AH7: =VLOOKUP(G7,[13]Sheet1!$C$1:$H$65536,6,FALSE) -> 37471 | AI7: =VLOOKUP(G7,[13]Sheet1!$C$1:$I$65536,7,FALSE) -> 13654.43 | AJ7: =VLOOKUP(G7,[14]Sheet1!$E$1:$I$65536,5,FALSE) -> 23067.15 | AK7: =VLOOKUP(G7,[15]Sheet1!$E$1:$I$65536,5,FALSE) -> 27267.39 | AL7: =AJ7+AK7 -> 50334.54 | AM7: =AI7+AL7 -> 63988.97 | AN7: =VLOOKUP(G7,[16]分布式营销结算明细接收数据!$E:$K,7,FALSE) -> 23345 | AO7: =VLOOKUP(G7,[16]分布式营销结算明细接收数据!$E:$O,11,FALSE) -> 8506.92 | AP7: =VLOOKUP(G7,[16]分布式营销结算明细接收数据!$E:$R,14,FALSE) -> 14371.18 | AQ7: =AO7+AP7 -> 22878.1 | AR7: =AQ7+AM7+AG7+AC7+AA7+Y7+W7+S7+Q7+O7+K7+I7 -> 472260.03
A8: 3 | C8: 斗军湾村 | D8: 斗军湾村联村电站 | E8: 420 | F8: 1141 | G8: 0719903975 | H8: =VLOOKUP(G8,[1]分布式发票数据!$A:$D,4) -> 41519 | I8: =VLOOKUP(G8,[1]分布式发票数据!$A:$E,5,FALSE) -> 15129.52 | J8: =VLOOKUP(G8,[2]分布式发票数据!$A:$D,4,FALSE) -> 38316 | K8: =VLOOKUP(G8,[2]分布式发票数据!$A:$E,5,FALSE) -> 13962.35 | L8: 52770 | M8: 19229.39 | N8: =VLOOKUP(G8,'[7]2022年12月-2023年3月'!$A$4:$E$193,5,FALSE) -> 85820.58 | O8: =M8+N8 -> 105049.97 | P8: 39936 | Q8: 14552.68 | R8: =VLOOKUP(G:G,[4]分布式发票数据!$A:$E,4,FALSE) -> 44668 | S8: =VLOOKUP(G:G,[4]分布式发票数据!$A:$E,5,FALSE) -> 16277.02 | T8: =VLOOKUP(G8,[5]分布式发票数据!$A$4:$E$193,4,FALSE) -> 48610 | U8: =VLOOKUP(G8,[5]分布式发票数据!$A$4:$E$193,5,FALSE) -> 17713.48 | V8: =VLOOKUP(G8,'[8]2023年4-6月'!$A$4:$E$193,5,FALSE) -> 64688.72 | W8: =U8+V8 -> 82402.2 | X8: =VLOOKUP(G8,[6]分布式发票数据!$A$4:$D$193,4,FALSE) -> 41561 | Y8: =VLOOKUP(G8,[6]分布式发票数据!$A$4:$E$193,5,FALSE) -> 15144.83 | Z8: =VLOOKUP(G8,[9]分布式发票数据!$A$4:$E$193,4,FALSE) -> 44232 | AA8: =VLOOKUP(G8,[9]分布式发票数据!$A$4:$E$193,5,FALSE) -> 16118.14 | AB8: =VLOOKUP(G8,[10]分布式发票数据!$A:$D,4,FALSE) -> 37715 | AC8: =VLOOKUP(G8,[10]分布式发票数据!$A:$E,5,FALSE) -> 13743.35 | AD8: =VLOOKUP(G8,[12]sheet1!$G:$S,13,FALSE) -> 48667 | AE8: =VLOOKUP(G8,[12]sheet1!$G:$X,18,FALSE) -> 17734.25 | AF8: =VLOOKUP(G8,[11]Sheet1!$B:$E,4,FALSE) -> 59975.48 | AG8: =AE8+AF8 -> 77709.73 | AH8: =VLOOKUP(G8,[13]Sheet1!$C$1:$H$65536,6,FALSE) -> 43956 | AI8: =VLOOKUP(G8,[13]Sheet1!$C$1:$I$65536,7,FALSE) -> 16017.57 | AJ8: =VLOOKUP(G8,[14]Sheet1!$E$1:$I$65536,5,FALSE) -> 21345.03 | AK8: =VLOOKUP(G8,[15]Sheet1!$E$1:$I$65536,5,FALSE) -> 23632.7 | AL8: =AJ8+AK8 -> 44977.73 | AM8: =AI8+AL8 -> 60995.3 | AN8: =VLOOKUP(G8,[16]分布式营销结算明细接收数据!$E:$K,7,FALSE) -> 34462 | AO8: =VLOOKUP(G8,[16]分布式营销结算明细接收数据!$E:$O,11,FALSE) -> 12557.95 | AP8: =VLOOKUP(G8,[16]分布式营销结算明细接收数据!$E:$R,14,FALSE) -> 16734.75 | AQ8: =AO8+AP8 -> 29292.7 | AR8: =AQ8+AM8+AG8+AC8+AA8+Y8+W8+S8+Q8+O8+K8+I8 -> 460377.79
A9: 4 | G9: 0719905997 | H9: =VLOOKUP(G9,[1]分布式发票数据!$A:$D,4) -> 22246 | I9: =VLOOKUP(G9,[1]分布式发票数据!$A:$E,5,FALSE) -> 8106.44 | J9: =VLOOKUP(G9,[2]分布式发票数据!$A:$D,4,FALSE) -> 20456 | K9: =VLOOKUP(G9,[2]分布式发票数据!$A:$E,5,FALSE) -> 7454.17 | L9: 28022 | M9: 10211.22 | N9: =VLOOKUP(G9,'[7]2022年12月-2023年3月'!$A$4:$E$193,5,FALSE) -> 45735.75 | O9: =M9+N9 -> 55946.97 | P9: 21139 | Q9: 7703.05 | R9: =VLOOKUP(G:G,[4]分布式发票数据!$A:$E,4,FALSE) -> 23501 | S9: =VLOOKUP(G:G,[4]分布式发票数据!$A:$E,5,FALSE) -> 8563.76 | T9: =VLOOKUP(G9,[5]分布式发票数据!$A$4:$E$193,4,FALSE) -> 25984 | U9: =VLOOKUP(G9,[5]分布式发票数据!$A$4:$E$193,5,FALSE) -> 9468.57 | V9: =VLOOKUP(G9,'[8]2023年4-6月'!$A$4:$E$193,5,FALSE) -> 34295.02 | W9: =U9+V9 -> 43763.59 | X9: =VLOOKUP(G9,[6]分布式发票数据!$A$4:$D$193,4,FALSE) -> 22519 | Y9: =VLOOKUP(G9,[6]分布式发票数据!$A$4:$E$193,5,FALSE) -> 8205.92 | Z9: =VLOOKUP(G9,[9]分布式发票数据!$A$4:$E$193,4,FALSE) -> 24266 | AA9: =VLOOKUP(G9,[9]分布式发票数据!$A$4:$E$193,5,FALSE) -> 8842.53 | AB9: =VLOOKUP(G9,[10]分布式发票数据!$A:$D,4,FALSE) -> 20936 | AC9: =VLOOKUP(G9,[10]分布式发票数据!$A:$E,5,FALSE) -> 7629.08 | AD9: =VLOOKUP(G9,[12]sheet1!$G:$S,13,FALSE) -> 26148 | AE9: =VLOOKUP(G9,[12]sheet1!$G:$X,18,FALSE) -> 9528.33 | AF9: =VLOOKUP(G9,[11]Sheet1!$B:$E,4,FALSE) -> 32885.32 | AG9: =AE9+AF9 -> 42413.65 | AH9: =VLOOKUP(G9,[13]Sheet1!$C$1:$H$65536,6,FALSE) -> 23150 | AI9: =VLOOKUP(G9,[13]Sheet1!$C$1:$I$65536,7,FALSE) -> 8435.86 | AJ9: =VLOOKUP(G9,[14]Sheet1!$E$1:$I$65536,5,FALSE) -> 11241.64 | AK9: =VLOOKUP(G9,[15]Sheet1!$E$1:$I$65536,5,FALSE) -> 12697.47 | AL9: =AJ9+AK9 -> 23939.11 | AM9: =AI9+AL9 -> 32374.97 | AN9: =VLOOKUP(G9,[16]分布式营销结算明细接收数据!$E:$K,7,FALSE) -> 18876 | AO9: =VLOOKUP(G9,[16]分布式营销结算明细接收数据!$E:$O,11,FALSE) -> 6878.41 | AP9: =VLOOKUP(G9,[16]分布式营销结算明细接收数据!$E:$R,14,FALSE) -> 9166.19 | AQ9: =AO9+AP9 -> 16044.6 | AR9: =AQ9+AM9+AG9+AC9+AA9+Y9+W9+S9+Q9+O9+K9+I9 -> 247048.73
A10: 5 | C10: 雀儿林村 | E10: 329 | G10: 0719907036 | H10: =VLOOKUP(G10,[1]分布式发票数据!$A:$D,4) -> 42103 | I10: =VLOOKUP(G10,[1]分布式发票数据!$A:$E,5,FALSE) -> 15342.33 | J10: =VLOOKUP(G10,[2]分布式发票数据!$A:$D,4,FALSE) -> 38278 | K10: =VLOOKUP(G10,[2]分布式发票数据!$A:$E,5,FALSE) -> 13948.5 | L10: 53030 | M10: 19324.13 | N10: =VLOOKUP(G10,'[7]2022年12月-2023年3月'!$A$4:$E$193,5,FALSE) -> 86560.15 | O10: =M10+N10 -> 105884.28 | P10: 39944 | Q10: 14555.59 | R10: =VLOOKUP(G:G,[4]分布式发票数据!$A:$E,4,FALSE) -> 45049 | S10: =VLOOKUP(G:G,[4]分布式发票数据!$A:$E,5,FALSE) -> 16415.86 | T10: =VLOOKUP(G10,[5]分布式发票数据!$A$4:$E$193,4,FALSE) -> 49410 | U10: =VLOOKUP(G10,[5]分布式发票数据!$A$4:$E$193,5,FALSE) -> 18005 | V10: =VLOOKUP(G10,'[8]2023年4-6月'!$A$4:$E$193,5,FALSE) -> 65266.1 | W10: =U10+V10 -> 83271.1 | X10: =VLOOKUP(G10,[6]分布式发票数据!$A$4:$D$193,4,FALSE) -> 42959 | Y10: =VLOOKUP(G10,[6]分布式发票数据!$A$4:$E$193,5,FALSE) -> 15654.26 | Z10: =VLOOKUP(G10,[9]分布式发票数据!$A$4:$E$193,4,FALSE) -> 45557 | AA10: =VLOOKUP(G10,[9]分布式发票数据!$A$4:$E$193,5,FALSE) -> 16600.97 | AB10: =VLOOKUP(G10,[10]分布式发票数据!$A:$D,4,FALSE) -> 38564 | AC10: =VLOOKUP(G10,[10]分布式发票数据!$A:$E,5,FALSE) -> 14052.72 | AD10: =VLOOKUP(G10,[12]sheet1!$G:$S,13,FALSE) -> 49414 | AE10: =VLOOKUP(G10,[12]sheet1!$G:$X,18,FALSE) -> 18006.46 | AF10: =VLOOKUP(G10,[11]Sheet1!$B:$E,4,FALSE) -> 61710.05 | AG10: =AE10+AF10 -> 79716.51 | AH10: =VLOOKUP(G10,[13]Sheet1!$C$1:$H$65536,6,FALSE) -> 43672 | AI10: =VLOOKUP(G10,[13]Sheet1!$C$1:$I$65536,7,FALSE) -> 15914.08 | AJ10: =VLOOKUP(G10,[14]Sheet1!$E$1:$I$65536,5,FALSE) -> 21207.12 | AK10: =VLOOKUP(G10,[15]Sheet1!$E$1:$I$65536,5,FALSE) -> 23995.44 | AL10: =AJ10+AK10 -> 45202.56 | AM10: =AI10+AL10 -> 61116.64 | AN10: =VLOOKUP(G10,[16]分布式营销结算明细接收数据!$E:$K,7,FALSE) -> 33311 | AO10: =VLOOKUP(G10,[16]分布式营销结算明细接收数据!$E:$O,11,FALSE) -> 12138.53 | AP10: =VLOOKUP(G10,[16]分布式营销结算明细接收数据!$E:$R,14,FALSE) -> 16175.82 | AQ10: =AO10+AP10 -> 28314.35 | AR10: =AQ10+AM10+AG10+AC10+AA10+Y10+W10+S10+Q10+O10+K10+I10 -> 464873.11
A11: 6 | C11: 南石盆村 | E11: 392 | G11: 0719907209 | H11: =VLOOKUP(G11,[1]分布式发票数据!$A:$D,4) -> 41104 | I11: =VLOOKUP(G11,[1]分布式发票数据!$A:$E,5,FALSE) -> 14978.3 | J11: =VLOOKUP(G11,[2]分布式发票数据!$A:$D,4,FALSE) -> 38061 | K11: =VLOOKUP(G11,[2]分布式发票数据!$A:$E,5,FALSE) -> 13869.43 | L11: 52352 | M11: 19077.07 | N11: =VLOOKUP(G11,'[7]2022年12月-2023年3月'!$A$4:$E$193,5,FALSE) -> 85113.05 | O11: =M11+N11 -> 104190.12 | P11: 39680 | Q11: 14459.39 | R11: =VLOOKUP(G:G,[4]分布式发票数据!$A:$E,4,FALSE) -> 44222 | S11: =VLOOKUP(G:G,[4]分布式发票数据!$A:$E,5,FALSE) -> 16114.5 | T11: =VLOOKUP(G11,[5]分布式发票数据!$A$4:$E$193,4,FALSE) -> 48312 | U11: =VLOOKUP(G11,[5]分布式发票数据!$A$4:$E$193,5,FALSE) -> 17604.89 | V11: =VLOOKUP(G11,'[8]2023年4-6月'!$A$4:$E$193,5,FALSE) -> 64203.12 | W11: =U11+V11 -> 81808.01 | X11: =VLOOKUP(G11,[6]分布式发票数据!$A$4:$D$193,4,FALSE) -> 42005 | Y11: =VLOOKUP(G11,[6]分布式发票数据!$A$4:$E$193,5,FALSE) -> 15306.62 | Z11: =VLOOKUP(G11,[9]分布式发票数据!$A$4:$E$193,4,FALSE) -> 45128 | AA11: =VLOOKUP(G11,[9]分布式发票数据!$A$4:$E$193,5,FALSE) -> 16444.64 | AB11: =VLOOKUP(G11,[10]分布式发票数据!$A:$D,4,FALSE) -> 37670 | AC11: =VLOOKUP(G11,[10]分布式发票数据!$A:$E,5,FALSE) -> 13726.95 | AD11: =VLOOKUP(G11,[12]sheet1!$G:$S,13,FALSE) -> 47746 | AE11: =VLOOKUP(G11,[12]sheet1!$G:$X,18,FALSE) -> 17398.64 | AF11: =VLOOKUP(G11,[11]Sheet1!$B:$E,4,FALSE) -> 60604.34 | AG11: =AE11+AF11 -> 78002.98 | AH11: =VLOOKUP(G11,[13]Sheet1!$C$1:$H$65536,6,FALSE) -> 43003 | AI11: =VLOOKUP(G11,[13]Sheet1!$C$1:$I$65536,7,FALSE) -> 15670.29 | AJ11: =VLOOKUP(G11,[14]Sheet1!$E$1:$I$65536,5,FALSE) -> 20882.26 | AK11: =VLOOKUP(G11,[15]Sheet1!$E$1:$I$65536,5,FALSE) -> 23185.46 | AL11: =AJ11+AK11 -> 44067.72 | AM11: =AI11+AL11 -> 59738.01 | AN11: =VLOOKUP(G11,[16]分布式营销结算明细接收数据!$E:$K,7,FALSE) -> 35669 | AO11: =VLOOKUP(G11,[16]分布式营销结算明细接收数据!$E:$O,11,FALSE) -> 12997.78 | AP11: =VLOOKUP(G11,[16]分布式营销结算明细接收数据!$E:$R,14,FALSE) -> 17320.87 | AQ11: =AO11+AP11 -> 30318.65 | AR11: =AQ11+AM11+AG11+AC11+AA11+Y11+W11+S11+Q11+O11+K11+I11 -> 458957.6
A12: 7 | B12: 北石佛 | C12: 北石佛村 | D12: 北石佛联村电站（调增梁家庄联村电站161千瓦） | E12: 476 | F12: 1498 | G12: 0724497940 | H12: =VLOOKUP(G12,[1]分布式发票数据!$A:$D,4) -> 44840 | I12: =VLOOKUP(G12,[1]分布式发票数据!$A:$E,5,FALSE) -> 16339.7 | J12: =VLOOKUP(G12,[2]分布式发票数据!$A:$D,4,FALSE) -> 41560 | K12: =VLOOKUP(G12,[2]分布式发票数据!$A:$E,5,FALSE) -> 15144.46 | L12: 55619 | M12: 20267.56 | N12: =VLOOKUP(G12,'[7]2022年12月-2023年3月'!$A$4:$E$193,5,FALSE) -> 90568.77 | O12: =M12+N12 -> 110836.33 | P12: 41723 | Q12: 15203.86 | R12: =VLOOKUP(G:G,[4]分布式发票数据!$A:$E,4,FALSE) -> 45104 | S12: =VLOOKUP(G:G,[4]分布式发票数据!$A:$E,5,FALSE) -> 16435.9 | T12: =VLOOKUP(G12,[5]分布式发票数据!$A$4:$E$193,4,FALSE) -> 51678 | U12: =VLOOKUP(G12,[5]分布式发票数据!$A$4:$E$193,5,FALSE) -> 18831.46 | V12: =VLOOKUP(G12,'[8]2023年4-6月'!$A$4:$E$193,5,FALSE) -> 67258.03 | W12: =U12+V12 -> 86089.49 | X12: =VLOOKUP(G12,[6]分布式发票数据!$A$4:$D$193,4,FALSE) -> 43442 | Y12: =VLOOKUP(G12,[6]分布式发票数据!$A$4:$E$193,5,FALSE) -> 15830.26 | Z12: =VLOOKUP(G12,[9]分布式发票数据!$A$4:$E$193,4,FALSE) -> 45338 | AA12: =VLOOKUP(G12,[9]分布式发票数据!$A$4:$E$193,5,FALSE) -> 16521.17 | AB12: =VLOOKUP(G12,[10]分布式发票数据!$A:$D,4,FALSE) -> 40667 | AC12: =VLOOKUP(G12,[10]分布式发票数据!$A:$E,5,FALSE) -> 14819.05 | AD12: =VLOOKUP(G12,[12]sheet1!$G:$S,13,FALSE) -> 51426 | AE12: =VLOOKUP(G12,[12]sheet1!$G:$X,18,FALSE) -> 18739.63 | AF12: =VLOOKUP(G12,[11]Sheet1!$B:$E,4,FALSE) -> 62859.47 | AG12: =AE12+AF12 -> 81599.1 | AH12: =VLOOKUP(G12,[13]Sheet1!$C$1:$H$65536,6,FALSE) -> 45182 | AI12: =VLOOKUP(G12,[13]Sheet1!$C$1:$I$65536,7,FALSE) -> 16464.32 | AJ12: =VLOOKUP(G12,[14]Sheet1!$E$1:$I$65536,5,FALSE) -> 21940.38 | AK12: =VLOOKUP(G12,[15]Sheet1!$E$1:$I$65536,5,FALSE) -> 24972.47 | AL12: =AJ12+AK12 -> 46912.85 | AM12: =AI12+AL12 -> 63377.17 | AN12: =VLOOKUP(G12,[16]分布式营销结算明细接收数据!$E:$K,7,FALSE) -> 39175 | AO12: =VLOOKUP(G12,[16]分布式营销结算明细接收数据!$E:$O,11,FALSE) -> 14275.37 | AP12: =VLOOKUP(G12,[16]分布式营销结算明细接收数据!$E:$R,14,FALSE) -> 19023.38 | AQ12: =AO12+AP12 -> 33298.75 | AR12: =AQ12+AM12+AG12+AC12+AA12+Y12+W12+S12+Q12+O12+K12+I12 -> 485495.24
A13: 8 | G13: 0724498217 | H13: =VLOOKUP(G13,[1]分布式发票数据!$A:$D,4) -> 29395 | I13: =VLOOKUP(G13,[1]分布式发票数据!$A:$E,5,FALSE) -> 10711.54 | J13: =VLOOKUP(G13,[2]分布式发票数据!$A:$D,4,FALSE) -> 25796 | K13: =VLOOKUP(G13,[2]分布式发票数据!$A:$E,5,FALSE) -> 9400.06 | L13: 35185 | M13: 12821.41 | N13: =VLOOKUP(G13,'[7]2022年12月-2023年3月'!$A$4:$E$193,5,FALSE) -> 58332.7 | O13: =M13+N13 -> 71154.11 | P13: 26484 | Q13: 9650.77 | R13: =VLOOKUP(G:G,[4]分布式发票数据!$A:$E,4,FALSE) -> 29128 | S13: =VLOOKUP(G:G,[4]分布式发票数据!$A:$E,5,FALSE) -> 10614.24 | T13: =VLOOKUP(G13,[5]分布式发票数据!$A$4:$E$193,4,FALSE) -> 33341 | U13: =VLOOKUP(G13,[5]分布式发票数据!$A$4:$E$193,5,FALSE) -> 12149.46 | V13: =VLOOKUP(G13,'[8]2023年4-6月'!$A$4:$E$193,5,FALSE) -> 43195.58 | W13: =U13+V13 -> 55345.04 | X13: =VLOOKUP(G13,[6]分布式发票数据!$A$4:$D$193,4,FALSE) -> 28140 | Y13: =VLOOKUP(G13,[6]分布式发票数据!$A$4:$E$193,5,FALSE) -> 10254.22 | Z13: =VLOOKUP(G13,[9]分布式发票数据!$A$4:$E$193,4,FALSE) -> 29256 | AA13: =VLOOKUP(G13,[9]分布式发票数据!$A$4:$E$193,5,FALSE) -> 10660.89 | AB13: =VLOOKUP(G13,[10]分布式发票数据!$A:$D,4,FALSE) -> 25860 | AC13: =VLOOKUP(G13,[10]分布式发票数据!$A:$E,5,FALSE) -> 9423.38 | AD13: =VLOOKUP(G13,[12]sheet1!$G:$S,13,FALSE) -> 32804 | AE13: =VLOOKUP(G13,[12]sheet1!$G:$X,18,FALSE) -> 11953.78 | AF13: =VLOOKUP(G13,[11]Sheet1!$B:$E,4,FALSE) -> 40429.11 | AG13: =AE13+AF13 -> 52382.89 | AH13: =VLOOKUP(G13,[13]Sheet1!$C$1:$H$65536,6,FALSE) -> 29334 | AI13: =VLOOKUP(G13,[13]Sheet1!$C$1:$I$65536,7,FALSE) -> 10689.31 | AJ13: =VLOOKUP(G13,[14]Sheet1!$E$1:$I$65536,5,FALSE) -> 14244.59 | AK13: =VLOOKUP(G13,[15]Sheet1!$E$1:$I$65536,5,FALSE) -> 15929.62 | AL13: =AJ13+AK13 -> 30174.21 | AM13: =AI13+AL13 -> 40863.52 | AN13: =VLOOKUP(G13,[16]分布式营销结算明细接收数据!$E:$K,7,FALSE) -> 24968 | AO13: =VLOOKUP(G13,[16]分布式营销结算明细接收数据!$E:$O,11,FALSE) -> 9098.34 | AP13: =VLOOKUP(G13,[16]分布式营销结算明细接收数据!$E:$R,14,FALSE) -> 12124.46 | AQ13: =AO13+AP13 -> 21222.8 | AR13: =AQ13+AM13+AG13+AC13+AA13+Y13+W13+S13+Q13+O13+K13+I13 -> 311683.46
A14: 9 | C14: 白绸村 | E14: 441 | G14: 0724498624 | H14: =VLOOKUP(G14,[1]分布式发票数据!$A:$D,4) -> 46262 | I14: =VLOOKUP(G14,[1]分布式发票数据!$A:$E,5,FALSE) -> 16857.87 | J14: =VLOOKUP(G14,[2]分布式发票数据!$A:$D,4,FALSE) -> 41597 | K14: =VLOOKUP(G14,[2]分布式发票数据!$A:$E,5,FALSE) -> 15157.95 | L14: 55837 | M14: 20347 | N14: =VLOOKUP(G14,'[7]2022年12月-2023年3月'!$A$4:$E$193,5,FALSE) -> 92537.88 | O14: =M14+N14 -> 112884.88 | P14: 42008 | Q14: 15307.72 | R14: =VLOOKUP(G:G,[4]分布式发票数据!$A:$E,4,FALSE) -> 45578 | S14: =VLOOKUP(G:G,[4]分布式发票数据!$A:$E,5,FALSE) -> 16608.62 | T14: =VLOOKUP(G14,[5]分布式发票数据!$A$4:$E$193,4,FALSE) -> 52598 | U14: =VLOOKUP(G14,[5]分布式发票数据!$A$4:$E$193,5,FALSE) -> 19166.71 | V14: =VLOOKUP(G14,'[8]2023年4-6月'!$A$4:$E$193,5,FALSE) -> 68073.35 | W14: =U14+V14 -> 87240.06 | X14: =VLOOKUP(G14,[6]分布式发票数据!$A$4:$D$193,4,FALSE) -> 44304 | Y14: =VLOOKUP(G14,[6]分布式发票数据!$A$4:$E$193,5,FALSE) -> 16144.38 | Z14: =VLOOKUP(G14,[9]分布式发票数据!$A$4:$E$193,4,FALSE) -> 46094 | AA14: =VLOOKUP(G14,[9]分布式发票数据!$A$4:$E$193,5,FALSE) -> 16796.65 | AB14: =VLOOKUP(G14,[10]分布式发票数据!$A:$D,4,FALSE) -> 41374 | AC14: =VLOOKUP(G14,[10]分布式发票数据!$A:$E,5,FALSE) -> 15076.69 | AD14: =VLOOKUP(G14,[12]sheet1!$G:$S,13,FALSE) -> 51895 | AE14: =VLOOKUP(G14,[12]sheet1!$G:$X,18,FALSE) -> 18910.54 | AF14: =VLOOKUP(G14,[11]Sheet1!$B:$E,4,FALSE) -> 63988.48 | AG14: =AE14+AF14 -> 82899.02 | AH14: =VLOOKUP(G14,[13]Sheet1!$C$1:$H$65536,6,FALSE) -> 46202 | AI14: =VLOOKUP(G14,[13]Sheet1!$C$1:$I$65536,7,FALSE) -> 16836.01 | AJ14: =VLOOKUP(G14,[14]Sheet1!$E$1:$I$65536,5,FALSE) -> 22435.69 | AK14: =VLOOKUP(G14,[15]Sheet1!$E$1:$I$65536,5,FALSE) -> 25200.21 | AL14: =AJ14+AK14 -> 47635.9 | AM14: =AI14+AL14 -> 64471.91 | AN14: =VLOOKUP(G14,[16]分布式营销结算明细接收数据!$E:$K,7,FALSE) -> 40766 | AO14: =VLOOKUP(G14,[16]分布式营销结算明细接收数据!$E:$O,11,FALSE) -> 14855.13 | AP14: =VLOOKUP(G14,[16]分布式营销结算明细接收数据!$E:$R,14,FALSE) -> 19795.97 | AQ14: =AO14+AP14 -> 34651.1 | AR14: =AQ14+AM14+AG14+AC14+AA14+Y14+W14+S14+Q14+O14+K14+I14 -> 494096.85
A15: 10 | G15: 0724498796 | H15: =VLOOKUP(G15,[1]分布式发票数据!$A:$D,4) -> 46580 | I15: =VLOOKUP(G15,[1]分布式发票数据!$A:$E,5,FALSE) -> 16973.75 | J15: =VLOOKUP(G15,[2]分布式发票数据!$A:$D,4,FALSE) -> 41215 | K15: =VLOOKUP(G15,[2]分布式发票数据!$A:$E,5,FALSE) -> 15018.75 | L15: 55956 | M15: 20390.37 | N15: =VLOOKUP(G15,'[7]2022年12月-2023年3月'!$A$4:$E$193,5,FALSE) -> 93073.98 | O15: =M15+N15 -> 113464.35 | P15: 42137 | Q15: 15354.72 | R15: =VLOOKUP(G:G,[4]分布式发票数据!$A:$E,4,FALSE) -> 44742 | S15: =VLOOKUP(G:G,[4]分布式发票数据!$A:$E,5,FALSE) -> 16303.98 | T15: =VLOOKUP(G15,[5]分布式发票数据!$A$4:$E$193,4,FALSE) -> 53009 | U15: =VLOOKUP(G15,[5]分布式发票数据!$A$4:$E$193,5,FALSE) -> 19316.48 | V15: =VLOOKUP(G15,'[8]2023年4-6月'!$A$4:$E$193,5,FALSE) -> 67929.62 | W15: =U15+V15 -> 87246.1 | X15: =VLOOKUP(G15,[6]分布式发票数据!$A$4:$D$193,4,FALSE) -> 44749 | Y15: =VLOOKUP(G15,[6]分布式发票数据!$A$4:$E$193,5,FALSE) -> 16306.54 | Z15: =VLOOKUP(G15,[9]分布式发票数据!$A$4:$E$193,4,FALSE) -> 46606 | AA15: =VLOOKUP(G15,[9]分布式发票数据!$A$4:$E$193,5,FALSE) -> 16983.23 | AB15: =VLOOKUP(G15,[10]分布式发票数据!$A:$D,4,FALSE) -> 41473 | AC15: =VLOOKUP(G15,[10]分布式发票数据!$A:$E,5,FALSE) -> 15112.76 | AD15: =VLOOKUP(G15,[12]sheet1!$G:$S,13,FALSE) -> 52277 | AE15: =VLOOKUP(G15,[12]sheet1!$G:$X,18,FALSE) -> 19049.74 | AF15: =VLOOKUP(G15,[11]Sheet1!$B:$E,4,FALSE) -> 64501.27 | AG15: =AE15+AF15 -> 83551.01 | AH15: =VLOOKUP(G15,[13]Sheet1!$C$1:$H$65536,6,FALSE) -> 46679 | AI15: =VLOOKUP(G15,[13]Sheet1!$C$1:$I$65536,7,FALSE) -> 17009.83 | AJ15: =VLOOKUP(G15,[14]Sheet1!$E$1:$I$65536,5,FALSE) -> 22667.32 | AK15: =VLOOKUP(G15,[15]Sheet1!$E$1:$I$65536,5,FALSE) -> 25385.71 | AL15: =AJ15+AK15 -> 48053.03 | AM15: =AI15+AL15 -> 65062.86 | AN15: =VLOOKUP(G15,[16]分布式营销结算明细接收数据!$E:$K,7,FALSE) -> 40370 | AO15: =VLOOKUP(G15,[16]分布式营销结算明细接收数据!$E:$O,11,FALSE) -> 14710.83 | AP15: =VLOOKUP(G15,[16]分布式营销结算明细接收数据!$E:$R,14,FALSE) -> 19603.67 | AQ15: =AO15+AP15 -> 34314.5 | AR15: =AQ15+AM15+AG15+AC15+AA15+Y15+W15+S15+Q15+O15+K15+I15 -> 495692.55
A16: 11 | C16: 张家峪村 | E16: 420 | G16: 0730828556 | H16: =VLOOKUP(G16,[1]分布式发票数据!$A:$D,4) -> 44905 | I16: =VLOOKUP(G16,[1]分布式发票数据!$A:$E,5,FALSE) -> 16363.38 | J16: =VLOOKUP(G16,[2]分布式发票数据!$A:$D,4,FALSE) -> 41303 | K16: =VLOOKUP(G16,[2]分布式发票数据!$A:$E,5,FALSE) -> 15050.81 | L16: 54982 | M16: 20035.44 | N16: =VLOOKUP(G16,'[7]2022年12月-2023年3月'!$A$4:$E$193,5,FALSE) -> 90713.97 | O16: =M16+N16 -> 110749.41 | P16: 41996 | Q16: 15303.34 | R16: =VLOOKUP(G:G,[4]分布式发票数据!$A:$E,4,FALSE) -> 45418 | S16: =VLOOKUP(G:G,[4]分布式发票数据!$A:$E,5,FALSE) -> 16550.32 | T16: =VLOOKUP(G16,[5]分布式发票数据!$A$4:$E$193,4,FALSE) -> 52507 | U16: =VLOOKUP(G16,[5]分布式发票数据!$A$4:$E$193,5,FALSE) -> 19133.55 | V16: =VLOOKUP(G16,'[8]2023年4-6月'!$A$4:$E$193,5,FALSE) -> 67945.64 | W16: =U16+V16 -> 87079.19 | X16: =VLOOKUP(G16,[6]分布式发票数据!$A$4:$D$193,4,FALSE) -> 44132 | Y16: =VLOOKUP(G16,[6]分布式发票数据!$A$4:$E$193,5,FALSE) -> 16081.7 | Z16: =VLOOKUP(G16,[9]分布式发票数据!$A$4:$E$193,4,FALSE) -> 45720 | AA16: =VLOOKUP(G16,[9]分布式发票数据!$A$4:$E$193,5,FALSE) -> 16660.37 | AB16: =VLOOKUP(G16,[10]分布式发票数据!$A:$D,4,FALSE) -> 41185 | AC16: =VLOOKUP(G16,[10]分布式发票数据!$A:$E,5,FALSE) -> 15007.81 | AD16: =VLOOKUP(G16,[12]sheet1!$G:$S,13,FALSE) -> 51464 | AE16: =VLOOKUP(G16,[12]sheet1!$G:$X,18,FALSE) -> 18753.48 | AF16: =VLOOKUP(G16,[11]Sheet1!$B:$E,4,FALSE) -> 63631.57 | AG16: =AE16+AF16 -> 82385.05 | AH16: =VLOOKUP(G16,[13]Sheet1!$C$1:$H$65536,6,FALSE) -> 45919 | AI16: =VLOOKUP(G16,[13]Sheet1!$C$1:$I$65536,7,FALSE) -> 16732.88 | AJ16: =VLOOKUP(G16,[14]Sheet1!$E$1:$I$65536,5,FALSE) -> 22298.27 | AK16: =VLOOKUP(G16,[15]Sheet1!$E$1:$I$65536,5,FALSE) -> 24990.92 | AL16: =AJ16+AK16 -> 47289.19 | AM16: =AI16+AL16 -> 64022.07 | AN16: =VLOOKUP(G16,[16]分布式营销结算明细接收数据!$E:$K,7,FALSE) -> 40728 | AO16: =VLOOKUP(G16,[16]分布式营销结算明细接收数据!$E:$O,11,FALSE) -> 14841.28 | AP16: =VLOOKUP(G16,[16]分布式营销结算明细接收数据!$E:$R,14,FALSE) -> 19777.52 | AQ16: =AO16+AP16 -> 34618.8 | AR16: =AQ16+AM16+AG16+AC16+AA16+Y16+W16+S16+Q16+O16+K16+I16 -> 489872.25
A17: 12 | C17: 北上屯村级电站 | F17: 300 | G17: 0705426727 | H17: =VLOOKUP(G17,[1]分布式发票数据!$A:$D,4) -> 35874 | I17: =VLOOKUP(G17,[1]分布式发票数据!$A:$E,5,FALSE) -> 13072.49 | J17: =VLOOKUP(G17,[2]分布式发票数据!$A:$D,4,FALSE) -> 32856 | K17: =VLOOKUP(G17,[2]分布式发票数据!$A:$E,5,FALSE) -> 11972.73 | L17: 43741 | M17: 15939.22 | N17: =VLOOKUP(G17,'[7]2022年12月-2023年3月'!$A$4:$E$193,5,FALSE) -> 92421.87 | O17: =M17+N17 -> 108361.09 | P17: 33132 | Q17: 12073.3 | R17: =VLOOKUP(G:G,[4]分布式发票数据!$A:$E,4,FALSE) -> 38558 | S17: =VLOOKUP(G:G,[4]分布式发票数据!$A:$E,5,FALSE) -> 14050.54 | T17: =VLOOKUP(G17,[5]分布式发票数据!$A$4:$E$193,4,FALSE) -> 45502 | U17: =VLOOKUP(G17,[5]分布式发票数据!$A$4:$E$193,5,FALSE) -> 16580.93 | V17: =VLOOKUP(G17,'[8]2023年4-6月'!$A$4:$E$193,5,FALSE) -> 72143.39 | W17: =U17+V17 -> 88724.32 | X17: =VLOOKUP(G17,[6]分布式发票数据!$A$4:$D$193,4,FALSE) -> 38422 | Y17: =VLOOKUP(G17,[6]分布式发票数据!$A$4:$E$193,5,FALSE) -> 14000.98 | Z17: =VLOOKUP(G17,[9]分布式发票数据!$A$4:$E$193,4,FALSE) -> 41029 | AA17: =VLOOKUP(G17,[9]分布式发票数据!$A$4:$E$193,5,FALSE) -> 14950.97 | AB17: =VLOOKUP(G17,[10]分布式发票数据!$A:$D,4,FALSE) -> 35527 | AC17: =VLOOKUP(G17,[10]分布式发票数据!$A:$E,5,FALSE) -> 12946.04 | AD17: =VLOOKUP(G17,[12]sheet1!$G:$S,13,FALSE) -> 44692 | AE17: =VLOOKUP(G17,[12]sheet1!$G:$X,18,FALSE) -> 16285.76 | AF17: =VLOOKUP(G17,[11]Sheet1!$B:$E,4,FALSE) -> 70780.45 | AG17: =AE17+AF17 -> 87066.21 | AH17: =VLOOKUP(G17,[13]Sheet1!$C$1:$H$65536,6,FALSE) -> 40741 | AI17: =VLOOKUP(G17,[13]Sheet1!$C$1:$I$65536,7,FALSE) -> 14846.02 | AJ17: =VLOOKUP(G17,[14]Sheet1!$E$1:$I$65536,5,FALSE) -> 25080.16 | AK17: =VLOOKUP(G17,[15]Sheet1!$E$1:$I$65536,5,FALSE) -> 27512.4 | AL17: =AJ17+AK17 -> 52592.56 | AM17: =AI17+AL17 -> 67438.58 | AN17: =VLOOKUP(G17,[16]分布式营销结算明细接收数据!$E:$K,7,FALSE) -> 33721 | AO17: =VLOOKUP(G17,[16]分布式营销结算明细接收数据!$E:$O,11,FALSE) -> 12287.93 | AP17: =VLOOKUP(G17,[16]分布式营销结算明细接收数据!$E:$R,14,FALSE) -> 20758.65 | AQ17: =AO17+AP17 -> 33046.58 | AR17: =AQ17+AM17+AG17+AC17+AA17+Y17+W17+S17+Q17+O17+K17+I17 -> 477703.83
A18: 13 | C18: 红泉村级电站 | F18: 300 | G18: 0705411024 | H18: =VLOOKUP(G18,[1]分布式发票数据!$A:$D,4) -> 37130 | I18: =VLOOKUP(G18,[1]分布式发票数据!$A:$E,5,FALSE) -> 13530.17 | J18: =VLOOKUP(G18,[2]分布式发票数据!$A:$D,4,FALSE) -> 26052 | K18: =VLOOKUP(G18,[2]分布式发票数据!$A:$E,5,FALSE) -> 9493.35 | L18: 47494 | M18: 17306.81 | N18: =VLOOKUP(G18,'[7]2022年12月-2023年3月'!$A$4:$E$193,5,FALSE) -> 90242.04 | O18: =M18+N18 -> 107548.85 | P18: 36011 | Q18: 13122.41 | R18: =VLOOKUP(G:G,[4]分布式发票数据!$A:$E,4,FALSE) -> 37904 | S18: =VLOOKUP(G:G,[4]分布式发票数据!$A:$E,5,FALSE) -> 13812.22 | T18: =VLOOKUP(G18,[5]分布式发票数据!$A$4:$E$193,4,FALSE) -> 44684 | U18: =VLOOKUP(G18,[5]分布式发票数据!$A$4:$E$193,5,FALSE) -> 16282.85 | V18: =VLOOKUP(G18,'[8]2023年4-6月'!$A$4:$E$193,5,FALSE) -> 73009.54 | W18: =U18+V18 -> 89292.39 | X18: =VLOOKUP(G18,[6]分布式发票数据!$A$4:$D$193,4,FALSE) -> 36364 | Y18: =VLOOKUP(G18,[6]分布式发票数据!$A$4:$E$193,5,FALSE) -> 13251.04 | Z18: =VLOOKUP(G18,[9]分布式发票数据!$A$4:$E$193,4,FALSE) -> 36871 | AA18: =VLOOKUP(G18,[9]分布式发票数据!$A$4:$E$193,5,FALSE) -> 13435.79 | AB18: =VLOOKUP(G18,[10]分布式发票数据!$A:$D,4,FALSE) -> 33403 | AC18: =VLOOKUP(G18,[10]分布式发票数据!$A:$E,5,FALSE) -> 12172.05 | AD18: =VLOOKUP(G18,[12]sheet1!$G:$S,13,FALSE) -> 44003 | AE18: =VLOOKUP(G18,[12]sheet1!$G:$X,18,FALSE) -> 16034.69 | AF18: =VLOOKUP(G18,[11]Sheet1!$B:$E,4,FALSE) -> 65646.36 | AG18: =AE18+AF18 -> 81681.05 | AH18: =VLOOKUP(G18,[13]Sheet1!$C$1:$H$65536,6,FALSE) -> 37164 | AI18: =VLOOKUP(G18,[13]Sheet1!$C$1:$I$65536,7,FALSE) -> 13542.56 | AJ18: =VLOOKUP(G18,[14]Sheet1!$E$1:$I$65536,5,FALSE) -> 22878.16 | AK18: =VLOOKUP(G18,[15]Sheet1!$E$1:$I$65536,5,FALSE) -> 27088.25 | AL18: =AJ18+AK18 -> 49966.41 | AM18: =AI18+AL18 -> 63508.97 | AN18: =VLOOKUP(G18,[16]分布式营销结算明细接收数据!$E:$K,7,FALSE) -> 27430 | AO18: =VLOOKUP(G18,[16]分布式营销结算明细接收数据!$E:$O,11,FALSE) -> 9995.49 | AP18: =VLOOKUP(G18,[16]分布式营销结算明细接收数据!$E:$R,14,FALSE) -> 16885.91 | AQ18: =AO18+AP18 -> 26881.4 | AR18: =AQ18+AM18+AG18+AC18+AA18+Y18+W18+S18+Q18+O18+K18+I18 -> 457729.69
A19: 14 | C19: 刘家嘴村级电站 | F19: 300 | G19: 0705500195 | H19: =VLOOKUP(G19,[1]分布式发票数据!$A:$D,4) -> 38126 | I19: =VLOOKUP(G19,[1]分布式发票数据!$A:$E,5,FALSE) -> 13893.11 | J19: =VLOOKUP(G19,[2]分布式发票数据!$A:$D,4,FALSE) -> 34428 | K19: =VLOOKUP(G19,[2]分布式发票数据!$A:$E,5,FALSE) -> 12545.56 | L19: 47066 | M19: 17150.85 | N19: =VLOOKUP(G19,'[7]2022年12月-2023年3月'!$A$4:$E$193,5,FALSE) -> 97761.6 | O19: =M19+N19 -> 114912.45 | P19: 35629 | Q19: 12983.21 | R19: =VLOOKUP(G:G,[4]分布式发票数据!$A:$E,4,FALSE) -> 38422 | S19: =VLOOKUP(G:G,[4]分布式发票数据!$A:$E,5,FALSE) -> 14000.98 | T19: =VLOOKUP(G19,[5]分布式发票数据!$A$4:$E$193,4,FALSE) -> 44326 | U19: =VLOOKUP(G19,[5]分布式发票数据!$A$4:$E$193,5,FALSE) -> 16152.39 | V19: =VLOOKUP(G19,'[8]2023年4-6月'!$A$4:$E$193,5,FALSE) -> 72872.88 | W19: =U19+V19 -> 89025.27 | X19: =VLOOKUP(G19,[6]分布式发票数据!$A$4:$D$193,4,FALSE) -> 37138 | Y19: =VLOOKUP(G19,[6]分布式发票数据!$A$4:$E$193,5,FALSE) -> 13533.09 | Z19: =VLOOKUP(G19,[9]分布式发票数据!$A$4:$E$193,4,FALSE) -> 38333 | AA19: =VLOOKUP(G19,[9]分布式发票数据!$A$4:$E$193,5,FALSE) -> 13968.55 | AB19: =VLOOKUP(G19,[10]分布式发票数据!$A:$D,4,FALSE) -> 34348 | AC19: =VLOOKUP(G19,[10]分布式发票数据!$A:$E,5,FALSE) -> 12516.41 | AD19: =VLOOKUP(G19,[12]sheet1!$G:$S,13,FALSE) -> 43570 | AE19: =VLOOKUP(G19,[12]sheet1!$G:$X,18,FALSE) -> 15876.91 | AF19: =VLOOKUP(G19,[11]Sheet1!$B:$E,4,FALSE) -> 67604.57 | AG19: =AE19+AF19 -> 83481.48 | AH19: =VLOOKUP(G19,[13]Sheet1!$C$1:$H$65536,6,FALSE) -> 37716 | AI19: =VLOOKUP(G19,[13]Sheet1!$C$1:$I$65536,7,FALSE) -> 13743.71 | AJ19: =VLOOKUP(G19,[14]Sheet1!$E$1:$I$65536,5,FALSE) -> 23217.97 | AK19: =VLOOKUP(G19,[15]Sheet1!$E$1:$I$65536,5,FALSE) -> 26821.69 | AL19: =AJ19+AK19 -> 50039.66 | AM19: =AI19+AL19 -> 63783.37 | AN19: =VLOOKUP(G19,[16]分布式营销结算明细接收数据!$E:$K,7,FALSE) -> 26303 | AO19: =VLOOKUP(G19,[16]分布式营销结算明细接收数据!$E:$O,11,FALSE) -> 9584.81 | AP19: =VLOOKUP(G19,[16]分布式营销结算明细接收数据!$E:$R,14,FALSE) -> 16192.13 | AQ19: =AO19+AP19 -> 25776.94 | AR19: =AQ19+AM19+AG19+AC19+AA19+Y19+W19+S19+Q19+O19+K19+I19 -> 470420.42
A20: 15 | C20: 马庄村级电站 | F20: 300 | G20: 0705466835 | H20: =VLOOKUP(G20,[1]分布式发票数据!$A:$D,4) -> 30353 | I20: =VLOOKUP(G20,[1]分布式发票数据!$A:$E,5,FALSE) -> 11060.63 | J20: =VLOOKUP(G20,[2]分布式发票数据!$A:$D,4,FALSE) -> 27984 | K20: =VLOOKUP(G20,[2]分布式发票数据!$A:$E,5,FALSE) -> 10197.37 | L20: 39821 | M20: 14510.77 | N20: =VLOOKUP(G20,'[7]2022年12月-2023年3月'!$A$4:$E$193,5,FALSE) -> 82830.83 | O20: =M20+N20 -> 97341.6 | P20: 30308 | Q20: 11044.24 | R20: =VLOOKUP(G:G,[4]分布式发票数据!$A:$E,4,FALSE) -> 37092 | S20: =VLOOKUP(G:G,[4]分布式发票数据!$A:$E,5,FALSE) -> 13516.32 | T20: =VLOOKUP(G20,[5]分布式发票数据!$A$4:$E$193,4,FALSE) -> 43898 | U20: =VLOOKUP(G20,[5]分布式发票数据!$A$4:$E$193,5,FALSE) -> 15996.43 | V20: =VLOOKUP(G20,'[8]2023年4-6月'!$A$4:$E$193,5,FALSE) -> 68515.05 | W20: =U20+V20 -> 84511.48 | X20: =VLOOKUP(G20,[6]分布式发票数据!$A$4:$D$193,4,FALSE) -> 36972 | Y20: =VLOOKUP(G20,[6]分布式发票数据!$A$4:$E$193,5,FALSE) -> 13472.6 | Z20: =VLOOKUP(G20,[9]分布式发票数据!$A$4:$E$193,4,FALSE) -> 38748 | AA20: =VLOOKUP(G20,[9]分布式发票数据!$A$4:$E$193,5,FALSE) -> 14119.77 | AB20: =VLOOKUP(G20,[10]分布式发票数据!$A:$D,4,FALSE) -> 33227 | AC20: =VLOOKUP(G20,[10]分布式发票数据!$A:$E,5,FALSE) -> 12107.92 | AD20: =VLOOKUP(G20,[12]sheet1!$G:$S,13,FALSE) -> 41952 | AE20: =VLOOKUP(G20,[12]sheet1!$G:$X,18,FALSE) -> 15287.31 | AF20: =VLOOKUP(G20,[11]Sheet1!$B:$E,4,FALSE) -> 67067.77 | AG20: =AE20+AF20 -> 82355.08 | AH20: =VLOOKUP(G20,[13]Sheet1!$C$1:$H$65536,6,FALSE) -> 36464 | AI20: =VLOOKUP(G20,[13]Sheet1!$C$1:$I$65536,7,FALSE) -> 13287.48 | AJ20: =VLOOKUP(G20,[14]Sheet1!$E$1:$I$65536,5,FALSE) -> 22447.24 | AK20: =VLOOKUP(G20,[15]Sheet1!$E$1:$I$65536,5,FALSE) -> 25825.65 | AL20: =AJ20+AK20 -> 48272.89 | AM20: =AI20+AL20 -> 61560.37 | AN20: =VLOOKUP(G20,[16]分布式营销结算明细接收数据!$E:$K,7,FALSE) -> 25024 | AO20: =VLOOKUP(G20,[16]分布式营销结算明细接收数据!$E:$O,11,FALSE) -> 9118.75 | AP20: =VLOOKUP(G20,[16]分布式营销结算明细接收数据!$E:$R,14,FALSE) -> 15404.77 | AQ20: =AO20+AP20 -> 24523.52 | AR20: =AQ20+AM20+AG20+AC20+AA20+Y20+W20+S20+Q20+O20+K20+I20 -> 435810.9
A21: 16 | C21: 南上屯 | F21: 420 | G21: 0724497676 | H21: =VLOOKUP(G21,[1]分布式发票数据!$A:$D,4) -> 13642 | I21: =VLOOKUP(G21,[1]分布式发票数据!$A:$E,5,FALSE) -> 4971.14 | J21: =VLOOKUP(G21,[2]分布式发票数据!$A:$D,4,FALSE) -> 12250 | K21: =VLOOKUP(G21,[2]分布式发票数据!$A:$E,5,FALSE) -> 4463.9 | L21: 16748 | M21: 6102.97 | N21: =VLOOKUP(G21,'[7]2022年12月-2023年3月'!$A$4:$E$193,5,FALSE) -> 27669.98 | O21: =M21+N21 -> 33772.95 | P21: 7530 | Q21: 2743.93 | R21: =VLOOKUP(G:G,[4]分布式发票数据!$A:$E,4,FALSE) -> 9933 | S21: =VLOOKUP(G:G,[4]分布式发票数据!$A:$E,5,FALSE) -> 3619.59 | T21: =VLOOKUP(G21,[5]分布式发票数据!$A$4:$E$193,4,FALSE) -> 16126 | U21: =VLOOKUP(G21,[5]分布式发票数据!$A$4:$E$193,5,FALSE) -> 5876.31 | V21: =VLOOKUP(G21,'[8]2023年4-6月'!$A$4:$E$193,5,FALSE) -> 16310.82 | W21: =U21+V21 -> 22187.13 | X21: =VLOOKUP(G21,[6]分布式发票数据!$A$4:$D$193,4,FALSE) -> 13566 | Y21: =VLOOKUP(G21,[6]分布式发票数据!$A$4:$E$193,5,FALSE) -> 4943.45 | Z21: =VLOOKUP(G21,[9]分布式发票数据!$A$4:$E$193,4,FALSE) -> 14455 | AA21: =VLOOKUP(G21,[9]分布式发票数据!$A$4:$E$193,5,FALSE) -> 5267.4 | AB21: =VLOOKUP(G21,[10]分布式发票数据!$A:$D,4,FALSE) -> 12370 | AC21: =VLOOKUP(G21,[10]分布式发票数据!$A:$E,5,FALSE) -> 4507.63 | AD21: =VLOOKUP(G21,[12]sheet1!$G:$S,13,FALSE) -> 15794 | AE21: =VLOOKUP(G21,[12]sheet1!$G:$X,18,FALSE) -> 5755.33 | AF21: =VLOOKUP(G21,[11]Sheet1!$B:$E,4,FALSE) -> 19613.87 | AG21: =AE21+AF21 -> 25369.2 | AH21: =VLOOKUP(G21,[13]Sheet1!$C$1:$H$65536,6,FALSE) -> 14023 | AI21: =VLOOKUP(G21,[13]Sheet1!$C$1:$I$65536,7,FALSE) -> 5109.98 | AJ21: =VLOOKUP(G21,[14]Sheet1!$E$1:$I$65536,5,FALSE) -> 6809.57 | AK21: =VLOOKUP(G21,[15]Sheet1!$E$1:$I$65536,5,FALSE) -> 7669.57 | AL21: =AJ21+AK21 -> 14479.14 | AM21: =AI21+AL21 -> 19589.12 | AN21: =VLOOKUP(G21,[16]分布式营销结算明细接收数据!$E:$K,7,FALSE) -> 11397 | AO21: =VLOOKUP(G21,[16]分布式营销结算明细接收数据!$E:$O,11,FALSE) -> 4153.07 | AP21: =VLOOKUP(G21,[16]分布式营销结算明细接收数据!$E:$R,14,FALSE) -> 5534.38 | AQ21: =AO21+AP21 -> 9687.45 | AR21: =AQ21+AM21+AG21+AC21+AA21+Y21+W21+S21+Q21+O21+K21+I21 -> 141122.89
A22: 17 | G22: 0731273979 | H22: =VLOOKUP(G22,[1]分布式发票数据!$A:$D,4) -> 44944 | I22: =VLOOKUP(G22,[1]分布式发票数据!$A:$E,5,FALSE) -> 16377.59 | J22: =VLOOKUP(G22,[2]分布式发票数据!$A:$D,4,FALSE) -> 41118 | K22: =VLOOKUP(G22,[2]分布式发票数据!$A:$E,5,FALSE) -> 14983.4 | L22: 55027 | M22: 20051.84 | N22: =VLOOKUP(G22,'[7]2022年12月-2023年3月'!$A$4:$E$193,5,FALSE) -> 91389.92 | O22: =M22+N22 -> 111441.76 | P22: 41930 | Q22: 15279.29 | R22: =VLOOKUP(G:G,[4]分布式发票数据!$A:$E,4,FALSE) -> 45816 | S22: =VLOOKUP(G:G,[4]分布式发票数据!$A:$E,5,FALSE) -> 16695.35 | T22: =VLOOKUP(G22,[5]分布式发票数据!$A$4:$E$193,4,FALSE) -> 52111 | U22: =VLOOKUP(G22,[5]分布式发票数据!$A$4:$E$193,5,FALSE) -> 18989.25 | V22: =VLOOKUP(G22,'[8]2023年4-6月'!$A$4:$E$193,5,FALSE) -> 67914.56 | W22: =U22+V22 -> 86903.81 | X22: =VLOOKUP(G22,[6]分布式发票数据!$A$4:$D$193,4,FALSE) -> 43723 | Y22: =VLOOKUP(G22,[6]分布式发票数据!$A$4:$E$193,5,FALSE) -> 15932.66 | Z22: =VLOOKUP(G22,[9]分布式发票数据!$A$4:$E$193,4,FALSE) -> 46326 | AA22: =VLOOKUP(G22,[9]分布式发票数据!$A$4:$E$193,5,FALSE) -> 16881.19 | AB22: =VLOOKUP(G22,[10]分布式发票数据!$A:$D,4,FALSE) -> 39980 | AC22: =VLOOKUP(G22,[10]分布式发票数据!$A:$E,5,FALSE) -> 14568.71 | AD22: =VLOOKUP(G22,[12]sheet1!$G:$S,13,FALSE) -> 50972 | AE22: =VLOOKUP(G22,[12]sheet1!$G:$X,18,FALSE) -> 18574.2 | AF22: =VLOOKUP(G22,[11]Sheet1!$B:$E,4,FALSE) -> 63142.09 | AG22: =AE22+AF22 -> 81716.29 | AH22: =VLOOKUP(G22,[13]Sheet1!$C$1:$H$65536,6,FALSE) -> 45157 | AI22: =VLOOKUP(G22,[13]Sheet1!$C$1:$I$65536,7,FALSE) -> 16455.21 | AJ22: =VLOOKUP(G22,[14]Sheet1!$E$1:$I$65536,5,FALSE) -> 21928.24 | AK22: =VLOOKUP(G22,[15]Sheet1!$E$1:$I$65536,5,FALSE) -> 24752 | AL22: =AJ22+AK22 -> 46680.24 | AM22: =AI22+AL22 -> 63135.45 | AN22: =VLOOKUP(G22,[16]分布式营销结算明细接收数据!$E:$K,7,FALSE) -> 35497 | AO22: =VLOOKUP(G22,[16]分布式营销结算明细接收数据!$E:$O,11,FALSE) -> 12935.11 | AP22: =VLOOKUP(G22,[16]分布式营销结算明细接收数据!$E:$R,14,FALSE) -> 17237.34 | AQ22: =AO22+AP22 -> 30172.45 | AR22: =AQ22+AM22+AG22+AC22+AA22+Y22+W22+S22+Q22+O22+K22+I22 -> 484087.95
A23: 18 | C23: 艾河村 | D23: 艾河村联村电站 | E23: 420 | F23: 1463 | G23: 0724297654 | H23: =VLOOKUP(G23,[1]分布式发票数据!$A:$D,4) -> 44461 | I23: =VLOOKUP(G23,[1]分布式发票数据!$A:$E,5,FALSE) -> 16201.59 | J23: =VLOOKUP(G23,[2]分布式发票数据!$A:$D,4,FALSE) -> 40168 | K23: =VLOOKUP(G23,[2]分布式发票数据!$A:$E,5,FALSE) -> 14637.22 | L23: 54833 | M23: 19981.15 | N23: =VLOOKUP(G23,'[7]2022年12月-2023年3月'!$A$4:$E$193,5,FALSE) -> 90456.59 | O23: =M23+N23 -> 110437.74 | P23: 41784 | Q23: 15226.09 | R23: =VLOOKUP(G:G,[4]分布式发票数据!$A:$E,4,FALSE) -> 46435 | S23: =VLOOKUP(G:G,[4]分布式发票数据!$A:$E,5,FALSE) -> 16920.91 | T23: =VLOOKUP(G23,[5]分布式发票数据!$A$4:$E$193,4,FALSE) -> 52178 | U23: =VLOOKUP(G23,[5]分布式发票数据!$A$4:$E$193,5,FALSE) -> 19013.66 | V23: =VLOOKUP(G23,'[8]2023年4-6月'!$A$4:$E$193,5,FALSE) -> 68176.79 | W23: =U23+V23 -> 87190.45 | X23: =VLOOKUP(G23,[6]分布式发票数据!$A$4:$D$193,4,FALSE) -> 44033 | Y23: =VLOOKUP(G23,[6]分布式发票数据!$A$4:$E$193,5,FALSE) -> 16045.63 | Z23: =VLOOKUP(G23,[9]分布式发票数据!$A$4:$E$193,4,FALSE) -> 46835 | AA23: =VLOOKUP(G23,[9]分布式发票数据!$A$4:$E$193,5,FALSE) -> 17066.67 | AB23: =VLOOKUP(G23,[10]分布式发票数据!$A:$D,4,FALSE) -> 39863 | AC23: =VLOOKUP(G23,[10]分布式发票数据!$A:$E,5,FALSE) -> 14526.08 | AD23: =VLOOKUP(G23,[12]sheet1!$G:$S,13,FALSE) -> 50956 | AE23: =VLOOKUP(G23,[12]sheet1!$G:$X,18,FALSE) -> 18568.37 | AF23: =VLOOKUP(G23,[11]Sheet1!$B:$E,4,FALSE) -> 63482.97 | AG23: =AE23+AF23 -> 82051.34 | AH23: =VLOOKUP(G23,[13]Sheet1!$C$1:$H$65536,6,FALSE) -> 44856 | AI23: =VLOOKUP(G23,[13]Sheet1!$C$1:$I$65536,7,FALSE) -> 16345.53 | AJ23: =VLOOKUP(G23,[14]Sheet1!$E$1:$I$65536,5,FALSE) -> 21782.07 | AK23: =VLOOKUP(G23,[15]Sheet1!$E$1:$I$65536,5,FALSE) -> 24744.23 | AL23: =AJ23+AK23 -> 46526.3 | AM23: =AI23+AL23 -> 62871.83 | AN23: =VLOOKUP(G23,[16]分布式营销结算明细接收数据!$E:$K,7,FALSE) -> 34924 | AO23: =VLOOKUP(G23,[16]分布式营销结算明细接收数据!$E:$O,11,FALSE) -> 12726.31 | AP23: =VLOOKUP(G23,[16]分布式营销结算明细接收数据!$E:$R,14,FALSE) -> 16959.09 | AQ23: =AO23+AP23 -> 29685.4 | AR23: =AQ23+AM23+AG23+AC23+AA23+Y23+W23+S23+Q23+O23+K23+I23 -> 482860.95
A24: 19 | G24: 0724301458 | H24: =VLOOKUP(G24,[1]分布式发票数据!$A:$D,4) -> 45676 | I24: =VLOOKUP(G24,[1]分布式发票数据!$A:$E,5,FALSE) -> 16644.33 | J24: =VLOOKUP(G24,[2]分布式发票数据!$A:$D,4,FALSE) -> 41170 | K24: =VLOOKUP(G24,[2]分布式发票数据!$A:$E,5,FALSE) -> 15002.35 | L24: 54760 | M24: 19954.54 | N24: =VLOOKUP(G24,'[7]2022年12月-2023年3月'!$A$4:$E$193,5,FALSE) -> 91994.5 | O24: =M24+N24 -> 111949.04 | P24: 41653 | Q24: 15178.35 | R24: =VLOOKUP(G:G,[4]分布式发票数据!$A:$E,4,FALSE) -> 45630 | S24: =VLOOKUP(G:G,[4]分布式发票数据!$A:$E,5,FALSE) -> 16627.57 | T24: =VLOOKUP(G24,[5]分布式发票数据!$A$4:$E$193,4,FALSE) -> 51716 | U24: =VLOOKUP(G24,[5]分布式发票数据!$A$4:$E$193,5,FALSE) -> 18845.31 | V24: =VLOOKUP(G24,'[8]2023年4-6月'!$A$4:$E$193,5,FALSE) -> 67497.92 | W24: =U24+V24 -> 86343.23 | X24: =VLOOKUP(G24,[6]分布式发票数据!$A$4:$D$193,4,FALSE) -> 43718 | Y24: =VLOOKUP(G24,[6]分布式发票数据!$A$4:$E$193,5,FALSE) -> 15930.84 | Z24: =VLOOKUP(G24,[9]分布式发票数据!$A$4:$E$193,4,FALSE) -> 46794 | AA24: =VLOOKUP(G24,[9]分布式发票数据!$A$4:$E$193,5,FALSE) -> 17051.73 | AB24: =VLOOKUP(G24,[10]分布式发票数据!$A:$D,4,FALSE) -> 40555 | AC24: =VLOOKUP(G24,[10]分布式发票数据!$A:$E,5,FALSE) -> 14778.24 | AD24: =VLOOKUP(G24,[12]sheet1!$G:$S,13,FALSE) -> 51853 | AE24: =VLOOKUP(G24,[12]sheet1!$G:$X,18,FALSE) -> 18895.23 | AF24: =VLOOKUP(G24,[11]Sheet1!$B:$E,4,FALSE) -> 63646.14 | AG24: =AE24+AF24 -> 82541.37 | AH24: =VLOOKUP(G24,[13]Sheet1!$C$1:$H$65536,6,FALSE) -> 46373 | AI24: =VLOOKUP(G24,[13]Sheet1!$C$1:$I$65536,7,FALSE) -> 16898.32 | AJ24: =VLOOKUP(G24,[14]Sheet1!$E$1:$I$65536,5,FALSE) -> 22518.73 | AK24: =VLOOKUP(G24,[15]Sheet1!$E$1:$I$65536,5,FALSE) -> 25179.82 | AL24: =AJ24+AK24 -> 47698.55 | AM24: =AI24+AL24 -> 64596.87 | AN24: =VLOOKUP(G24,[16]分布式营销结算明细接收数据!$E:$K,7,FALSE) -> 41030 | AO24: =VLOOKUP(G24,[16]分布式营销结算明细接收数据!$E:$O,11,FALSE) -> 14951.33 | AP24: =VLOOKUP(G24,[16]分布式营销结算明细接收数据!$E:$R,14,FALSE) -> 19924.17 | AQ24: =AO24+AP24 -> 34875.5 | AR24: =AQ24+AM24+AG24+AC24+AA24+Y24+W24+S24+Q24+O24+K24+I24 -> 491519.42
A25: 20 | C25: 石道沟村 | E25: 420 | G25: 0724450714 | H25: =VLOOKUP(G25,[1]分布式发票数据!$A:$D,4) -> 44647 | I25: =VLOOKUP(G25,[1]分布式发票数据!$A:$E,5,FALSE) -> 16269.37 | J25: =VLOOKUP(G25,[2]分布式发票数据!$A:$D,4,FALSE) -> 40164 | K25: =VLOOKUP(G25,[2]分布式发票数据!$A:$E,5,FALSE) -> 14635.76 | L25: 54169 | M25: 19739.18 | N25: =VLOOKUP(G25,'[7]2022年12月-2023年3月'!$A$4:$E$193,5,FALSE) -> 90266.73 | O25: =M25+N25 -> 110005.91 | P25: 41244 | Q25: 15029.31 | R25: =VLOOKUP(G:G,[4]分布式发票数据!$A:$E,4,FALSE) -> 45510 | S25: =VLOOKUP(G:G,[4]分布式发票数据!$A:$E,5,FALSE) -> 16583.84 | T25: =VLOOKUP(G25,[5]分布式发票数据!$A$4:$E$193,4,FALSE) -> 50802 | U25: =VLOOKUP(G25,[5]分布式发票数据!$A$4:$E$193,5,FALSE) -> 18512.25 | V25: =VLOOKUP(G25,'[8]2023年4-6月'!$A$4:$E$193,5,FALSE) -> 66797.2 | W25: =U25+V25 -> 85309.45 | X25: =VLOOKUP(G25,[6]分布式发票数据!$A$4:$D$193,4,FALSE) -> 42888 | Y25: =VLOOKUP(G25,[6]分布式发票数据!$A$4:$E$193,5,FALSE) -> 15628.39 | Z25: =VLOOKUP(G25,[9]分布式发票数据!$A$4:$E$193,4,FALSE) -> 45241 | AA25: =VLOOKUP(G25,[9]分布式发票数据!$A$4:$E$193,5,FALSE) -> 16485.82 | AB25: =VLOOKUP(G25,[10]分布式发票数据!$A:$D,4,FALSE) -> 38104 | AC25: =VLOOKUP(G25,[10]分布式发票数据!$A:$E,5,FALSE) -> 13885.1 | AD25: =VLOOKUP(G25,[12]sheet1!$G:$S,13,FALSE) -> 50076 | AE25: =VLOOKUP(G25,[12]sheet1!$G:$X,18,FALSE) -> 18247.69 | AF25: =VLOOKUP(G25,[11]Sheet1!$B:$E,4,FALSE) -> 61298.74 | AG25: =AE25+AF25 -> 79546.43 | AH25: =VLOOKUP(G25,[13]Sheet1!$C$1:$H$65536,6,FALSE) -> 44663 | AI25: =VLOOKUP(G25,[13]Sheet1!$C$1:$I$65536,7,FALSE) -> 16275.2 | AJ25: =VLOOKUP(G25,[14]Sheet1!$E$1:$I$65536,5,FALSE) -> 21688.35 | AK25: =VLOOKUP(G25,[15]Sheet1!$E$1:$I$65536,5,FALSE) -> 24316.91 | AL25: =AJ25+AK25 -> 46005.26 | AM25: =AI25+AL25 -> 62280.46 | AN25: =VLOOKUP(G25,[16]分布式营销结算明细接收数据!$E:$K,7,FALSE) -> 38156 | AO25: =VLOOKUP(G25,[16]分布式营销结算明细接收数据!$E:$O,11,FALSE) -> 13904.05 | AP25: =VLOOKUP(G25,[16]分布式营销结算明细接收数据!$E:$R,14,FALSE) -> 18528.55 | AQ25: =AO25+AP25 -> 32432.6 | AR25: =AQ25+AM25+AG25+AC25+AA25+Y25+W25+S25+Q25+O25+K25+I25 -> 478092.44
A26: 21 | C26: 牌坊村 | E26: 420 | G26: 0724454761 | H26: =VLOOKUP(G26,[1]分布式发票数据!$A:$D,4) -> 42788 | I26: =VLOOKUP(G26,[1]分布式发票数据!$A:$E,5,FALSE) -> 15591.95 | J26: =VLOOKUP(G26,[2]分布式发票数据!$A:$D,4,FALSE) -> 41282 | K26: =VLOOKUP(G26,[2]分布式发票数据!$A:$E,5,FALSE) -> 15043.16 | L26: 55162 | M26: 20101.03 | N26: =VLOOKUP(G26,'[7]2022年12月-2023年3月'!$A$4:$E$193,5,FALSE) -> 90623.16 | O26: =M26+N26 -> 110724.19 | P26: 42084 | Q26: 15335.41 | R26: =VLOOKUP(G:G,[4]分布式发票数据!$A:$E,4,FALSE) -> 45425 | S26: =VLOOKUP(G:G,[4]分布式发票数据!$A:$E,5,FALSE) -> 16552.87 | T26: =VLOOKUP(G26,[5]分布式发票数据!$A$4:$E$193,4,FALSE) -> 51875 | U26: =VLOOKUP(G26,[5]分布式发票数据!$A$4:$E$193,5,FALSE) -> 18903.25 | V26: =VLOOKUP(G26,'[8]2023年4-6月'!$A$4:$E$193,5,FALSE) -> 67684.87 | W26: =U26+V26 -> 86588.12 | X26: =VLOOKUP(G26,[6]分布式发票数据!$A$4:$D$193,4,FALSE) -> 43024 | Y26: =VLOOKUP(G26,[6]分布式发票数据!$A$4:$E$193,5,FALSE) -> 15677.95 | Z26: =VLOOKUP(G26,[9]分布式发票数据!$A$4:$E$193,4,FALSE) -> 45766 | AA26: =VLOOKUP(G26,[9]分布式发票数据!$A$4:$E$193,5,FALSE) -> 16677.13 | AB26: =VLOOKUP(G26,[10]分布式发票数据!$A:$D,4,FALSE) -> 39941 | AC26: =VLOOKUP(G26,[10]分布式发票数据!$A:$E,5,FALSE) -> 14554.5 | AD26: =VLOOKUP(G26,[12]sheet1!$G:$S,13,FALSE) -> 51618 | AE26: =VLOOKUP(G26,[12]sheet1!$G:$X,18,FALSE) -> 18809.6 | AF26: =VLOOKUP(G26,[11]Sheet1!$B:$E,4,FALSE) -> 62511.77 | AG26: =AE26+AF26 -> 81321.37 | AH26: =VLOOKUP(G26,[13]Sheet1!$C$1:$H$65536,6,FALSE) -> 46062 | AI26: =VLOOKUP(G26,[13]Sheet1!$C$1:$I$65536,7,FALSE) -> 16784.99 | AJ26: =VLOOKUP(G26,[14]Sheet1!$E$1:$I$65536,5,FALSE) -> 22367.71 | AK26: =VLOOKUP(G26,[15]Sheet1!$E$1:$I$65536,5,FALSE) -> 25065.7 | AL26: =AJ26+AK26 -> 47433.41 | AM26: =AI26+AL26 -> 64218.4 | AN26: =VLOOKUP(G26,[16]分布式营销结算明细接收数据!$E:$K,7,FALSE) -> 40832 | AO26: =VLOOKUP(G26,[16]分布式营销结算明细接收数据!$E:$O,11,FALSE) -> 14879.18 | AP26: =VLOOKUP(G26,[16]分布式营销结算明细接收数据!$E:$R,14,FALSE) -> 19828.02 | AQ26: =AO26+AP26 -> 34707.2 | AR26: =AQ26+AM26+AG26+AC26+AA26+Y26+W26+S26+Q26+O26+K26+I26 -> 486992.25
A27: 22 | C27: 南台村 | E27: 203 | G27: 0730829458 | H27: =VLOOKUP(G27,[1]分布式发票数据!$A:$D,4) -> 22889 | I27: =VLOOKUP(G27,[1]分布式发票数据!$A:$E,5,FALSE) -> 8340.75 | J27: =VLOOKUP(G27,[2]分布式发票数据!$A:$D,4,FALSE) -> 20962 | K27: =VLOOKUP(G27,[2]分布式发票数据!$A:$E,5,FALSE) -> 7638.55 | L27: 28186 | M27: 10270.98 | N27: =VLOOKUP(G27,'[7]2022年12月-2023年3月'!$A$4:$E$193,5,FALSE) -> 46519.03 | O27: =M27+N27 -> 56790.01 | P27: 21581 | Q27: 7864.12 | R27: =VLOOKUP(G:G,[4]分布式发票数据!$A:$E,4,FALSE) -> 22951 | S27: =VLOOKUP(G:G,[4]分布式发票数据!$A:$E,5,FALSE) -> 8363.34 | T27: =VLOOKUP(G27,[5]分布式发票数据!$A$4:$E$193,4,FALSE) -> 26435 | U27: =VLOOKUP(G27,[5]分布式发票数据!$A$4:$E$193,5,FALSE) -> 9632.91 | V27: =VLOOKUP(G27,'[8]2023年4-6月'!$A$4:$E$193,5,FALSE) -> 34461.58 | W27: =U27+V27 -> 44094.49 | X27: =VLOOKUP(G27,[6]分布式发票数据!$A$4:$D$193,4,FALSE) -> 22068 | Y27: =VLOOKUP(G27,[6]分布式发票数据!$A$4:$E$193,5,FALSE) -> 8041.58 | Z27: =VLOOKUP(G27,[9]分布式发票数据!$A$4:$E$193,4,FALSE) -> 23612 | AA27: =VLOOKUP(G27,[9]分布式发票数据!$A$4:$E$193,5,FALSE) -> 8604.21 | AB27: =VLOOKUP(G27,[10]分布式发票数据!$A:$D,4,FALSE) -> 13687 | AC27: =VLOOKUP(G27,[10]分布式发票数据!$A:$E,5,FALSE) -> 4987.54 | AD27: =VLOOKUP(G27,[12]sheet1!$G:$S,13,FALSE) -> 26239 | AE27: =VLOOKUP(G27,[12]sheet1!$G:$X,18,FALSE) -> 9561.49 | AF27: =VLOOKUP(G27,[11]Sheet1!$B:$E,4,FALSE) -> 28828.62 | AG27: =AE27+AF27 -> 38390.11 | AH27: =VLOOKUP(G27,[13]Sheet1!$C$1:$H$65536,6,FALSE) -> 23198 | AI27: =VLOOKUP(G27,[13]Sheet1!$C$1:$I$65536,7,FALSE) -> 8453.35 | AJ27: =VLOOKUP(G27,[14]Sheet1!$E$1:$I$65536,5,FALSE) -> 11264.95 | AK27: =VLOOKUP(G27,[15]Sheet1!$E$1:$I$65536,5,FALSE) -> 12741.66 | AL27: =AJ27+AK27 -> 24006.61 | AM27: =AI27+AL27 -> 32459.96 | AN27: =VLOOKUP(G27,[16]分布式营销结算明细接收数据!$E:$K,7,FALSE) -> 20033 | AO27: =VLOOKUP(G27,[16]分布式营销结算明细接收数据!$E:$O,11,FALSE) -> 7300.03 | AP27: =VLOOKUP(G27,[16]分布式营销结算明细接收数据!$E:$R,14,FALSE) -> 9728.02 | AQ27: =AO27+AP27 -> 17028.05 | AR27: =AQ27+AM27+AG27+AC27+AA27+Y27+W27+S27+Q27+O27+K27+I27 -> 242602.71
A28: 23 | C28: 赵家井 | F28: 420 | G28: 0731429167 | H28: =VLOOKUP(G28,[1]分布式发票数据!$A:$D,4) -> 13052 | I28: =VLOOKUP(G28,[1]分布式发票数据!$A:$E,5,FALSE) -> 4756.15 | J28: =VLOOKUP(G28,[2]分布式发票数据!$A:$D,4,FALSE) -> 11791 | K28: =VLOOKUP(G28,[2]分布式发票数据!$A:$E,5,FALSE) -> 4296.64 | L28: 16201 | M28: 5903.64 | N28: =VLOOKUP(G28,'[7]2022年12月-2023年3月'!$A$4:$E$193,5,FALSE) -> 26642.45 | O28: =M28+N28 -> 32546.09 | P28: 12208 | Q28: 4448.6 | R28: =VLOOKUP(G:G,[4]分布式发票数据!$A:$E,4,FALSE) -> 13742 | S28: =VLOOKUP(G:G,[4]分布式发票数据!$A:$E,5,FALSE) -> 5007.58 | T28: =VLOOKUP(G28,[5]分布式发票数据!$A$4:$E$193,4,FALSE) -> 15644 | U28: =VLOOKUP(G28,[5]分布式发票数据!$A$4:$E$193,5,FALSE) -> 5700.67 | V28: =VLOOKUP(G28,'[8]2023年4-6月'!$A$4:$E$193,5,FALSE) -> 20198.05 | W28: =U28+V28 -> 25898.72 | X28: =VLOOKUP(G28,[6]分布式发票数据!$A$4:$D$193,4,FALSE) -> 13174 | Y28: =VLOOKUP(G28,[6]分布式发票数据!$A$4:$E$193,5,FALSE) -> 4800.61 | Z28: =VLOOKUP(G28,[9]分布式发票数据!$A$4:$E$193,4,FALSE) -> 13893 | AA28: =VLOOKUP(G28,[9]分布式发票数据!$A$4:$E$193,5,FALSE) -> 5062.61 | AB28: =VLOOKUP(G28,[10]分布式发票数据!$A:$D,4,FALSE) -> 11735 | AC28: =VLOOKUP(G28,[10]分布式发票数据!$A:$E,5,FALSE) -> 4276.23 | AD28: =VLOOKUP(G28,[12]sheet1!$G:$S,13,FALSE) -> 15240 | AE28: =VLOOKUP(G28,[12]sheet1!$G:$X,18,FALSE) -> 5553.46 | AF28: =VLOOKUP(G28,[11]Sheet1!$B:$E,4,FALSE) -> 18842.25 | AG28: =AE28+AF28 -> 24395.71 | AH28: =VLOOKUP(G28,[13]Sheet1!$C$1:$H$65536,6,FALSE) -> 13426 | AI28: =VLOOKUP(G28,[13]Sheet1!$C$1:$I$65536,7,FALSE) -> 4892.43 | AJ28: =VLOOKUP(G28,[14]Sheet1!$E$1:$I$65536,5,FALSE) -> 6519.67 | AK28: =VLOOKUP(G28,[15]Sheet1!$E$1:$I$65536,5,FALSE) -> 7400.54 | AL28: =AJ28+AK28 -> 13920.21 | AM28: =AI28+AL28 -> 18812.64 | AN28: =VLOOKUP(G28,[16]分布式营销结算明细接收数据!$E:$K,7,FALSE) -> 8962 | AO28: =VLOOKUP(G28,[16]分布式营销结算明细接收数据!$E:$O,11,FALSE) -> 3265.75 | AP28: =VLOOKUP(G28,[16]分布式营销结算明细接收数据!$E:$R,14,FALSE) -> 4351.95 | AQ28: =AO28+AP28 -> 7617.7 | AR28: =AQ28+AM28+AG28+AC28+AA28+Y28+W28+S28+Q28+O28+K28+I28 -> 141919.28
A29: 24 | G29: 0731429284 | H29: =VLOOKUP(G29,[1]分布式发票数据!$A:$D,4) -> 41140 | I29: =VLOOKUP(G29,[1]分布式发票数据!$A:$E,5,FALSE) -> 14991.42 | J29: =VLOOKUP(G29,[2]分布式发票数据!$A:$D,4,FALSE) -> 37309 | K29: =VLOOKUP(G29,[2]分布式发票数据!$A:$E,5,FALSE) -> 13595.4 | L29: 51472 | M29: 18756.4 | N29: =VLOOKUP(G29,'[7]2022年12月-2023年3月'!$A$4:$E$193,5,FALSE) -> 84084.06 | O29: =M29+N29 -> 102840.46 | P29: =VLOOKUP(G29,[3]分布式发票数据!$A:$E,4,FALSE) -> 38293 | Q29: =VLOOKUP(G29,[3]分布式发票数据!$A:$E,5,FALSE) -> 13953.97 | R29: =VLOOKUP(G:G,[4]分布式发票数据!$A:$E,4,FALSE) -> 43067 | S29: =VLOOKUP(G:G,[4]分布式发票数据!$A:$E,5,FALSE) -> 15693.61 | T29: =VLOOKUP(G29,[5]分布式发票数据!$A$4:$E$193,4,FALSE) -> 48559 | U29: =VLOOKUP(G29,[5]分布式发票数据!$A$4:$E$193,5,FALSE) -> 17694.9 | V29: =VLOOKUP(G29,'[8]2023年4-6月'!$A$4:$E$193,5,FALSE) -> 63088.67 | W29: =U29+V29 -> 80783.57 | X29: =VLOOKUP(G29,[6]分布式发票数据!$A$4:$D$193,4,FALSE) -> 40799 | Y29: =VLOOKUP(G29,[6]分布式发票数据!$A$4:$E$193,5,FALSE) -> 14867.16 | Z29: =VLOOKUP(G29,[9]分布式发票数据!$A$4:$E$193,4,FALSE) -> 40429 | AA29: =VLOOKUP(G29,[9]分布式发票数据!$A$4:$E$193,5,FALSE) -> 14732.33 | AB29: =VLOOKUP(G29,[10]分布式发票数据!$A:$D,4,FALSE) -> 36337 | AC29: =VLOOKUP(G29,[10]分布式发票数据!$A:$E,5,FALSE) -> 13241.2 | AD29: =VLOOKUP(G29,[12]sheet1!$G:$S,13,FALSE) -> 47347 | AE29: =VLOOKUP(G29,[12]sheet1!$G:$X,18,FALSE) -> 17253.25 | AF29: =VLOOKUP(G29,[11]Sheet1!$B:$E,4,FALSE) -> 57089.56 | AG29: =AE29+AF29 -> 74342.81 | AH29: =VLOOKUP(G29,[13]Sheet1!$C$1:$H$65536,6,FALSE) -> 41509 | AI29: =VLOOKUP(G29,[13]Sheet1!$C$1:$I$65536,7,FALSE) -> 15125.88 | AJ29: =VLOOKUP(G29,[14]Sheet1!$E$1:$I$65536,5,FALSE) -> 20156.77 | AK29: =VLOOKUP(G29,[15]Sheet1!$E$1:$I$65536,5,FALSE) -> 22991.7 | AL29: =AJ29+AK29 -> 43148.47 | AM29: =AI29+AL29 -> 58274.35 | AN29: =VLOOKUP(G29,[16]分布式营销结算明细接收数据!$E:$K,7,FALSE) -> 29981 | AO29: =VLOOKUP(G29,[16]分布式营销结算明细接收数据!$E:$O,11,FALSE) -> 10925.08 | AP29: =VLOOKUP(G29,[16]分布式营销结算明细接收数据!$E:$R,14,FALSE) -> 14558.77 | AQ29: =AO29+AP29 -> 25483.85 | AR29: =AQ29+AM29+AG29+AC29+AA29+Y29+W29+S29+Q29+O29+K29+I29 -> 442800.13
A30: 25 | B30: 东团堡 | C30: 北李庄村级电站 | F30: 300 | G30: 0705705343 | H30: =VLOOKUP(G30,[1]分布式发票数据!$A:$D,4) -> 35950 | I30: =VLOOKUP(G30,[1]分布式发票数据!$A:$E,5,FALSE) -> 13100.18 | J30: =VLOOKUP(G30,[2]分布式发票数据!$A:$D,4,FALSE) -> 32773 | K30: =VLOOKUP(G30,[2]分布式发票数据!$A:$E,5,FALSE) -> 11942.48 | L30: 46414 | M30: 16913.26 | N30: =VLOOKUP(G30,'[7]2022年12月-2023年3月'!$A$4:$E$193,5,FALSE) -> 92125.16 | O30: =M30+N30 -> 109038.42 | P30: =VLOOKUP(G30,[3]分布式发票数据!$A:$E,4,FALSE) -> 35380 | Q30: =VLOOKUP(G30,[3]分布式发票数据!$A:$E,5,FALSE) -> 12892.47 | R30: =VLOOKUP(G:G,[4]分布式发票数据!$A:$E,4,FALSE) -> 38683 | S30: =VLOOKUP(G:G,[4]分布式发票数据!$A:$E,5,FALSE) -> 14096.09 | T30: =VLOOKUP(G30,[5]分布式发票数据!$A$4:$E$193,4,FALSE) -> 43908 | U30: =VLOOKUP(G30,[5]分布式发票数据!$A$4:$E$193,5,FALSE) -> 16000.08 | V30: =VLOOKUP(G30,'[8]2023年4-6月'!$A$4:$E$193,5,FALSE) -> 72622.94 | W30: =U30+V30 -> 88623.02 | X30: =VLOOKUP(G30,[6]分布式发票数据!$A$4:$D$193,4,FALSE) -> 35707 | Y30: =VLOOKUP(G30,[6]分布式发票数据!$A$4:$E$193,5,FALSE) -> 13011.63 | Z30: =VLOOKUP(G30,[9]分布式发票数据!$A$4:$E$193,4,FALSE) -> 37360 | AA30: =VLOOKUP(G30,[9]分布式发票数据!$A$4:$E$193,5,FALSE) -> 13613.98 | AB30: =VLOOKUP(G30,[10]分布式发票数据!$A:$D,4,FALSE) -> 33121 | AC30: =VLOOKUP(G30,[10]分布式发票数据!$A:$E,5,FALSE) -> 12069.29 | AD30: =VLOOKUP(G30,[12]sheet1!$G:$S,13,FALSE) -> 41489 | AE30: =VLOOKUP(G30,[12]sheet1!$G:$X,18,FALSE) -> 15118.59 | AF30: =VLOOKUP(G30,[11]Sheet1!$B:$E,4,FALSE) -> 65369.34 | AG30: =AE30+AF30 -> 80487.93 | AH30: =VLOOKUP(G30,[13]Sheet1!$C$1:$H$65536,6,FALSE) -> 32831 | AI30: =VLOOKUP(G30,[13]Sheet1!$C$1:$I$65536,7,FALSE) -> 11963.62 | AJ30: =VLOOKUP(G30,[14]Sheet1!$E$1:$I$65536,5,FALSE) -> 20210.76 | AK30: =VLOOKUP(G30,[15]Sheet1!$E$1:$I$65536,5,FALSE) -> 25540.63 | AL30: =AJ30+AK30 -> 45751.39 | AM30: =AI30+AL30 -> 57715.01 | AN30: =VLOOKUP(G30,[16]分布式营销结算明细接收数据!$E:$K,7,FALSE) -> 25530 | AO30: =VLOOKUP(G30,[16]分布式营销结算明细接收数据!$E:$O,11,FALSE) -> 9303.13 | AP30: =VLOOKUP(G30,[16]分布式营销结算明细接收数据!$E:$R,14,FALSE) -> 15716.27 | AQ30: =AO30+AP30 -> 25019.4 | AR30: =AQ30+AM30+AG30+AC30+AA30+Y30+W30+S30+Q30+O30+K30+I30 -> 451609.9
A31: 26 | C31: 北辛庄村级电站 | F31: 300 | G31: 0705721604 | H31: =VLOOKUP(G31,[1]分布式发票数据!$A:$D,4) -> 36664 | I31: =VLOOKUP(G31,[1]分布式发票数据!$A:$E,5,FALSE) -> 13360.36 | J31: =VLOOKUP(G31,[2]分布式发票数据!$A:$D,4,FALSE) -> 30186 | K31: =VLOOKUP(G31,[2]分布式发票数据!$A:$E,5,FALSE) -> 10999.78 | L31: 43427 | M31: 15824.8 | N31: =VLOOKUP(G31,'[7]2022年12月-2023年3月'!$A$4:$E$193,5,FALSE) -> 90815.77 | O31: =M31+N31 -> 106640.57 | P31: =VLOOKUP(G31,[3]分布式发票数据!$A:$E,4,FALSE) -> 32275 | Q31: =VLOOKUP(G31,[3]分布式发票数据!$A:$E,5,FALSE) -> 11761.01 | R31: =VLOOKUP(G:G,[4]分布式发票数据!$A:$E,4,FALSE) -> 37382 | S31: =VLOOKUP(G:G,[4]分布式发票数据!$A:$E,5,FALSE) -> 13622 | T31: =VLOOKUP(G31,[5]分布式发票数据!$A$4:$E$193,4,FALSE) -> 46240 | U31: =VLOOKUP(G31,[5]分布式发票数据!$A$4:$E$193,5,FALSE) -> 16849.86 | V31: =VLOOKUP(G31,'[8]2023年4-6月'!$A$4:$E$193,5,FALSE) -> 71346.19 | W31: =U31+V31 -> 88196.05 | X31: =VLOOKUP(G31,[6]分布式发票数据!$A$4:$D$193,4,FALSE) -> 36598 | Y31: =VLOOKUP(G31,[6]分布式发票数据!$A$4:$E$193,5,FALSE) -> 13336.31 | Z31: =VLOOKUP(G31,[9]分布式发票数据!$A$4:$E$193,4,FALSE) -> 38687 | AA31: =VLOOKUP(G31,[9]分布式发票数据!$A$4:$E$193,5,FALSE) -> 14097.54 | AB31: =VLOOKUP(G31,[10]分布式发票数据!$A:$D,4,FALSE) -> 33884 | AC31: =VLOOKUP(G31,[10]分布式发票数据!$A:$E,5,FALSE) -> 12347.33 | AD31: =VLOOKUP(G31,[12]sheet1!$G:$S,13,FALSE) -> 44540 | AE31: =VLOOKUP(G31,[12]sheet1!$G:$X,18,FALSE) -> 16230.38 | AF31: =VLOOKUP(G31,[11]Sheet1!$B:$E,4,FALSE) -> 67204.44 | AG31: =AE31+AF31 -> 83434.82 | AH31: =VLOOKUP(G31,[13]Sheet1!$C$1:$H$65536,6,FALSE) -> 35754 | AI31: =VLOOKUP(G31,[13]Sheet1!$C$1:$I$65536,7,FALSE) -> 13028.76 | AJ31: =VLOOKUP(G31,[14]Sheet1!$E$1:$I$65536,5,FALSE) -> 22010.16 | AK31: =VLOOKUP(G31,[15]Sheet1!$E$1:$I$65536,5,FALSE) -> 27418.82 | AL31: =AJ31+AK31 -> 49428.98 | AM31: =AI31+AL31 -> 62457.74 | AN31: =VLOOKUP(G31,[16]分布式营销结算明细接收数据!$E:$K,7,FALSE) -> 29849 | AO31: =VLOOKUP(G31,[16]分布式营销结算明细接收数据!$E:$O,11,FALSE) -> 10876.98 | AP31: =VLOOKUP(G31,[16]分布式营销结算明细接收数据!$E:$R,14,FALSE) -> 18375.04 | AQ31: =AO31+AP31 -> 29252.02 | AR31: =AQ31+AM31+AG31+AC31+AA31+Y31+W31+S31+Q31+O31+K31+I31 -> 459505.53
A32: 27 | C32: 东团堡村级电站 | F32: 300 | G32: 0705727497 | H32: =VLOOKUP(G32,[1]分布式发票数据!$A:$D,4) -> 32558 | I32: =VLOOKUP(G32,[1]分布式发票数据!$A:$E,5,FALSE) -> 11864.14 | J32: =VLOOKUP(G32,[2]分布式发票数据!$A:$D,4,FALSE) -> 28532 | K32: =VLOOKUP(G32,[2]分布式发票数据!$A:$E,5,FALSE) -> 10397.06 | L32: 40391 | M32: 14718.48 | N32: =VLOOKUP(G32,'[7]2022年12月-2023年3月'!$A$4:$E$193,5,FALSE) -> 80873.22 | O32: =M32+N32 -> 95591.7 | P32: =VLOOKUP(G32,[3]分布式发票数据!$A:$E,4,FALSE) -> 30979 | Q32: =VLOOKUP(G32,[3]分布式发票数据!$A:$E,5,FALSE) -> 11288.75 | R32: =VLOOKUP(G:G,[4]分布式发票数据!$A:$E,4,FALSE) -> 34654 | S32: =VLOOKUP(G:G,[4]分布式发票数据!$A:$E,5,FALSE) -> 12627.92 | T32: =VLOOKUP(G32,[5]分布式发票数据!$A$4:$E$193,4,FALSE) -> 41939 | U32: =VLOOKUP(G32,[5]分布式发票数据!$A$4:$E$193,5,FALSE) -> 15282.57 | V32: =VLOOKUP(G32,'[8]2023年4-6月'!$A$4:$E$193,5,FALSE) -> 66221.32 | W32: =U32+V32 -> 81503.89 | X32: =VLOOKUP(G32,[6]分布式发票数据!$A$4:$D$193,4,FALSE) -> 33878 | Y32: =VLOOKUP(G32,[6]分布式发票数据!$A$4:$E$193,5,FALSE) -> 12345.14 | Z32: =VLOOKUP(G32,[9]分布式发票数据!$A$4:$E$193,4,FALSE) -> 35285 | AA32: =VLOOKUP(G32,[9]分布式发票数据!$A$4:$E$193,5,FALSE) -> 12857.85 | AB32: =VLOOKUP(G32,[10]分布式发票数据!$A:$D,4,FALSE) -> 28974 | AC32: =VLOOKUP(G32,[10]分布式发票数据!$A:$E,5,FALSE) -> 10558.13 | AD32: =VLOOKUP(G32,[12]sheet1!$G:$S,13,FALSE) -> 37657 | AE32: =VLOOKUP(G32,[12]sheet1!$G:$X,18,FALSE) -> 13722.21 | AF32: =VLOOKUP(G32,[11]Sheet1!$B:$E,4,FALSE) -> 60413.14 | AG32: =AE32+AF32 -> 74135.35 | AH32: =VLOOKUP(G32,[13]Sheet1!$C$1:$H$65536,6,FALSE) -> 31244 | AI32: =VLOOKUP(G32,[13]Sheet1!$C$1:$I$65536,7,FALSE) -> 11385.31 | AJ32: =VLOOKUP(G32,[14]Sheet1!$E$1:$I$65536,5,FALSE) -> 19233.81 | AK32: =VLOOKUP(G32,[15]Sheet1!$E$1:$I$65536,5,FALSE) -> 23181.65 | AL32: =AJ32+AK32 -> 42415.46 | AM32: =AI32+AL32 -> 53800.77 | AN32: =VLOOKUP(G32,[16]分布式营销结算明细接收数据!$E:$K,7,FALSE) -> 22499 | AO32: =VLOOKUP(G32,[16]分布式营销结算明细接收数据!$E:$O,11,FALSE) -> 8198.64 | AP32: =VLOOKUP(G32,[16]分布式营销结算明细接收数据!$E:$R,14,FALSE) -> 13850.38 | AQ32: =AO32+AP32 -> 22049.02 | AR32: =AQ32+AM32+AG32+AC32+AA32+Y32+W32+S32+Q32+O32+K32+I32 -> 409019.72
A33: 28 | C33: 侯家沟村级电站 | F33: 300 | G33: 0705690168 | H33: =VLOOKUP(G33,[1]分布式发票数据!$A:$D,4) -> 24054 | I33: =VLOOKUP(G33,[1]分布式发票数据!$A:$E,5,FALSE) -> 8765.28 | J33: =VLOOKUP(G33,[2]分布式发票数据!$A:$D,4,FALSE) -> 23447 | K33: =VLOOKUP(G33,[2]分布式发票数据!$A:$E,5,FALSE) -> 8544.09 | L33: 36773 | M33: 13400.08 | N33: =VLOOKUP(G33,'[7]2022年12月-2023年3月'!$A$4:$E$193,5,FALSE) -> 66808.6 | O33: =M33+N33 -> 80208.68 | P33: =VLOOKUP(G33,[3]分布式发票数据!$A:$E,4,FALSE) -> 32030 | Q33: =VLOOKUP(G33,[3]分布式发票数据!$A:$E,5,FALSE) -> 11671.73 | R33: =VLOOKUP(G:G,[4]分布式发票数据!$A:$E,4,FALSE) -> 37454 | S33: =VLOOKUP(G:G,[4]分布式发票数据!$A:$E,5,FALSE) -> 13648.24 | T33: =VLOOKUP(G33,[5]分布式发票数据!$A$4:$E$193,4,FALSE) -> 43820 | U33: =VLOOKUP(G33,[5]分布式发票数据!$A$4:$E$193,5,FALSE) -> 15968.01 | V33: =VLOOKUP(G33,'[8]2023年4-6月'!$A$4:$E$193,5,FALSE) -> 69749.94 | W33: =U33+V33 -> 85717.95 | X33: =VLOOKUP(G33,[6]分布式发票数据!$A$4:$D$193,4,FALSE) -> 35892 | Y33: =VLOOKUP(G33,[6]分布式发票数据!$A$4:$E$193,5,FALSE) -> 13079.04 | Z33: =VLOOKUP(G33,[9]分布式发票数据!$A$4:$E$193,4,FALSE) -> 36668 | AA33: =VLOOKUP(G33,[9]分布式发票数据!$A$4:$E$193,5,FALSE) -> 13361.82 | AB33: =VLOOKUP(G33,[10]分布式发票数据!$A:$D,4,FALSE) -> 29398 | AC33: =VLOOKUP(G33,[10]分布式发票数据!$A:$E,5,FALSE) -> 10712.63 | AD33: =VLOOKUP(G33,[12]sheet1!$G:$S,13,FALSE) -> 31244 | AE33: =VLOOKUP(G33,[12]sheet1!$G:$X,18,FALSE) -> 11385.31 | AF33: =VLOOKUP(G33,[11]Sheet1!$B:$E,4,FALSE) -> 62765.35 | AG33: =AE33+AF33 -> 74150.66 | AH33: =VLOOKUP(G33,[13]Sheet1!$C$1:$H$65536,6,FALSE) -> 22216 | AI33: =VLOOKUP(G33,[13]Sheet1!$C$1:$I$65536,7,FALSE) -> 8095.51 | AJ33: =VLOOKUP(G33,[14]Sheet1!$E$1:$I$65536,5,FALSE) -> 13676.17 | AK33: =VLOOKUP(G33,[15]Sheet1!$E$1:$I$65536,5,FALSE) -> 19233.81 | AL33: =AJ33+AK33 -> 32909.98 | AM33: =AI33+AL33 -> 41005.49 | AN33: =VLOOKUP(G33,[16]分布式营销结算明细接收数据!$E:$K,7,FALSE) -> 10610 | AO33: =VLOOKUP(G33,[16]分布式营销结算明细接收数据!$E:$O,11,FALSE) -> 3866.28 | AP33: =VLOOKUP(G33,[16]分布式营销结算明细接收数据!$E:$R,14,FALSE) -> 6531.52 | AQ33: =AO33+AP33 -> 10397.8 | AR33: =AQ33+AM33+AG33+AC33+AA33+Y33+W33+S33+Q33+O33+K33+I33 -> 371263.41
A34: 29 | C34: 汤子岭村级电站 | F34: 300 | G34: 0705423568 | H34: =VLOOKUP(G34,[1]分布式发票数据!$A:$D,4) -> 40006 | I34: =VLOOKUP(G34,[1]分布式发票数据!$A:$E,5,FALSE) -> 14578.19 | J34: =VLOOKUP(G34,[2]分布式发票数据!$A:$D,4,FALSE) -> 35346 | K34: =VLOOKUP(G34,[2]分布式发票数据!$A:$E,5,FALSE) -> 12880.08 | L34: 49823 | M34: 18155.5 | N34: =VLOOKUP(G34,'[7]2022年12月-2023年3月'!$A$4:$E$193,5,FALSE) -> 101447.19 | O34: =M34+N34 -> 119602.69 | P34: =VLOOKUP(G34,[3]分布式发票数据!$A:$E,4,FALSE) -> 37823 | Q34: =VLOOKUP(G34,[3]分布式发票数据!$A:$E,5,FALSE) -> 13782.7 | R34: =VLOOKUP(G:G,[4]分布式发票数据!$A:$E,4,FALSE) -> 40814 | S34: =VLOOKUP(G:G,[4]分布式发票数据!$A:$E,5,FALSE) -> 14872.62 | T34: =VLOOKUP(G34,[5]分布式发票数据!$A$4:$E$193,4,FALSE) -> 47800 | U34: =VLOOKUP(G34,[5]分布式发票数据!$A$4:$E$193,5,FALSE) -> 17418.32 | V34: =VLOOKUP(G34,'[8]2023年4-6月'!$A$4:$E$193,5,FALSE) -> 77834.62 | W34: =U34+V34 -> 95252.94 | X34: =VLOOKUP(G34,[6]分布式发票数据!$A$4:$D$193,4,FALSE) -> 36046 | Y34: =VLOOKUP(G34,[6]分布式发票数据!$A$4:$E$193,5,FALSE) -> 13135.16 | Z34: =VLOOKUP(G34,[9]分布式发票数据!$A$4:$E$193,4,FALSE) -> 37506 | AA34: =VLOOKUP(G34,[9]分布式发票数据!$A$4:$E$193,5,FALSE) -> 13667.19 | AB34: =VLOOKUP(G34,[10]分布式发票数据!$A:$D,4,FALSE) -> 32156 | AC34: =VLOOKUP(G34,[10]分布式发票数据!$A:$E,5,FALSE) -> 11717.65 | AD34: =VLOOKUP(G34,[12]sheet1!$G:$S,13,FALSE) -> 40361 | AE34: =VLOOKUP(G34,[12]sheet1!$G:$X,18,FALSE) -> 14707.55 | AF34: =VLOOKUP(G34,[11]Sheet1!$B:$E,4,FALSE) -> 65073.84 | AG34: =AE34+AF34 -> 79781.39 | AH34: =VLOOKUP(G34,[13]Sheet1!$C$1:$H$65536,6,FALSE) -> 39102 | AI34: =VLOOKUP(G34,[13]Sheet1!$C$1:$I$65536,7,FALSE) -> 14248.77 | AJ34: =VLOOKUP(G34,[14]Sheet1!$E$1:$I$65536,5,FALSE) -> 24071.19 | AK34: =VLOOKUP(G34,[15]Sheet1!$E$1:$I$65536,5,FALSE) -> 24846.23 | AL34: =AJ34+AK34 -> 48917.42 | AM34: =AI34+AL34 -> 63166.19 | AN34: =VLOOKUP(G34,[16]分布式营销结算明细接收数据!$E:$K,7,FALSE) -> 32034 | AO34: =VLOOKUP(G34,[16]分布式营销结算明细接收数据!$E:$O,11,FALSE) -> 11673.19 | AP34: =VLOOKUP(G34,[16]分布式营销结算明细接收数据!$E:$R,14,FALSE) -> 19720.13 | AQ34: =AO34+AP34 -> 31393.32 | AR34: =AQ34+AM34+AG34+AC34+AA34+Y34+W34+S34+Q34+O34+K34+I34 -> 483830.12
A35: 30 | C35: 北王家湾村级电站 | F35: 300 | G35: 0705480897 | H35: =VLOOKUP(G35,[1]分布式发票数据!$A:$D,4) -> 30097 | I35: =VLOOKUP(G35,[1]分布式发票数据!$A:$E,5,FALSE) -> 10967.35 | J35: =VLOOKUP(G35,[2]分布式发票数据!$A:$D,4,FALSE) -> 26514 | K35: =VLOOKUP(G35,[2]分布式发票数据!$A:$E,5,FALSE) -> 9661.7 | L35: 37514 | M35: 13670.1 | N35: =VLOOKUP(G35,'[7]2022年12月-2023年3月'!$A$4:$E$193,5,FALSE) -> 75884.4 | O35: =M35+N35 -> 89554.5 | P35: =VLOOKUP(G35,[3]分布式发票数据!$A:$E,4,FALSE) -> 28565 | Q35: =VLOOKUP(G35,[3]分布式发票数据!$A:$E,5,FALSE) -> 10409.09 | R35: =VLOOKUP(G:G,[4]分布式发票数据!$A:$E,4,FALSE) -> 31534 | S35: =VLOOKUP(G:G,[4]分布式发票数据!$A:$E,5,FALSE) -> 11490.99 | T35: =VLOOKUP(G35,[5]分布式发票数据!$A$4:$E$193,4,FALSE) -> 39541 | U35: =VLOOKUP(G35,[5]分布式发票数据!$A$4:$E$193,5,FALSE) -> 14408.74 | V35: =VLOOKUP(G35,'[8]2023年4-6月'!$A$4:$E$193,5,FALSE) -> 61338.38 | W35: =U35+V35 -> 75747.12 | X35: =VLOOKUP(G35,[6]分布式发票数据!$A$4:$D$193,4,FALSE) -> 32146 | Y35: =VLOOKUP(G35,[6]分布式发票数据!$A$4:$E$193,5,FALSE) -> 11714 | Z35: =VLOOKUP(G35,[9]分布式发票数据!$A$4:$E$193,4,FALSE) -> 33684 | AA35: =VLOOKUP(G35,[9]分布式发票数据!$A$4:$E$193,5,FALSE) -> 12274.45 | AB35: =VLOOKUP(G35,[10]分布式发票数据!$A:$D,4,FALSE) -> 29700 | AC35: =VLOOKUP(G35,[10]分布式发票数据!$A:$E,5,FALSE) -> 10822.68 | AD35: =VLOOKUP(G35,[12]sheet1!$G:$S,13,FALSE) -> 36864 | AE35: =VLOOKUP(G35,[12]sheet1!$G:$X,18,FALSE) -> 13433.24 | AF35: =VLOOKUP(G35,[11]Sheet1!$B:$E,4,FALSE) -> 58808.27 | AG35: =AE35+AF35 -> 72241.51 | AH35: =VLOOKUP(G35,[13]Sheet1!$C$1:$H$65536,6,FALSE) -> 33329 | AI35: =VLOOKUP(G35,[13]Sheet1!$C$1:$I$65536,7,FALSE) -> 12145.09 | AJ35: =VLOOKUP(G35,[14]Sheet1!$E$1:$I$65536,5,FALSE) -> 20517.33 | AK35: =VLOOKUP(G35,[15]Sheet1!$E$1:$I$65536,5,FALSE) -> 22693.48 | AL35: =AJ35+AK35 -> 43210.81 | AM35: =AI35+AL35 -> 55355.9 | AN35: =VLOOKUP(G35,[16]分布式营销结算明细接收数据!$E:$K,7,FALSE) -> 29593 | AO35: =VLOOKUP(G35,[16]分布式营销结算明细接收数据!$E:$O,11,FALSE) -> 10783.69 | AP35: =VLOOKUP(G35,[16]分布式营销结算明细接收数据!$E:$R,14,FALSE) -> 18217.45 | AQ35: =AO35+AP35 -> 29001.14 | AR35: =AQ35+AM35+AG35+AC35+AA35+Y35+W35+S35+Q35+O35+K35+I35 -> 399240.43
