Workbook

Sheet 2023年 152村级电站发电收益
A1: 2023年152个村光伏扶贫项目发电收益情况统计表
A4: 序号 | B4: 乡镇 | C4: 行政村 | D4: 电站名称 | F4: 电站容量（千瓦） | G4: 发电户号 | H4: 1月份 | J4: 2月份 | L4: 3月份(2022年12-3月份国补)7月录入系统 | P4: 4月份 | R4: 5月份 | T4: 6月份（4-6月份国补）7月录入系统 | X4: 7月份 | Z4: 8月份 | AB4: 9月份 | AD4: 10月份(7-9月国补) | AH4: 11月份(11月份录入10.11月国补) | AN4: 12月份 | AR4: 总计
C5: 0 | H5: 电量 | I5: 电费 | J5: 电量 | K5: 电费 | L5: 电量 | M5: 电费 | N5: 国补 | O5: 合计 | P5: 电量 | Q5: 电费 | R5: 电量 | S5: 电费 | T5: 电量 | U5: 电费 | V5: 国补 | W5: 合计 | X5: 电量 | Y5: 电费 | Z5: 电量 | AA5: 电费 | AB5: 电量 | AC5: 电费 | AD5: 电量 | AE5: 电费 | AF5: 国补 | AG5: 合计 | AH5: 电量 | AI5: 电费 | AJ5: 11月国补 | AK5: 10月国补 | AL5: 10.11国补合计 | AM5: 11电费+10.11国补 | AN5: 电量 | AO5: 电费 | AP5: 国补 | AQ5: 合计
A6: 1 | B6: 白石山 | C6: 白石山村级电站 | F6: 300 | G6: 0705521350 | H6: =VLOOKUP(G6,[1]分布式发票数据!$A:$D,4) -> 37009 | I6: =VLOOKUP(G6,[1]分布式发票数据!$A:$E,5,FALSE) -> 13486.08 | J6: =VLOOKUP(G6,[2]分布式发票数据!$A:$D,4,FALSE) -> 35304 | K6: =VLOOKUP(G6,[2]分布式发票数据!$A:$E,5,FALSE) -> 12864.78 | L6: 44159 | M6: 16091.54 | N6: =VLOOKUP(G6,'[7]2022年12月-2023年3月'!$A$4:$E$193,5,FALSE) -> 95380.45 | O6: =M6+N6 -> 111471.99 | P6: 32164 | Q6: 11720.56 | R6: =VLOOKUP(G:G,[4]分布式发票数据!$A:$E,4,FALSE) -> 35732 | S6: =VLOOKUP(G:G,[4]分布式发票数据!$A:$E,5,FALSE) -> 13020.74 | T6: =VLOOKUP(G6,[5]分布式发票数据!$A$4:$E$193,4,FALSE) -> 40211 | U6: =VLOOKUP(G6,[5]分布式发票数据!$A$4:$E$193,5,FALSE) -> 14652.89 | V6: =VLOOKUP(G6,'[8]2023年4-6月'!$A$4:$E$193,5,FALSE) -> 66550.67 | W6: =U6+V6 -> 81203.56 | X6: =VLOOKUP(G6,[6]分布式发票数据!$A$4:$D$193,4,FALSE) -> 33838 | Y6: =VLOOKUP(G6,[6]分布式发票数据!$A$4:$E$193,5,FALSE) -> 12330.57 | Z6: =VLOOKUP(G6,[9]分布式发票数据!$A$4:$E$193,4,FALSE) -> 36689 | AA6: =VLOOKUP(G6,[9]分布式发票数据!$A$4:$E$193,5,FALSE) -> 13369.47 | AB6: =VLOOKUP(G6,[10]分布式发票数据!$A:$D,4,FALSE) -> 28735 | AC6: =VLOOKUP(G6,[10]分布式发票数据!$A:$E,5,FALSE) -> 10471.03 | AD6: =VLOOKUP(G6,[12]sheet1!$G:$S,13,FALSE) -> 38562 | AE6: =VLOOKUP(G6,[12]sheet1!$G:$X,18,FALSE) -> 14051.99 | AF6: =VLOOKUP(G6,[11]Sheet1!$B:$E,4,FALSE) -> 61105.69 | AG6: =AE6+AF6 -> 75157.68 | AH6: =VLOOKUP(G6,[13]Sheet1!$C$1:$H$65536,6,FALSE) -> 39356 | AI6: =VLOOKUP(G6,[13]Sheet1!$C$1:$I$65536,7,FALSE) -> 14341.33 | AJ6: =VLOOKUP(G6,[14]Sheet1!$E$1:$I$65536,5,FALSE) -> 24227.55 | AK6: =VLOOKUP(G6,[15]Sheet1!$E$1:$I$65536,5,FALSE) -> 23738.77 | AL6: =AJ6+AK6 -> 47966.32 | AM6: =AI6+AL6 -> 62307.65 | AN6: =VLOOKUP(G6,[16]分布式营销结算明细接收数据!$E:$K,7,FALSE) -> 27594 | AO6: =VLOOKUP(G6,[16]分布式营销结算明细接收数据!$E:$O,11,FALSE) -> 10055.25 | AP6: =VLOOKUP(G6,[16]分布式营销结算明细接收数据!$E:$R,14,FALSE) -> 16986.87 | AQ6: =AO6+AP6 -> 27042.12 | AR6: =AQ6+AM6+AG6+AC6+AA6+Y6+W6+S6+Q6+O6+K6+I6 -> 444446.23
A7: 2 | C7: 菜村岗村级电站 | F7: 300 | G7: 0705511030 | H7: =VLOOKUP(G7,[1]分布式发票数据!$A:$D,4) -> 35364 | I7: =VLOOKUP(G7,[1]分布式发票数据!$A:$E,5,FALSE) -> 12886.64 | J7: =VLOOKUP(G7,[2]分布式发票数据!$A:$D,4,FALSE) -> 33802 | K7: =VLOOKUP(G7,[2]分布式发票数据!$A:$E,5,FALSE) -> 12317.45 | L7: 46898 | M7: 17089.63 | N7: =VLOOKUP(G7,'[7]2022年12月-2023年3月'!$A$4:$E$193,5,FALSE) -> 94386.87 | O7: =M7+N7 -> 111476.5 | P7: 35266 | Q7: 12850.93 | R7: =VLOOKUP(G:G,[4]分布式发票数据!$A:$E,4,FALSE) -> 40157 | S7: =VLOOKUP(G:G,[4]分布式发票数据!$A:$E,5,FALSE) -> 14633.21 | T7: =VLOOKUP(G7,[5]分布式发票数据!$A$4:$E$193,4,FALSE) -> 45233 | U7: =VLOOKUP(G7,[5]分布式发票数据!$A$4:$E$193,5,FALSE) -> 16482.91 | V7: =VLOOKUP(G7,'[8]2023年4-6月'!$A$4:$E$193,5,FALSE) -> 74275.83 | W7: =U7+V7 -> 90758.74 | X7: =VLOOKUP(G7,[6]分布式发票数据!$A$4:$D$193,4,FALSE) -> 38969 | Y7: =VLOOKUP(G7,[6]分布式发票数据!$A$4:$E$193,5,FALSE) -> 14200.3 | Z7: =VLOOKUP(G7,[9]分布式发票数据!$A$4:$E$193,4,FALSE) -> 42035 | AA7: =VLOOKUP(G7,[9]分布式发票数据!$A$4:$E$193,5,FALSE) -> 15317.55 | AB7: =VLOOKUP(G7,[10]分布式发票数据!$A:$D,4,FALSE) -> 35658 | AC7: =VLOOKUP(G7,[10]分布式发票数据!$A:$E,5,FALSE) -> 12993.78 | AD7: =VLOOKUP(G7,[12]sheet1!$G:$S,13,FALSE) -> 44294 | AE7: =VLOOKUP(G7,[12]sheet1!$G:$X,18,FALSE) -> 16140.73 | AF7: =VLOOKUP(G7,[11]Sheet1!$B:$E,4,FALSE) -> 71817.13 | AG7: =AE7+AF7 -> 87957.86 | AH7: =VLOOKUP(G7,[13]Sheet1!$C$1:$H$65536,6,FALSE) -> 37471 | AI7: =VLOOKUP(G7,[13]Sheet1!$C$1:$I$65536,7,FALSE) -> 13654.43 | AJ7: =VLOOKUP(G7,[14]Sheet1!$E$1:$I$65536,5,FALSE) -> 23067.15 | AK7: =VLOOKUP(G7,[15]Sheet1!$E$1:$I$65536,5,FALSE) -> 27267.39 | AL7: =AJ7+AK7 -> 50334.54 | AM7: =AI7+AL7 -> 63988.97 | AN7: =VLOOKUP(G7,[16]分布式营销结算明细接收数据!$E:$K,7,FALSE) -> 23345 | AO7: =VLOOKUP(G7,[16]分布式营销结算明细接收数据!$E:$O,11,FALSE) -> 8506.92 | AP7: =VLOOKUP(G7,[16]分布式营销结算明细接收数据!$E:$R,14,FALSE) -> 14371.18 | AQ7: =AO7+AP7 -> 22878.1 | AR7: =AQ7+AM7+AG7+AC7+AA7+Y7+W7+S7+Q7+O7+K7+I7 -> 472260.03
A8: 3 | C8: 斗军湾村 | D8: 斗军湾村联村电站 | E8: 420 | F8: 1141 | G8: 0719903975 | H8: =VLOOKUP(G8,[1]分布式发票数据!$A:$D,4) -> 41519 | I8: =VLOOKUP(G8,[1]分布式发票数据!$A:$E,5,FALSE) -> 15129.52 | J8: =VLOOKUP(G8,[2]分布式发票数据!$A:$D,4,FALSE) -> 38316 | K8: =VLOOKUP(G8,[2]分布式发票数据!$A:$E,5,FALSE) -> 13962.35 | L8: 52770 | M8: 19229.39 | N8: =VLOOKUP(G8,'[7]2022年12月-2023年3月'!$A$4:$E$193,5,FALSE) -> 85820.58 | O8: =M8+N8 -> 105049.97 | P8: 39936 | Q8: 14552.68 | R8: =VLOOKUP(G:G,[4]分布式发票数据!$A:$E,4,FALSE) -> 44668 | S8: =VLOOKUP(G:G,[4]分布式发票数据!$A:$E,5,FALSE) -> 16277.02 | T8: =VLOOKUP(G8,[5]分布式发票数据!$A$4:$E$193,4,FALSE) -> 48610 | U8: =VLOOKUP(G8,[5]分布式发票数据!$A$4:$E$193,5,FALSE) -> 17713.48 | V8: =VLOOKUP(G8,'[8]2023年4-6月'!$A$4:$E$193,5,FALSE) -> 64688.72 | W8: =U8+V8 -> 82402.2 | X8: =VLOOKUP(G8,[6]分布式发票数据!$A$4:$D$193,4,FALSE) -> 41561 | Y8: =VLOOKUP(G8,[6]分布式发票数据!$A$4:$E$193,5,FALSE) -> 15144.83 | Z8: =VLOOKUP(G8,[9]分布式发票数据!$A$4:$E$193,4,FALSE) -> 44232 | AA8: =VLOOKUP(G8,[9]分布式发票数据!$A$4:$E$193,5,FALSE) -> 16118.14 | AB8: =VLOOKUP(G8,[10]分布式发票数据!$A:$D,4,FALSE) -> 37715 | AC8: =VLOOKUP(G8,[10]分布式发票数据!$A:$E,5,FALSE) -> 13743.35 | AD8: =VLOOKUP(G8,[12]sheet1!$G:$S,13,FALSE) -> 48667 | AE8: =VLOOKUP(G8,[12]sheet1!$G:$X,18,FALSE) -> 17734.25 | AF8: =VLOOKUP(G8,[11]Sheet1!$B:$E,4,FALSE) -> 59975.48 | AG8: =AE8+AF8 -> 77709.73 | AH8: =VLOOKUP(G8,[13]Sheet1!$C$1:$H$65536,6,FALSE) -> 43956 | AI8: =VLOOKUP(G8,[13]Sheet1!$C$1:$I$65536,7,FALSE) -> 16017.57 | AJ8: =VLOOKUP(G8,[14]Sheet1!$E$1:$I$65536,5,FALSE) -> 21345.03 | AK8: =VLOOKUP(G8,[15]Sheet1!$E$1:$I$65536,5,FALSE) -> 23632.7 | AL8: =AJ8+AK8 -> 44977.73 | AM8: =AI8+AL8 -> 60995.3 | AN8: =VLOOKUP(G8,[16]分布式营销结算明细接收数据!$E:$K,7,FALSE) -> 34462 | AO8: =VLOOKUP(G8,[16]分布式营销结算明细接收数据!$E:$O,11,FALSE) -> 12557.95 | AP8: =VLOOKUP(G8,[16]分布式营销结算明细接收数据!$E:$R,14,FALSE) -> 16734.75 | AQ8: =AO8+AP8 -> 29292.7 | AR8: =AQ8+AM8+AG8+AC8+AA8+Y8+W8+S8+Q8+O8+K8+I8 -> 460377.79
A9: 4 | G9: 0719905997 | H9: =VLOOKUP(G9,[1]分布式发票数据!$A:$D,4) -> 22246 | I9: =VLOOKUP(G9,[1]分布式发票数据!$A:$E,5,FALSE) -> 8106.44 | J9: =VLOOKUP(G9,[2]分布式发票数据!$A:$D,4,FALSE) -> 20456 | K9: =VLOOKUP(G9,[2]分布式发票数据!$A:$E,5,FALSE) -> 7454.17 | L9: 28022 | M9: 10211.22 | N9: =VLOOKUP(G9,'[7]2022年12月-2023年3月'!$A$4:$E$193,5,FALSE) -> 45735.75 | O9: =M9+N9 -> 55946.97 | P9: 21139 | Q9: 7703.05 | R9: =VLOOKUP(G:G,[4]分布式发票数据!$A:$E,4,FALSE) -> 23501 | S9: =VLOOKUP(G:G,[4]分布式发票数据!$A:$E,5,FALSE) -> 8563.76 | T9: =VLOOKUP(G9,[5]分布式发票数据!$A$4:$E$193,4,FALSE) -> 25984 | U9: =VLOOKUP(G9,[5]分布式发票数据!$A$4:$E$193,5,FALSE) -> 9468.57 | V9: =VLOOKUP(G9,'[8]2023年4-6月'!$A$4:$E$193,5,FALSE) -> 34295.02 | W9: =U9+V9 -> 43763.59 | X9: =VLOOKUP(G9,[6]分布式发票数据!$A$4:$D$193,4,FALSE) -> 22519 | Y9: =VLOOKUP(G9,[6]分布式发票数据!$A$4:$E$193,5,FALSE) -> 8205.92 | Z9: =VLOOKUP(G9,[9]分布式发票数据!$A$4:$E$193,4,FALSE) -> 24266 | AA9: =VLOOKUP(G9,[9]分布式发票数据!$A$4:$E$193,5,FALSE) -> 8842.53 | AB9: =VLOOKUP(G9,[10]分布式发票数据!$A:$D,4,FALSE) -> 20936 | AC9: =VLOOKUP(G9,[10]分布式发票数据!$A:$E,5,FALSE) -> 7629.08 | AD9: =VLOOKUP(G9,[12]sheet1!$G:$S,13,FALSE) -> 26148 | AE9: =VLOOKUP(G9,[12]sheet1!$G:$X,18,FALSE) -> 9528.33 | AF9: =VLOOKUP(G9,[11]Sheet1!$B:$E,4,FALSE) -> 32885.32 | AG9: =AE9+AF9 -> 42413.65 | AH9: =VLOOKUP(G9,[13]Sheet1!$C$1:$H$65536,6,FALSE) -> 23150 | AI9: =VLOOKUP(G9,[13]Sheet1!$C$1:$I$65536,7,FALSE) -> 8435.86 | AJ9: =VLOOKUP(G9,[14]Sheet1!$E$1:$I$65536,5,FALSE) -> 11241.64 | AK9: =VLOOKUP(G9,[15]Sheet1!$E$1:$I$65536,5,FALSE) -> 12697.47 | AL9: =AJ9+AK9 -> 23939.11 | AM9: =AI9+AL9 -> 32374.97 | AN9: =VLOOKUP(G9,[16]分布式营销结算明细接收数据!$E:$K,7,FALSE) -> 18876 | AO9: =VLOOKUP(G9,[16]分布式营销结算明细接收数据!$E:$O,11,FALSE) -> 6878.41 | AP9: =VLOOKUP(G9,[16]分布式营销结算明细接收数据!$E:$R,14,FALSE) -> 9166.19 | AQ9: =AO9+AP9 -> 16044.6 | AR9: =AQ9+AM9+AG9+AC9+AA9+Y9+W9+S9+Q9+O9+K9+I9 -> 247048.73
A10: 5 | C10: 雀儿林村 | E10: 329 | G10: 0719907036 | H10: =VLOOKUP(G10,[1]分布式发票数据!$A:$D,4) -> 42103 | I10: =VLOOKUP(G10,[1]分布式发票数据!$A:$E,5,FALSE) -> 15342.33 | J10: =VLOOKUP(G10,[2]分布式发票数据!$A:$D,4,FALSE) -> 38278 | K10: =VLOOKUP(G10,[2]分布式发票数据!$A:$E,5,FALSE) -> 13948.5 | L10: 53030 | M10: 19324.13 | N10: =VLOOKUP(G10,'[7]2022年12月-2023年3月'!$A$4:$E$193,5,FALSE) -> 86560.15 | O10: =M10+N10 -> 105884.28 | P10: 39944 | Q10: 14555.59 | R10: =VLOOKUP(G:G,[4]分布式发票数据!$A:$E,4,FALSE) -> 45049 | S10: =VLOOKUP(G:G,[4]分布式发票数据!$A:$E,5,FALSE) -> 16415.86 | T10: =VLOOKUP(G10,[5]分布式发票数据!$A$4:$E$193,4,FALSE) -> 49410 | U10: =VLOOKUP(G10,[5]分布式发票数据!$A$4:$E$193,5,FALSE) -> 18005 | V10: =VLOOKUP(G10,'[8]2023年4-6月'!$A$4:$E$193,5,FALSE) -> 65266.1 | W10: =U10+V10 -> 83271.1 | X10: =VLOOKUP(G10,[6]分布式发票数据!$A$4:$D$193,4,FALSE) -> 42959 | Y10: =VLOOKUP(G10,[6]分布式发票数据!$A$4:$E$193,5,FALSE) -> 15654.26 | Z10: =VLOOKUP(G10,[9]分布式发票数据!$A$4:$E$193,4,FALSE) -> 45557 | AA10: =VLOOKUP(G10,[9]分布式发票数据!$A$4:$E$193,5,FALSE) -> 16600.97 | AB10: =VLOOKUP(G10,[10]分布式发票数据!$A:$D,4,FALSE) -> 38564 | AC10: =VLOOKUP(G10,[10]分布式发票数据!$A:$E,5,FALSE) -> 14052.72 | AD10: =VLOOKUP(G10,[12]sheet1!$G:$S,13,FALSE) -> 49414 | AE10: =VLOOKUP(G10,[12]sheet1!$G:$X,18,FALSE) -> 18006.46 | AF10: =VLOOKUP(G10,[11]Sheet1!$B:$E,4,FALSE) -> 61710.05 | AG10: =AE10+AF10 -> 79716.51 | AH10: =VLOOKUP(G10,[13]Sheet1!$C$1:$H$65536,6,FALSE) -> 43672 | AI10: =VLOOKUP(G10,[13]Sheet1!$C$1:$I$65536,7,FALSE) -> 15914.08 | AJ10: =VLOOKUP(G10,[14]Sheet1!$E$1:$I$65536,5,FALSE) -> 21207.12 | AK10: =VLOOKUP(G10,[15]Sheet1!$E$1:$I$65536,5,FALSE) -> 23995.44 | AL10: =AJ10+AK10 -> 45202.56 | AM10: =AI10+AL10 -> 61116.64 | AN10: =VLOOKUP(G10,[16]分布式营销结算明细接收数据!$E:$K,7,FALSE) -> 33311 | AO10: =VLOOKUP(G10,[16]分布式营销结算明细接收数据!$E:$O,11,FALSE) -> 12138.53 | AP10: =VLOOKUP(G10,[16]分布式营销结算明细接收数据!$E:$R,14,FALSE) -> 16175.82 | AQ10: =AO10+AP10 -> 28314.35 | AR10: =AQ10+AM10+AG10+AC10+AA10+Y10+W10+S10+Q10+O10+K10+I10 -> 464873.11
A11: 6 | C11: 南石盆村 | E11: 392 | G11: 0719907209 | H11: =VLOOKUP(G11,[1]分布式发票数据!$A:$D,4) -> 41104 | I11: =VLOOKUP(G11,[1]分布式发票数据!$A:$E,5,FALSE) -> 14978.3 | J11: =VLOOKUP(G11,[2]分布式发票数据!$A:$D,4,FALSE) -> 38061 | K11: =VLOOKUP(G11,[2]分布式发票数据!$A:$E,5,FALSE) -> 13869.43 | L11: 52352 | M11: 19077.07 | N11: =VLOOKUP(G11,'[7]2022年12月-2023年3月'!$A$4:$E$193,5,FALSE) -> 85113.05 | O11: =M11+N11 -> 104190.12 | P11: 39680 | Q11: 14459.39 | R11: =VLOOKUP(G:G,[4]分布式发票数据!$A:$E,4,FALSE) -> 44222 | S11: =VLOOKUP(G:G,[4]分布式发票数据!$A:$E,5,FALSE) -> 16114.5 | T11: =VLOOKUP(G11,[5]分布式发票数据!$A$4:$E$193,4,FALSE) -> 48312 | U11: =VLOOKUP(G11,[5]分布式发票数据!$A$4:$E$193,5,FALSE) -> 17604.89 | V11: =VLOOKUP(G11,'[8]2023年4-6月'!$A$4:$E$193,5,FALSE) -> 64203.12 | W11: =U11+V11 -> 81808.01 | X11: =VLOOKUP(G11,[6]分布式发票数据!$A$4:$D$193,4,FALSE) -> 42005 | Y11: =VLOOKUP(G11,[6]分布式发票数据!$A$4:$E$193,5,FALSE) -> 15306.62 | Z11: =VLOOKUP(G11,[9]分布式发票数据!$A$4:$E$193,4,FALSE) -> 45128 | AA11: =VLOOKUP(G11,[9]分布式发票数据!$A$4:$E$193,5,FALSE) -> 16444.64 | AB11: =VLOOKUP(G11,[10]分布式发票数据!$A:$D,4,FALSE) -> 37670 | AC11: =VLOOKUP(G11,[10]分布式发票数据!$A:$E,5,FALSE) -> 13726.95 | AD11: =VLOOKUP(G11,[12]sheet1!$G:$S,13,FALSE) -> 47746 | AE11: =VLOOKUP(G11,[12]sheet1!$G:$X,18,FALSE) -> 17398.64 | AF11: =VLOOKUP(G11,[11]Sheet1!$B:$E,4,FALSE) -> 60604.34 | AG11: =AE11+AF11 -> 78002.98 | AH11: =VLOOKUP(G11,[13]Sheet1!$C$1:$H$65536,6,FALSE) -> 43003 | AI11: =VLOOKUP(G11,[13]Sheet1!$C$1:$I$65536,7,FALSE) -> 15670.29 | AJ11: =VLOOKUP(G11,[14]Sheet1!$E$1:$I$65536,5,FALSE) -> 20882.26 | AK11: =VLOOKUP(G11,[15]Sheet1!$E$1:$I$65536,5,FALSE) -> 23185.46 | AL11: =AJ11+AK11 -> 44067.72 | AM11: =AI11+AL11 -> 59738.01 | AN11: =VLOOKUP(G11,[16]分布式营销结算明细接收数据!$E:$K,7,FALSE) -> 35669 | AO11: =VLOOKUP(G11,[16]分布式营销结算明细接收数据!$E:$O,11,FALSE) -> 12997.78 | AP11: =VLOOKUP(G11,[16]分布式营销结算明细接收数据!$E:$R,14,FALSE) -> 17320.87 | AQ11: =AO11+AP11 -> 30318.65 | AR11: =AQ11+AM11+AG11+AC11+AA11+Y11+W11+S11+Q11+O11+K11+I11 -> 458957.6
A12: 7 | B12: 北石佛 | C12: 北石佛村 | D12: 北石佛联村电站（调增梁家庄联村电站161千瓦） | E12: 476 | F12: 1498 | G12: 0724497940 | H12: =VLOOKUP(G12,[1]分布式发票数据!$A:$D,4) -> 44840 | I12: =VLOOKUP(G12,[1]分布式发票数据!$A:$E,5,FALSE) -> 16339.7 | J12: =VLOOKUP(G12,[2]分布式发票数据!$A:$D,4,FALSE) -> 41560 | K12: =VLOOKUP(G12,[2]分布式发票数据!$A:$E,5,FALSE) -> 15144.46 | L12: 55619 | M12: 20267.56 | N12: =VLOOKUP(G12,'[7]2022年12月-2023年3月'!$A$4:$E$193,5,FALSE) -> 90568.77 | O12: =M12+N12 -> 110836.33 | P12: 41723 | Q12: 15203.86 | R12: =VLOOKUP(G:G,[4]分布式发票数据!$A:$E,4,FALSE) -> 45104 | S12: =VLOOKUP(G:G,[4]分布式发票数据!$A:$E,5,FALSE) -> 16435.9 | T12: =VLOOKUP(G12,[5]分布式发票数据!$A$4:$E$193,4,FALSE) -> 51678 | U12: =VLOOKUP(G12,[5]分布式发票数据!$A$4:$E$193,5,FALSE) -> 18831.46 | V12: =VLOOKUP(G12,'[8]2023年4-6月'!$A$4:$E$193,5,FALSE) -> 67258.03 | W12: =U12+V12 -> 86089.49 | X12: =VLOOKUP(G12,[6]分布式发票数据!$A$4:$D$193,4,FALSE) -> 43442 | Y12: =VLOOKUP(G12,[6]分布式发票数据!$A$4:$E$193,5,FALSE) -> 15830.26 | Z12: =VLOOKUP(G12,[9]分布式发票数据!$A$4:$E$193,4,FALSE) -> 45338 | AA12: =VLOOKUP(G12,[9]分布式发票数据!$A$4:$E$193,5,FALSE) -> 16521.17 | AB12: =VLOOKUP(G12,[10]分布式发票数据!$A:$D,4,FALSE) -> 40667 | AC12: =VLOOKUP(G12,[10]分布式发票数据!$A:$E,5,FALSE) -> 14819.05 | AD12: =VLOOKUP(G12,[12]sheet1!$G:$S,13,FALSE) -> 51426 | AE12: =VLOOKUP(G12,[12]sheet1!$G:$X,18,FALSE) -> 18739.63 | AF12: =VLOOKUP(G12,[11]Sheet1!$B:$E,4,FALSE) -> 62859.47 | AG12: =AE12+AF12 -> 81599.1 | AH12: =VLOOKUP(G12,[13]Sheet1!$C$1:$H$65536,6,FALSE) -> 45182 | AI12: =VLOOKUP(G12,[13]Sheet1!$C$1:$I$65536,7,FALSE) -> 16464.32 | AJ12: =VLOOKUP(G12,[14]Sheet1!$E$1:$I$65536,5,FALSE) -> 21940.38 | AK12: =VLOOKUP(G12,[15]Sheet1!$E$1:$I$65536,5,FALSE) -> 24972.47 | AL12: =AJ12+AK12 -> 46912.85 | AM12: =AI12+AL12 -> 63377.17 | AN12: =VLOOKUP(G12,[16]分布式营销结算明细接收数据!$E:$K,7,FALSE) -> 39175 | AO12: =VLOOKUP(G12,[16]分布式营销结算明细接收数据!$E:$O,11,FALSE) -> 14275.37 | AP12: =VLOOKUP(G12,[16]分布式营销结算明细接收数据!$E:$R,14,FALSE) -> 19023.38 | AQ12: =AO12+AP12 -> 33298.75 | AR12: =AQ12+AM12+AG12+AC12+AA12+Y12+W12+S12+Q12+O12+K12+I12 -> 485495.24
A13: 8 | G13: 0724498217 | H13: =VLOOKUP(G13,[1]分布式发票数据!$A:$D,4) -> 29395 | I13: =VLOOKUP(G13,[1]分布式发票数据!$A:$E,5,FALSE) -> 10711.54 | J13: =VLOOKUP(G13,[2]分布式发票数据!$A:$D,4,FALSE) -> 25796 | K13: =VLOOKUP(G13,[2]分布式发票数据!$A:$E,5,FALSE) -> 9400.06 | L13: 35185 | M13: 12821.41 | N13: =VLOOKUP(G13,'[7]2022年12月-2023年3月'!$A$4:$E$193,5,FALSE) -> 58332.7 | O13: =M13+N13 -> 71154.11 | P13: 26484 | Q13: 9650.77 | R13: =VLOOKUP(G:G,[4]分布式发票数据!$A:$E,4,FALSE) -> 29128 | S13: =VLOOKUP(G:G,[4]分布式发票数据!$A:$E,5,FALSE) -> 10614.24 | T13: =VLOOKUP(G13,[5]分布式发票数据!$A$4:$E$193,4,FALSE) -> 33341 | U13: =VLOOKUP(G13,[5]分布式发票数据!$A$4:$E$193,5,FALSE) -> 12149.46 | V13: =VLOOKUP(G13,'[8]2023年4-6月'!$A$4:$E$193,5,FALSE) -> 43195.58 | W13: =U13+V13 -> 55345.04 | X13: =VLOOKUP(G13,[6]分布式发票数据!$A$4:$D$193,4,FALSE) -> 28140 | Y13: =VLOOKUP(G13,[6]分布式发票数据!$A$4:$E$193,5,FALSE) -> 10254.22 | Z13: =VLOOKUP(G13,[9]分布式发票数据!$A$4:$E$193,4,FALSE) -> 29256 | AA13: =VLOOKUP(G13,[9]分布式发票数据!$A$4:$E$193,5,FALSE) -> 10660.89 | AB13: =VLOOKUP(G13,[10]分布式发票数据!$A:$D,4,FALSE) -> 25860 | AC13: =VLOOKUP(G13,[10]分布式发票数据!$A:$E,5,FALSE) -> 9423.38 | AD13: =VLOOKUP(G13,[12]sheet1!$G:$S,13,FALSE) -> 32804 | AE13: =VLOOKUP(G13,[12]sheet1!$G:$X,18,FALSE) -> 11953.78 | AF13: =VLOOKUP(G13,[11]Sheet1!$B:$E,4,FALSE) -> 40429.11 | AG13: =AE13+AF13 -> 52382.89 | AH13: =VLOOKUP(G13,[13]Sheet1!$C$1:$H$65536,6,FALSE) -> 29334 | AI13: =VLOOKUP(G13,[13]Sheet1!$C$1:$I$65536,7,FALSE) -> 10689.31 | AJ13: =VLOOKUP(G13,[14]Sheet1!$E$1:$I$65536,5,FALSE) -> 14244.59 | AK13: =VLOOKUP(G13,[15]Sheet1!$E$1:$I$65536,5,FALSE) -> 15929.62 | AL13: =AJ13+AK13 -> 30174.21 | AM13: =AI13+AL13 -> 40863.52 | AN13: =VLOOKUP(G13,[16]分布式营销结算明细接收数据!$E:$K,7,FALSE) -> 24968 | AO13: =VLOOKUP(G13,[16]分布式营销结算明细接收数据!$E:$O,11,FALSE) -> 9098.34 | AP13: =VLOOKUP(G13,[16]分布式营销结算明细接收数据!$E:$R,14,FALSE) -> 12124.46 | AQ13: =AO13+AP13 -> 21222.8 | AR13: =AQ13+AM13+AG13+AC13+AA13+Y13+W13+S13+Q13+O13+K13+I13 -> 311683.46
A14: 9 | C14: 白绸村 | E14: 441 | G14: 0724498624 | H14: =VLOOKUP(G14,[1]分布式发票数据!$A:$D,4) -> 46262 | I14: =VLOOKUP(G14,[1]分布式发票数据!$A:$E,5,FALSE) -> 16857.87 | J14: =VLOOKUP(G14,[2]分布式发票数据!$A:$D,4,FALSE) -> 41597 | K14: =VLOOKUP(G14,[2]分布式发票数据!$A:$E,5,FALSE) -> 15157.95 | L14: 55837 | M14: 20347 | N14: =VLOOKUP(G14,'[7]2022年12月-2023年3月'!$A$4:$E$193,5,FALSE) -> 92537.88 | O14: =M14+N14 -> 112884.88 | P14: 42008 | Q14: 15307.72 | R14: =VLOOKUP(G:G,[4]分布式发票数据!$A:$E,4,FALSE) -> 45578 | S14: =VLOOKUP(G:G,[4]分布式发票数据!$A:$E,5,FALSE) -> 16608.62 | T14: =VLOOKUP(G14,[5]分布式发票数据!$A$4:$E$193,4,FALSE) -> 52598 | U14: =VLOOKUP(G14,[5]分布式发票数据!$A$4:$E$193,5,FALSE) -> 19166.71 | V14: =VLOOKUP(G14,'[8]2023年4-6月'!$A$4:$E$193,5,FALSE) -> 68073.35 | W14: =U14+V14 -> 87240.06 | X14: =VLOOKUP(G14,[6]分布式发票数据!$A$4:$D$193,4,FALSE) -> 44304 | Y14: =VLOOKUP(G14,[6]分布式发票数据!$A$4:$E$193,5,FALSE) -> 16144.38 | Z14: =VLOOKUP(G14,[9]分布式发票数据!$A$4:$E$193,4,FALSE) -> 46094 | AA14: =VLOOKUP(G14,[9]分布式发票数据!$A$4:$E$193,5,FALSE) -> 16796.65 | AB14: =VLOOKUP(G14,[10]分布式发票数据!$A:$D,4,FALSE) -> 41374 | AC14: =VLOOKUP(G14,[10]分布式发票数据!$A:$E,5,FALSE) -> 15076.69 | AD14: =VLOOKUP(G14,[12]sheet1!$G:$S,13,FALSE) -> 51895 | AE14: =VLOOKUP(G14,[12]sheet1!$G:$X,18,FALSE) -> 18910.54 | AF14: =VLOOKUP(G14,[11]Sheet1!$B:$E,4,FALSE) -> 63988.48 | AG14: =AE14+AF14 -> 82899.02 | AH14: =VLOOKUP(G14,[13]Sheet1!$C$1:$H$65536,6,FALSE) -> 46202 | AI14: =VLOOKUP(G14,[13]Sheet1!$C$1:$I$65536,7,FALSE) -> 16836.01 | AJ14: =VLOOKUP(G14,[14]Sheet1!$E$1:$I$65536,5,FALSE) -> 22435.69 | AK14: =VLOOKUP(G14,[15]Sheet1!$E$1:$I$65536,5,FALSE) -> 25200.21 | AL14: =AJ14+AK14 -> 47635.9 | AM14: =AI14+AL14 -> 64471.91 | AN14: =VLOOKUP(G14,[16]分布式营销结算明细接收数据!$E:$K,7,FALSE) -> 40766 | AO14: =VLOOKUP(G14,[16]分布式营销结算明细接收数据!$E:$O,11,FALSE) -> 14855.13 | AP14: =VLOOKUP(G14,[16]分布式营销结算明细接收数据!$E:$R,14,FALSE) -> 19795.97 | AQ14: =AO14+AP14 -> 34651.1 | AR14: =AQ14+AM14+AG14+AC14+AA14+Y14+W14+S14+Q14+O14+K14+I14 -> 494096.85
A15: 10 | G15: 0724498796 | H15: =VLOOKUP(G15,[1]分布式发票数据!$A:$D,4) -> 46580 | I15: =VLOOKUP(G15,[1]分布式发票数据!$A:$E,5,FALSE) -> 16973.75 | J15: =VLOOKUP(G15,[2]分布式发票数据!$A:$D,4,FALSE) -> 41215 | K15: =VLOOKUP(G15,[2]分布式发票数据!$A:$E,5,FALSE) -> 15018.75 | L15: 55956 | M15: 20390.37 | N15: =VLOOKUP(G15,'[7]2022年12月-2023年3月'!$A$4:$E$193,5,FALSE) -> 93073.98 | O15: =M15+N15 -> 113464.35 | P15: 42137 | Q15: 15354.72 | R15: =VLOOKUP(G:G,[4]分布式发票数据!$A:$E,4,FALSE) -> 44742 | S15: =VLOOKUP(G:G,[4]分布式发票数据!$A:$E,5,FALSE) -> 16303.98 | T15: =VLOOKUP(G15,[5]分布式发票数据!$A$4:$E$193,4,FALSE) -> 53009 | U15: =VLOOKUP(G15,[5]分布式发票数据!$A$4:$E$193,5,FALSE) -> 19316.48 | V15: =VLOOKUP(G15,'[8]2023年4-6月'!$A$4:$E$193,5,FALSE) -> 67929.62 | W15: =U15+V15 -> 87246.1 | X15: =VLOOKUP(G15,[6]分布式发票数据!$A$4:$D$193,4,FALSE) -> 44749 | Y15: =VLOOKUP(G15,[6]分布式发票数据!$A$4:$E$193,5,FALSE) -> 16306.54 | Z15: =VLOOKUP(G15,[9]分布式发票数据!$A$4:$E$193,4,FALSE) -> 46606 | AA15: =VLOOKUP(G15,[9]分布式发票数据!$A$4:$E$193,5,FALSE) -> 16983.23 | AB15: =VLOOKUP(G15,[10]分布式发票数据!$A:$D,4,FALSE) -> 41473 | AC15: =VLOOKUP(G15,[10]分布式发票数据!$A:$E,5,FALSE) -> 15112.76 | AD15: =VLOOKUP(G15,[12]sheet1!$G:$S,13,FALSE) -> 52277 | AE15: =VLOOKUP(G15,[12]sheet1!$G:$X,18,FALSE) -> 19049.74 | AF15: =VLOOKUP(G15,[11]Sheet1!$B:$E,4,FALSE) -> 64501.27 | AG15: =AE15+AF15 -> 83551.01 | AH15: =VLOOKUP(G15,[13]Sheet1!$C$1:$H$65536,6,FALSE) -> 46679 | AI15: =VLOOKUP(G15,[13]Sheet1!$C$1:$I$65536,7,FALSE) -> 17009.83 | AJ15: =VLOOKUP(G15,[14]Sheet1!$E$1:$I$65536,5,FALSE) -> 22667.32 | AK15: =VLOOKUP(G15,[15]Sheet1!$E$1:$I$65536,5,FALSE) -> 25385.71 | AL15: =AJ15+AK15 -> 48053.03 | AM15: =AI15+AL15 -> 65062.86 | AN15: =VLOOKUP(G15,[16]分布式营销结算明细接收数据!$E:$K,7,FALSE) -> 40370 | AO15: =VLOOKUP(G15,[16]分布式营销结算明细接收数据!$E:$O,11,FALSE) -> 14710.83 | AP15: =VLOOKUP(G15,[16]分布式营销结算明细接收数据!$E:$R,14,FALSE) -> 19603.67 | AQ15: =AO15+AP15 -> 34314.5 | AR15: =AQ15+AM15+AG15+AC15+AA15+Y15+W15+S15+Q15+O15+K15+I15 -> 495692.55
A16: 11 | C16: 张家峪村 | E16: 420 | G16: 0730828556 | H16: =VLOOKUP(G16,[1]分布式发票数据!$A:$D,4) -> 44905 | I16: =VLOOKUP(G16,[1]分布式发票数据!$A:$E,5,FALSE) -> 16363.38 | J16: =VLOOKUP(G16,[2]分布式发票数据!$A:$D,4,FALSE) -> 41303 | K16: =VLOOKUP(G16,[2]分布式发票数据!$A:$E,5,FALSE) -> 15050.81 | L16: 54982 | M16: 20035.44 | N16: =VLOOKUP(G16,'[7]2022年12月-2023年3月'!$A$4:$E$193,5,FALSE) -> 90713.97 | O16: =M16+N16 -> 110749.41 | P16: 41996 | Q16: 15303.34 | R16: =VLOOKUP(G:G,[4]分布式发票数据!$A:$E,4,FALSE) -> 45418 | S16: =VLOOKUP(G:G,[4]分布式发票数据!$A:$E,5,FALSE) -> 16550.32 | T16: =VLOOKUP(G16,[5]分布式发票数据!$A$4:$E$193,4,FALSE) -> 52507 | U16: =VLOOKUP(G16,[5]分布式发票数据!$A$4:$E$193,5,FALSE) -> 19133.55 | V16: =VLOOKUP(G16,'[8]2023年4-6月'!$A$4:$E$193,5,FALSE) -> 67945.64 | W16: =U16+V16 -> 87079.19 | X16: =VLOOKUP(G16,[6]分布式发票数据!$A$4:$D$193,4,FALSE) -> 44132 | Y16: =VLOOKUP(G16,[6]分布式发票数据!$A$4:$E$193,5,FALSE) -> 16081.7 | Z16: =VLOOKUP(G16,[9]分布式发票数据!$A$4:$E$193,4,FALSE) -> 45720 | AA16: =VLOOKUP(G16,[9]分布式发票数据!$A$4:$E$193,5,FALSE) -> 16660.37 | AB16: =VLOOKUP(G16,[10]分布式发票数据!$A:$D,4,FALSE) -> 41185 | AC16: =VLOOKUP(G16,[10]分布式发票数据!$A:$E,5,FALSE) -> 15007.81 | AD16: =VLOOKUP(G16,[12]sheet1!$G:$S,13,FALSE) -> 51464 | AE16: =VLOOKUP(G16,[12]sheet1!$G:$X,18,FALSE) -> 18753.48 | AF16: =VLOOKUP(G16,[11]Sheet1!$B:$E,4,FALSE) -> 63631.57 | AG16: =AE16+AF16 -> 82385.05 | AH16: =VLOOKUP(G16,[13]Sheet1!$C$1:$H$65536,6,FALSE) -> 45919 | AI16: =VLOOKUP(G16,[13]Sheet1!$C$1:$I$65536,7,FALSE) -> 16732.88 | AJ16: =VLOOKUP(G16,[14]Sheet1!$E$1:$I$65536,5,FALSE) -> 22298.27 | AK16: =VLOOKUP(G16,[15]Sheet1!$E$1:$I$65536,5,FALSE) -> 24990.92 | AL16: =AJ16+AK16 -> 47289.19 | AM16: =AI16+AL16 -> 64022.07 | AN16: =VLOOKUP(G16,[16]分布式营销结算明细接收数据!$E:$K,7,FALSE) -> 40728 | AO16: =VLOOKUP(G16,[16]分布式营销结算明细接收数据!$E:$O,11,FALSE) -> 14841.28 | AP16: =VLOOKUP(G16,[16]分布式营销结算明细接收数据!$E:$R,14,FALSE) -> 19777.52 | AQ16: =AO16+AP16 -> 34618.8 | AR16: =AQ16+AM16+AG16+AC16+AA16+Y16+W16+S16+Q16+O16+K16+I16 -> 489872.25
A17: 12 | C17: 北上屯村级电站 | F17: 300 | G17: 0705426727 | H17: =VLOOKUP(G17,[1]分布式发票数据!$A:$D,4) -> 35874 | I17: =VLOOKUP(G17,[1]分布式发票数据!$A:$E,5,FALSE) -> 13072.49 | J17: =VLOOKUP(G17,[2]分布式发票数据!$A:$D,4,FALSE) -> 32856 | K17: =VLOOKUP(G17,[2]分布式发票数据!$A:$E,5,FALSE) -> 11972.73 | L17: 43741 | M17: 15939.22 | N17: =VLOOKUP(G17,'[7]2022年12月-2023年3月'!$A$4:$E$193,5,FALSE) -> 92421.87 | O17: =M17+N17 -> 108361.09 | P17: 33132 | Q17: 12073.3 | R17: =VLOOKUP(G:G,[4]分布式发票数据!$A:$E,4,FALSE) -> 38558 | S17: =VLOOKUP(G:G,[4]分布式发票数据!$A:$E,5,FALSE) -> 14050.54 | T17: =VLOOKUP(G17,[5]分布式发票数据!$A$4:$E$193,4,FALSE) -> 45502 | U17: =VLOOKUP(G17,[5]分布式发票数据!$A$4:$E$193,5,FALSE) -> 16580.93 | V17: =VLOOKUP(G17,'[8]2023年4-6月'!$A$4:$E$193,5,FALSE) -> 72143.39 | W17: =U17+V17 -> 88724.32 | X17: =VLOOKUP(G17,[6]分布式发票数据!$A$4:$D$193,4,FALSE) -> 38422 | Y17: =VLOOKUP(G17,[6]分布式发票数据!$A$4:$E$193,5,FALSE) -> 14000.98 | Z17: =VLOOKUP(G17,[9]分布式发票数据!$A$4:$E$193,4,FALSE) -> 41029 | AA17: =VLOOKUP(G17,[9]分布式发票数据!$A$4:$E$193,5,FALSE) -> 14950.97 | AB17: =VLOOKUP(G17,[10]分布式发票数据!$A:$D,4,FALSE) -> 35527 | AC17: =VLOOKUP(G17,[10]分布式发票数据!$A:$E,5,FALSE) -> 12946.04 | AD17: =VLOOKUP(G17,[12]sheet1!$G:$S,13,FALSE) -> 44692 | AE17: =VLOOKUP(G17,[12]sheet1!$G:$X,18,FALSE) -> 16285.76 | AF17: =VLOOKUP(G17,[11]Sheet1!$B:$E,4,FALSE) -> 70780.45 | AG17: =AE17+AF17 -> 87066.21 | AH17: =VLOOKUP(G17,[13]Sheet1!$C$1:$H$65536,6,FALSE) -> 40741 | AI17: =VLOOKUP(G17,[13]Sheet1!$C$1:$I$65536,7,FALSE) -> 14846.02 | AJ17: =VLOOKUP(G17,[14]Sheet1!$E$1:$I$65536,5,FALSE) -> 25080.16 | AK17: =VLOOKUP(G17,[15]Sheet1!$E$1:$I$65536,5,FALSE) -> 27512.4 | AL17: =AJ17+AK17 -> 52592.56 | AM17: =AI17+AL17 -> 67438.58 | AN17: =VLOOKUP(G17,[16]分布式营销结算明细接收数据!$E:$K,7,FALSE) -> 33721 | AO17: =VLOOKUP(G17,[16]分布式营销结算明细接收数据!$E:$O,11,FALSE) -> 12287.93 | AP17: =VLOOKUP(G17,[16]分布式营销结算明细接收数据!$E:$R,14,FALSE) -> 20758.65 | AQ17: =AO17+AP17 -> 33046.58 | AR17: =AQ17+AM17+AG17+AC17+AA17+Y17+W17+S17+Q17+O17+K17+I17 -> 477703.83
A18: 13 | C18: 红泉村级电站 | F18: 300 | G18: 0705411024 | H18: =VLOOKUP(G18,[1]分布式发票数据!$A:$D,4) -> 37130 | I18: =VLOOKUP(G18,[1]分布式发票数据!$A:$E,5,FALSE) -> 13530.17 | J18: =VLOOKUP(G18,[2]分布式发票数据!$A:$D,4,FALSE) -> 26052 | K18: =VLOOKUP(G18,[2]分布式发票数据!$A:$E,5,FALSE) -> 9493.35 | L18: 47494 | M18: 17306.81 | N18: =VLOOKUP(G18,'[7]2022年12月-2023年3月'!$A$4:$E$193,5,FALSE) -> 90242.04 | O18: =M18+N18 -> 107548.85 | P18: 36011 | Q18: 13122.41 | R18: =VLOOKUP(G:G,[4]分布式发票数据!$A:$E,4,FALSE) -> 37904 | S18: =VLOOKUP(G:G,[4]分布式发票数据!$A:$E,5,FALSE) -> 13812.22 | T18: =VLOOKUP(G18,[5]分布式发票数据!$A$4:$E$193,4,FALSE) -> 44684 | U18: =VLOOKUP(G18,[5]分布式发票数据!$A$4:$E$193,5,FALSE) -> 16282.85 | V18: =VLOOKUP(G18,'[8]2023年4-6月'!$A$4:$E$193,5,FALSE) -> 73009.54 | W18: =U18+V18 -> 89292.39 | X18: =VLOOKUP(G18,[6]分布式发票数据!$A$4:$D$193,4,FALSE) -> 36364 | Y18: =VLOOKUP(G18,[6]分布式发票数据!$A$4:$E$193,5,FALSE) -> 13251.04 | Z18: =VLOOKUP(G18,[9]分布式发票数据!$A$4:$E$193,4,FALSE) -> 36871 | AA18: =VLOOKUP(G18,[9]分布式发票数据!$A$4:$E$193,5,FALSE) -> 13435.79 | AB18: =VLOOKUP(G18,[10]分布式发票数据!$A:$D,4,FALSE) -> 33403 | AC18: =VLOOKUP(G18,[10]分布式发票数据!$A:$E,5,FALSE) -> 12172.05 | AD18: =VLOOKUP(G18,[12]sheet1!$G:$S,13,FALSE) -> 44003 | AE18: =VLOOKUP(G18,[12]sheet1!$G:$X,18,FALSE) -> 16034.69 | AF18: =VLOOKUP(G18,[11]Sheet1!$B:$E,4,FALSE) -> 65646.36 | AG18: =AE18+AF18 -> 81681.05 | AH18: =VLOOKUP(G18,[13]Sheet1!$C$1:$H$65536,6,FALSE) -> 37164 | AI18: =VLOOKUP(G18,[13]Sheet1!$C$1:$I$65536,7,FALSE) -> 13542.56 | AJ18: =VLOOKUP(G18,[14]Sheet1!$E$1:$I$65536,5,FALSE) -> 22878.16 | AK18: =VLOOKUP(G18,[15]Sheet1!$E$1:$I$65536,5,FALSE) -> 27088.25 | AL18: =AJ18+AK18 -> 49966.41 | AM18: =AI18+AL18 -> 63508.97 | AN18: =VLOOKUP(G18,[16]分布式营销结算明细接收数据!$E:$K,7,FALSE) -> 27430 | AO18: =VLOOKUP(G18,[16]分布式营销结算明细接收数据!$E:$O,11,FALSE) -> 9995.49 | AP18: =VLOOKUP(G18,[16]分布式营销结算明细接收数据!$E:$R,14,FALSE) -> 16885.91 | AQ18: =AO18+AP18 -> 26881.4 | AR18: =AQ18+AM18+AG18+AC18+AA18+Y18+W18+S18+Q18+O18+K18+I18 -> 457729.69
A19: 14 | C19: 刘家嘴村级电站 | F19: 300 | G19: 0705500195 | H19: =VLOOKUP(G19,[1]分布式发票数据!$A:$D,4) -> 38126 | I19: =VLOOKUP(G19,[1]分布式发票数据!$A:$E,5,FALSE) -> 13893.11 | J19: =VLOOKUP(G19,[2]分布式发票数据!$A:$D,4,FALSE) -> 34428 | K19: =VLOOKUP(G19,[2]分布式发票数据!$A:$E,5,FALSE) -> 12545.56 | L19: 47066 | M19: 17150.85 | N19: =VLOOKUP(G19,'[7]2022年12月-2023年3月'!$A$4:$E$193,5,FALSE) -> 97761.6 | O19: =M19+N19 -> 114912.45 | P19: 35629 | Q19: 12983.21 | R19: =VLOOKUP(G:G,[4]分布式发票数据!$A:$E,4,FALSE) -> 38422 | S19: =VLOOKUP(G:G,[4]分布式发票数据!$A:$E,5,FALSE) -> 14000.98 | T19: =VLOOKUP(G19,[5]分布式发票数据!$A$4:$E$193,4,FALSE) -> 44326 | U19: =VLOOKUP(G19,[5]分布式发票数据!$A$4:$E$193,5,FALSE) -> 16152.39 | V19: =VLOOKUP(G19,'[8]2023年4-6月'!$A$4:$E$193,5,FALSE) -> 72872.88 | W19: =U19+V19 -> 89025.27 | X19: =VLOOKUP(G19,[6]分布式发票数据!$A$4:$D$193,4,FALSE) -> 37138 | Y19: =VLOOKUP(G19,[6]分布式发票数据!$A$4:$E$193,5,FALSE) -> 13533.09 | Z19: =VLOOKUP(G19,[9]分布式发票数据!$A$4:$E$193,4,FALSE) -> 38333 | AA19: =VLOOKUP(G19,[9]分布式发票数据!$A$4:$E$193,5,FALSE) -> 13968.55 | AB19: =VLOOKUP(G19,[10]分布式发票数据!$A:$D,4,FALSE) -> 34348 | AC19: =VLOOKUP(G19,[10]分布式发票数据!$A:$E,5,FALSE) -> 12516.41 | AD19: =VLOOKUP(G19,[12]sheet1!$G:$S,13,FALSE) -> 43570 | AE19: =VLOOKUP(G19,[12]sheet1!$G:$X,18,FALSE) -> 15876.91 | AF19: =VLOOKUP(G19,[11]Sheet1!$B:$E,4,FALSE) -> 67604.57 | AG19: =AE19+AF19 -> 83481.48 | AH19: =VLOOKUP(G19,[13]Sheet1!$C$1:$H$65536,6,FALSE) -> 37716 | AI19: =VLOOKUP(G19,[13]Sheet1!$C$1:$I$65536,7,FALSE) -> 13743.71 | AJ19: =VLOOKUP(G19,[14]Sheet1!$E$1:$I$65536,5,FALSE) -> 23217.97 | AK19: =VLOOKUP(G19,[15]Sheet1!$E$1:$I$65536,5,FALSE) -> 26821.69 | AL19: =AJ19+AK19 -> 50039.66 | AM19: =AI19+AL19 -> 63783.37 | AN19: =VLOOKUP(G19,[16]分布式营销结算明细接收数据!$E:$K,7,FALSE) -> 26303 | AO19: =VLOOKUP(G19,[16]分布式营销结算明细接收数据!$E:$O,11,FALSE) -> 9584.81 | AP19: =VLOOKUP(G19,[16]分布式营销结算明细接收数据!$E:$R,14,FALSE) -> 16192.13 | AQ19: =AO19+AP19 -> 25776.94 | AR19: =AQ19+AM19+AG19+AC19+AA19+Y19+W19+S19+Q19+O19+K19+I19 -> 470420.42
A20: 15 | C20: 马庄村级电站 | F20: 300 | G20: 0705466835 | H20: =VLOOKUP(G20,[1]分布式发票数据!$A:$D,4) -> 30353 | I20: =VLOOKUP(G20,[1]分布式发票数据!$A:$E,5,FALSE) -> 11060.63 | J20: =VLOOKUP(G20,[2]分布式发票数据!$A:$D,4,FALSE) -> 27984 | K20: =VLOOKUP(G20,[2]分布式发票数据!$A:$E,5,FALSE) -> 10197.37 | L20: 39821 | M20: 14510.77 | N20: =VLOOKUP(G20,'[7]2022年12月-2023年3月'!$A$4:$E$193,5,FALSE) -> 82830.83 | O20: =M20+N20 -> 97341.6 | P20: 30308 | Q20: 11044.24 | R20: =VLOOKUP(G:G,[4]分布式发票数据!$A:$E,4,FALSE) -> 37092 | S20: =VLOOKUP(G:G,[4]分布式发票数据!$A:$E,5,FALSE) -> 13516.32 | T20: =VLOOKUP(G20,[5]分布式发票数据!$A$4:$E$193,4,FALSE) -> 43898 | U20: =VLOOKUP(G20,[5]分布式发票数据!$A$4:$E$193,5,FALSE) -> 15996.43 | V20: =VLOOKUP(G20,'[8]2023年4-6月'!$A$4:$E$193,5,FALSE) -> 68515.05 | W20: =U20+V20 -> 84511.48 | X20: =VLOOKUP(G20,[6]分布式发票数据!$A$4:$D$193,4,FALSE) -> 36972 | Y20: =VLOOKUP(G20,[6]分布式发票数据!$A$4:$E$193,5,FALSE) -> 13472.6 | Z20: =VLOOKUP(G20,[9]分布式发票数据!$A$4:$E$193,4,FALSE) -> 38748 | AA20: =VLOOKUP(G20,[9]分布式发票数据!$A$4:$E$193,5,FALSE) -> 14119.77 | AB20: =VLOOKUP(G20,[10]分布式发票数据!$A:$D,4,FALSE) -> 33227 | AC20: =VLOOKUP(G20,[10]分布式发票数据!$A:$E,5,FALSE) -> 12107.92 | AD20: =VLOOKUP(G20,[12]sheet1!$G:$S,13,FALSE) -> 41952 | AE20: =VLOOKUP(G20,[12]sheet1!$G:$X,18,FALSE) -> 15287.31 | AF20: =VLOOKUP(G20,[11]Sheet1!$B:$E,4,FALSE) -> 67067.77 | AG20: =AE20+AF20 -> 82355.08 | AH20: =VLOOKUP(G20,[13]Sheet1!$C$1:$H$65536,6,FALSE) -> 36464 | AI20: =VLOOKUP(G20,[13]Sheet1!$C$1:$I$65536,7,FALSE) -> 13287.48 | AJ20: =VLOOKUP(G20,[14]Sheet1!$E$1:$I$65536,5,FALSE) -> 22447.24 | AK20: =VLOOKUP(G20,[15]Sheet1!$E$1:$I$65536,5,FALSE) -> 25825.65 | AL20: =AJ20+AK20 -> 48272.89 | AM20: =AI20+AL20 -> 61560.37 | AN20: =VLOOKUP(G20,[16]分布式营销结算明细接收数据!$E:$K,7,FALSE) -> 25024 | AO20: =VLOOKUP(G20,[16]分布式营销结算明细接收数据!$E:$O,11,FALSE) -> 9118.75 | AP20: =VLOOKUP(G20,[16]分布式营销结算明细接收数据!$E:$R,14,FALSE) -> 15404.77 | AQ20: =AO20+AP20 -> 24523.52 | AR20: =AQ20+AM20+AG20+AC20+AA20+Y20+W20+S20+Q20+O20+K20+I20 -> 435810.9
A21: 16 | C21: 南上屯 | F21: 420 | G21: 0724497676 | H21: =VLOOKUP(G21,[1]分布式发票数据!$A:$D,4) -> 13642 | I21: =VLOOKUP(G21,[1]分布式发票数据!$A:$E,5,FALSE) -> 4971.14 | J21: =VLOOKUP(G21,[2]分布式发票数据!$A:$D,4,FALSE) -> 12250 | K21: =VLOOKUP(G21,[2]分布式发票数据!$A:$E,5,FALSE) -> 4463.9 | L21: 16748 | M21: 6102.97 | N21: =VLOOKUP(G21,'[7]2022年12月-2023年3月'!$A$4:$E$193,5,FALSE) -> 27669.98 | O21: =M21+N21 -> 33772.95 | P21: 7530 | Q21: 2743.93 | R21: =VLOOKUP(G:G,[4]分布式发票数据!$A:$E,4,FALSE) -> 9933 | S21: =VLOOKUP(G:G,[4]分布式发票数据!$A:$E,5,FALSE) -> 3619.59 | T21: =VLOOKUP(G21,[5]分布式发票数据!$A$4:$E$193,4,FALSE) -> 16126 | U21: =VLOOKUP(G21,[5]分布式发票数据!$A$4:$E$193,5,FALSE) -> 5876.31 | V21: =VLOOKUP(G21,'[8]2023年4-6月'!$A$4:$E$193,5,FALSE) -> 16310.82 | W21: =U21+V21 -> 22187.13 | X21: =VLOOKUP(G21,[6]分布式发票数据!$A$4:$D$193,4,FALSE) -> 13566 | Y21: =VLOOKUP(G21,[6]分布式发票数据!$A$4:$E$193,5,FALSE) -> 4943.45 | Z21: =VLOOKUP(G21,[9]分布式发票数据!$A$4:$E$193,4,FALSE) -> 14455 | AA21: =VLOOKUP(G21,[9]分布式发票数据!$A$4:$E$193,5,FALSE) -> 5267.4 | AB21: =VLOOKUP(G21,[10]分布式发票数据!$A:$D,4,FALSE) -> 12370 | AC21: =VLOOKUP(G21,[10]分布式发票数据!$A:$E,5,FALSE) -> 4507.63 | AD21: =VLOOKUP(G21,[12]sheet1!$G:$S,13,FALSE) -> 15794 | AE21: =VLOOKUP(G21,[12]sheet1!$G:$X,18,FALSE) -> 5755.33 | AF21: =VLOOKUP(G21,[11]Sheet1!$B:$E,4,FALSE) -> 19613.87 | AG21: =AE21+AF21 -> 25369.2 | AH21: =VLOOKUP(G21,[13]Sheet1!$C$1:$H$65536,6,FALSE) -> 14023 | AI21: =VLOOKUP(G21,[13]Sheet1!$C$1:$I$65536,7,FALSE) -> 5109.98 | AJ21: =VLOOKUP(G21,[14]Sheet1!$E$1:$I$65536,5,FALSE) -> 6809.57 | AK21: =VLOOKUP(G21,[15]Sheet1!$E$1:$I$65536,5,FALSE) -> 7669.57 | AL21: =AJ21+AK21 -> 14479.14 | AM21: =AI21+AL21 -> 19589.12 | AN21: =VLOOKUP(G21,[16]分布式营销结算明细接收数据!$E:$K,7,FALSE) -> 11397 | AO21: =VLOOKUP(G21,[16]分布式营销结算明细接收数据!$E:$O,11,FALSE) -> 4153.07 | AP21: =VLOOKUP(G21,[16]分布式营销结算明细接收数据!$E:$R,14,FALSE) -> 5534.38 | AQ21: =AO21+AP21 -> 9687.45 | AR21: =AQ21+AM21+AG21+AC21+AA21+Y21+W21+S21+Q21+O21+K21+I21 -> 141122.89
A22: 17 | G22: 0731273979 | H22: =VLOOKUP(G22,[1]分布式发票数据!$A:$D,4) -> 44944 | I22: =VLOOKUP(G22,[1]分布式发票数据!$A:$E,5,FALSE) -> 16377.59 | J22: =VLOOKUP(G22,[2]分布式发票数据!$A:$D,4,FALSE) -> 41118 | K22: =VLOOKUP(G22,[2]分布式发票数据!$A:$E,5,FALSE) -> 14983.4 | L22: 55027 | M22: 20051.84 | N22: =VLOOKUP(G22,'[7]2022年12月-2023年3月'!$A$4:$E$193,5,FALSE) -> 91389.92 | O22: =M22+N22 -> 111441.76 | P22: 41930 | Q22: 15279.29 | R22: =VLOOKUP(G:G,[4]分布式发票数据!$A:$E,4,FALSE) -> 45816 | S22: =VLOOKUP(G:G,[4]分布式发票数据!$A:$E,5,FALSE) -> 16695.35 | T22: =VLOOKUP(G22,[5]分布式发票数据!$A$4:$E$193,4,FALSE) -> 52111 | U22: =VLOOKUP(G22,[5]分布式发票数据!$A$4:$E$193,5,FALSE) -> 18989.25 | V22: =VLOOKUP(G22,'[8]2023年4-6月'!$A$4:$E$193,5,FALSE) -> 67914.56 | W22: =U22+V22 -> 86903.81 | X22: =VLOOKUP(G22,[6]分布式发票数据!$A$4:$D$193,4,FALSE) -> 43723 | Y22: =VLOOKUP(G22,[6]分布式发票数据!$A$4:$E$193,5,FALSE) -> 15932.66 | Z22: =VLOOKUP(G22,[9]分布式发票数据!$A$4:$E$193,4,FALSE) -> 46326 | AA22: =VLOOKUP(G22,[9]分布式发票数据!$A$4:$E$193,5,FALSE) -> 16881.19 | AB22: =VLOOKUP(G22,[10]分布式发票数据!$A:$D,4,FALSE) -> 39980 | AC22: =VLOOKUP(G22,[10]分布式发票数据!$A:$E,5,FALSE) -> 14568.71 | AD22: =VLOOKUP(G22,[12]sheet1!$G:$S,13,FALSE) -> 50972 | AE22: =VLOOKUP(G22,[12]sheet1!$G:$X,18,FALSE) -> 18574.2 | AF22: =VLOOKUP(G22,[11]Sheet1!$B:$E,4,FALSE) -> 63142.09 | AG22: =AE22+AF22 -> 81716.29 | AH22: =VLOOKUP(G22,[13]Sheet1!$C$1:$H$65536,6,FALSE) -> 45157 | AI22: =VLOOKUP(G22,[13]Sheet1!$C$1:$I$65536,7,FALSE) -> 16455.21 | AJ22: =VLOOKUP(G22,[14]Sheet1!$E$1:$I$65536,5,FALSE) -> 21928.24 | AK22: =VLOOKUP(G22,[15]Sheet1!$E$1:$I$65536,5,FALSE) -> 24752 | AL22: =AJ22+AK22 -> 46680.24 | AM22: =AI22+AL22 -> 63135.45 | AN22: =VLOOKUP(G22,[16]分布式营销结算明细接收数据!$E:$K,7,FALSE) -> 35497 | AO22: =VLOOKUP(G22,[16]分布式营销结算明细接收数据!$E:$O,11,FALSE) -> 12935.11 | AP22: =VLOOKUP(G22,[16]分布式营销结算明细接收数据!$E:$R,14,FALSE) -> 17237.34 | AQ22: =AO22+AP22 -> 30172.45 | AR22: =AQ22+AM22+AG22+AC22+AA22+Y22+W22+S22+Q22+O22+K22+I22 -> 484087.95
A23: 18 | C23: 艾河村 | D23: 艾河村联村电站 | E23: 420 | F23: 1463 | G23: 0724297654 | H23: =VLOOKUP(G23,[1]分布式发票数据!$A:$D,4) -> 44461 | I23: =VLOOKUP(G23,[1]分布式发票数据!$A:$E,5,FALSE) -> 16201.59 | J23: =VLOOKUP(G23,[2]分布式发票数据!$A:$D,4,FALSE) -> 40168 | K23: =VLOOKUP(G23,[2]分布式发票数据!$A:$E,5,FALSE) -> 14637.22 | L23: 54833 | M23: 19981.15 | N23: =VLOOKUP(G23,'[7]2022年12月-2023年3月'!$A$4:$E$193,5,FALSE) -> 90456.59 | O23: =M23+N23 -> 110437.74 | P23: 41784 | Q23: 15226.09 | R23: =VLOOKUP(G:G,[4]分布式发票数据!$A:$E,4,FALSE) -> 46435 | S23: =VLOOKUP(G:G,[4]分布式发票数据!$A:$E,5,FALSE) -> 16920.91 | T23: =VLOOKUP(G23,[5]分布式发票数据!$A$4:$E$193,4,FALSE) -> 52178 | U23: =VLOOKUP(G23,[5]分布式发票数据!$A$4:$E$193,5,FALSE) -> 19013.66 | V23: =VLOOKUP(G23,'[8]2023年4-6月'!$A$4:$E$193,5,FALSE) -> 68176.79 | W23: =U23+V23 -> 87190.45 | X23: =VLOOKUP(G23,[6]分布式发票数据!$A$4:$D$193,4,FALSE) -> 44033 | Y23: =VLOOKUP(G23,[6]分布式发票数据!$A$4:$E$193,5,FALSE) -> 16045.63 | Z23: =VLOOKUP(G23,[9]分布式发票数据!$A$4:$E$193,4,FALSE) -> 46835 | AA23: =VLOOKUP(G23,[9]分布式发票数据!$A$4:$E$193,5,FALSE) -> 17066.67 | AB23: =VLOOKUP(G23,[10]分布式发票数据!$A:$D,4,FALSE) -> 39863 | AC23: =VLOOKUP(G23,[10]分布式发票数据!$A:$E,5,FALSE) -> 14526.08 | AD23: =VLOOKUP(G23,[12]sheet1!$G:$S,13,FALSE) -> 50956 | AE23: =VLOOKUP(G23,[12]sheet1!$G:$X,18,FALSE) -> 18568.37 | AF23: =VLOOKUP(G23,[11]Sheet1!$B:$E,4,FALSE) -> 63482.97 | AG23: =AE23+AF23 -> 82051.34 | AH23: =VLOOKUP(G23,[13]Sheet1!$C$1:$H$65536,6,FALSE) -> 44856 | AI23: =VLOOKUP(G23,[13]Sheet1!$C$1:$I$65536,7,FALSE) -> 16345.53 | AJ23: =VLOOKUP(G23,[14]Sheet1!$E$1:$I$65536,5,FALSE) -> 21782.07 | AK23: =VLOOKUP(G23,[15]Sheet1!$E$1:$I$65536,5,FALSE) -> 24744.23 | AL23: =AJ23+AK23 -> 46526.3 | AM23: =AI23+AL23 -> 62871.83 | AN23: =VLOOKUP(G23,[16]分布式营销结算明细接收数据!$E:$K,7,FALSE) -> 34924 | AO23: =VLOOKUP(G23,[16]分布式营销结算明细接收数据!$E:$O,11,FALSE) -> 12726.31 | AP23: =VLOOKUP(G23,[16]分布式营销结算明细接收数据!$E:$R,14,FALSE) -> 16959.09 | AQ23: =AO23+AP23 -> 29685.4 | AR23: =AQ23+AM23+AG23+AC23+AA23+Y23+W23+S23+Q23+O23+K23+I23 -> 482860.95
A24: 19 | G24: 0724301458 | H24: =VLOOKUP(G24,[1]分布式发票数据!$A:$D,4) -> 45676 | I24: =VLOOKUP(G24,[1]分布式发票数据!$A:$E,5,FALSE) -> 16644.33 | J24: =VLOOKUP(G24,[2]分布式发票数据!$A:$D,4,FALSE) -> 41170 | K24: =VLOOKUP(G24,[2]分布式发票数据!$A:$E,5,FALSE) -> 15002.35 | L24: 54760 | M24: 19954.54 | N24: =VLOOKUP(G24,'[7]2022年12月-2023年3月'!$A$4:$E$193,5,FALSE) -> 91994.5 | O24: =M24+N24 -> 111949.04 | P24: 41653 | Q24: 15178.35 | R24: =VLOOKUP(G:G,[4]分布式发票数据!$A:$E,4,FALSE) -> 45630 | S24: =VLOOKUP(G:G,[4]分布式发票数据!$A:$E,5,FALSE) -> 16627.57 | T24: =VLOOKUP(G24,[5]分布式发票数据!$A$4:$E$193,4,FALSE) -> 51716 | U24: =VLOOKUP(G24,[5]分布式发票数据!$A$4:$E$193,5,FALSE) -> 18845.31 | V24: =VLOOKUP(G24,'[8]2023年4-6月'!$A$4:$E$193,5,FALSE) -> 67497.92 | W24: =U24+V24 -> 86343.23 | X24: =VLOOKUP(G24,[6]分布式发票数据!$A$4:$D$193,4,FALSE) -> 43718 | Y24: =VLOOKUP(G24,[6]分布式发票数据!$A$4:$E$193,5,FALSE) -> 15930.84 | Z24: =VLOOKUP(G24,[9]分布式发票数据!$A$4:$E$193,4,FALSE) -> 46794 | AA24: =VLOOKUP(G24,[9]分布式发票数据!$A$4:$E$193,5,FALSE) -> 17051.73 | AB24: =VLOOKUP(G24,[10]分布式发票数据!$A:$D,4,FALSE) -> 40555 | AC24: =VLOOKUP(G24,[10]分布式发票数据!$A:$E,5,FALSE) -> 14778.24 | AD24: =VLOOKUP(G24,[12]sheet1!$G:$S,13,FALSE) -> 51853 | AE24: =VLOOKUP(G24,[12]sheet1!$G:$X,18,FALSE) -> 18895.23 | AF24: =VLOOKUP(G24,[11]Sheet1!$B:$E,4,FALSE) -> 63646.14 | AG24: =AE24+AF24 -> 82541.37 | AH24: =VLOOKUP(G24,[13]Sheet1!$C$1:$H$65536,6,FALSE) -> 46373 | AI24: =VLOOKUP(G24,[13]Sheet1!$C$1:$I$65536,7,FALSE) -> 16898.32 | AJ24: =VLOOKUP(G24,[14]Sheet1!$E$1:$I$65536,5,FALSE) -> 22518.73 | AK24: =VLOOKUP(G24,[15]Sheet1!$E$1:$I$65536,5,FALSE) -> 25179.82 | AL24: =AJ24+AK24 -> 47698.55 | AM24: =AI24+AL24 -> 64596.87 | AN24: =VLOOKUP(G24,[16]分布式营销结算明细接收数据!$E:$K,7,FALSE) -> 41030 | AO24: =VLOOKUP(G24,[16]分布式营销结算明细接收数据!$E:$O,11,FALSE) -> 14951.33 | AP24: =VLOOKUP(G24,[16]分布式营销结算明细接收数据!$E:$R,14,FALSE) -> 19924.17 | AQ24: =AO24+AP24 -> 34875.5 | AR24: =AQ24+AM24+AG24+AC24+AA24+Y24+W24+S24+Q24+O24+K24+I24 -> 491519.42
A25: 20 | C25: 石道沟村 | E25: 420 | G25: 0724450714 | H25: =VLOOKUP(G25,[1]分布式发票数据!$A:$D,4) -> 44647 | I25: =VLOOKUP(G25,[1]分布式发票数据!$A:$E,5,FALSE) -> 16269.37 | J25: =VLOOKUP(G25,[2]分布式发票数据!$A:$D,4,FALSE) -> 40164 | K25: =VLOOKUP(G25,[2]分布式发票数据!$A:$E,5,FALSE) -> 14635.76 | L25: 54169 | M25: 19739.18 | N25: =VLOOKUP(G25,'[7]2022年12月-2023年3月'!$A$4:$E$193,5,FALSE) -> 90266.73 | O25: =M25+N25 -> 110005.91 | P25: 41244 | Q25: 15029.31 | R25: =VLOOKUP(G:G,[4]分布式发票数据!$A:$E,4,FALSE) -> 45510 | S25: =VLOOKUP(G:G,[4]分布式发票数据!$A:$E,5,FALSE) -> 16583.84 | T25: =VLOOKUP(G25,[5]分布式发票数据!$A$4:$E$193,4,FALSE) -> 50802 | U25: =VLOOKUP(G25,[5]分布式发票数据!$A$4:$E$193,5,FALSE) -> 18512.25 | V25: =VLOOKUP(G25,'[8]2023年4-6月'!$A$4:$E$193,5,FALSE) -> 66797.2 | W25: =U25+V25 -> 85309.45 | X25: =VLOOKUP(G25,[6]分布式发票数据!$A$4:$D$193,4,FALSE) -> 42888 | Y25: =VLOOKUP(G25,[6]分布式发票数据!$A$4:$E$193,5,FALSE) -> 15628.39 | Z25: =VLOOKUP(G25,[9]分布式发票数据!$A$4:$E$193,4,FALSE) -> 45241 | AA25: =VLOOKUP(G25,[9]分布式发票数据!$A$4:$E$193,5,FALSE) -> 16485.82 | AB25: =VLOOKUP(G25,[10]分布式发票数据!$A:$D,4,FALSE) -> 38104 | AC25: =VLOOKUP(G25,[10]分布式发票数据!$A:$E,5,FALSE) -> 13885.1 | AD25: =VLOOKUP(G25,[12]sheet1!$G:$S,13,FALSE) -> 50076 | AE25: =VLOOKUP(G25,[12]sheet1!$G:$X,18,FALSE) -> 18247.69 | AF25: =VLOOKUP(G25,[11]Sheet1!$B:$E,4,FALSE) -> 61298.74 | AG25: =AE25+AF25 -> 79546.43 | AH25: =VLOOKUP(G25,[13]Sheet1!$C$1:$H$65536,6,FALSE) -> 44663 | AI25: =VLOOKUP(G25,[13]Sheet1!$C$1:$I$65536,7,FALSE) -> 16275.2 | AJ25: =VLOOKUP(G25,[14]Sheet1!$E$1:$I$65536,5,FALSE) -> 21688.35 | AK25: =VLOOKUP(G25,[15]Sheet1!$E$1:$I$65536,5,FALSE) -> 24316.91 | AL25: =AJ25+AK25 -> 46005.26 | AM25: =AI25+AL25 -> 62280.46 | AN25: =VLOOKUP(G25,[16]分布式营销结算明细接收数据!$E:$K,7,FALSE) -> 38156 | AO25: =VLOOKUP(G25,[16]分布式营销结算明细接收数据!$E:$O,11,FALSE) -> 13904.05 | AP25: =VLOOKUP(G25,[16]分布式营销结算明细接收数据!$E:$R,14,FALSE) -> 18528.55 | AQ25: =AO25+AP25 -> 32432.6 | AR25: =AQ25+AM25+AG25+AC25+AA25+Y25+W25+S25+Q25+O25+K25+I25 -> 478092.44
A26: 21 | C26: 牌坊村 | E26: 420 | G26: 0724454761 | H26: =VLOOKUP(G26,[1]分布式发票数据!$A:$D,4) -> 42788 | I26: =VLOOKUP(G26,[1]分布式发票数据!$A:$E,5,FALSE) -> 15591.95 | J26: =VLOOKUP(G26,[2]分布式发票数据!$A:$D,4,FALSE) -> 41282 | K26: =VLOOKUP(G26,[2]分布式发票数据!$A:$E,5,FALSE) -> 15043.16 | L26: 55162 | M26: 20101.03 | N26: =VLOOKUP(G26,'[7]2022年12月-2023年3月'!$A$4:$E$193,5,FALSE) -> 90623.16 | O26: =M26+N26 -> 110724.19 | P26: 42084 | Q26: 15335.41 | R26: =VLOOKUP(G:G,[4]分布式发票数据!$A:$E,4,FALSE) -> 45425 | S26: =VLOOKUP(G:G,[4]分布式发票数据!$A:$E,5,FALSE) -> 16552.87 | T26: =VLOOKUP(G26,[5]分布式发票数据!$A$4:$E$193,4,FALSE) -> 51875 | U26: =VLOOKUP(G26,[5]分布式发票数据!$A$4:$E$193,5,FALSE) -> 18903.25 | V26: =VLOOKUP(G26,'[8]2023年4-6月'!$A$4:$E$193,5,FALSE) -> 67684.87 | W26: =U26+V26 -> 86588.12 | X26: =VLOOKUP(G26,[6]分布式发票数据!$A$4:$D$193,4,FALSE) -> 43024 | Y26: =VLOOKUP(G26,[6]分布式发票数据!$A$4:$E$193,5,FALSE) -> 15677.95 | Z26: =VLOOKUP(G26,[9]分布式发票数据!$A$4:$E$193,4,FALSE) -> 45766 | AA26: =VLOOKUP(G26,[9]分布式发票数据!$A$4:$E$193,5,FALSE) -> 16677.13 | AB26: =VLOOKUP(G26,[10]分布式发票数据!$A:$D,4,FALSE) -> 39941 | AC26: =VLOOKUP(G26,[10]分布式发票数据!$A:$E,5,FALSE) -> 14554.5 | AD26: =VLOOKUP(G26,[12]sheet1!$G:$S,13,FALSE) -> 51618 | AE26: =VLOOKUP(G26,[12]sheet1!$G:$X,18,FALSE) -> 18809.6 | AF26: =VLOOKUP(G26,[11]Sheet1!$B:$E,4,FALSE) -> 62511.77 | AG26: =AE26+AF26 -> 81321.37 | AH26: =VLOOKUP(G26,[13]Sheet1!$C$1:$H$65536,6,FALSE) -> 46062 | AI26: =VLOOKUP(G26,[13]Sheet1!$C$1:$I$65536,7,FALSE) -> 16784.99 | AJ26: =VLOOKUP(G26,[14]Sheet1!$E$1:$I$65536,5,FALSE) -> 22367.71 | AK26: =VLOOKUP(G26,[15]Sheet1!$E$1:$I$65536,5,FALSE) -> 25065.7 | AL26: =AJ26+AK26 -> 47433.41 | AM26: =AI26+AL26 -> 64218.4 | AN26: =VLOOKUP(G26,[16]分布式营销结算明细接收数据!$E:$K,7,FALSE) -> 40832 | AO26: =VLOOKUP(G26,[16]分布式营销结算明细接收数据!$E:$O,11,FALSE) -> 14879.18 | AP26: =VLOOKUP(G26,[16]分布式营销结算明细接收数据!$E:$R,14,FALSE) -> 19828.02 | AQ26: =AO26+AP26 -> 34707.2 | AR26: =AQ26+AM26+AG26+AC26+AA26+Y26+W26+S26+Q26+O26+K26+I26 -> 486992.25
A27: 22 | C27: 南台村 | E27: 203 | G27: 0730829458 | H27: =VLOOKUP(G27,[1]分布式发票数据!$A:$D,4) -> 22889 | I27: =VLOOKUP(G27,[1]分布式发票数据!$A:$E,5,FALSE) -> 8340.75 | J27: =VLOOKUP(G27,[2]分布式发票数据!$A:$D,4,FALSE) -> 20962 | K27: =VLOOKUP(G27,[2]分布式发票数据!$A:$E,5,FALSE) -> 7638.55 | L27: 28186 | M27: 10270.98 | N27: =VLOOKUP(G27,'[7]2022年12月-2023年3月'!$A$4:$E$193,5,FALSE) -> 46519.03 | O27: =M27+N27 -> 56790.01 | P27: 21581 | Q27: 7864.12 | R27: =VLOOKUP(G:G,[4]分布式发票数据!$A:$E,4,FALSE) -> 22951 | S27: =VLOOKUP(G:G,[4]分布式发票数据!$A:$E,5,FALSE) -> 8363.34 | T27: =VLOOKUP(G27,[5]分布式发票数据!$A$4:$E$193,4,FALSE) -> 26435 | U27: =VLOOKUP(G27,[5]分布式发票数据!$A$4:$E$193,5,FALSE) -> 9632.91 | V27: =VLOOKUP(G27,'[8]2023年4-6月'!$A$4:$E$193,5,FALSE) -> 34461.58 | W27: =U27+V27 -> 44094.49 | X27: =VLOOKUP(G27,[6]分布式发票数据!$A$4:$D$193,4,FALSE) -> 22068 | Y27: =VLOOKUP(G27,[6]分布式发票数据!$A$4:$E$193,5,FALSE) -> 8041.58 | Z27: =VLOOKUP(G27,[9]分布式发票数据!$A$4:$E$193,4,FALSE) -> 23612 | AA27: =VLOOKUP(G27,[9]分布式发票数据!$A$4:$E$193,5,FALSE) -> 8604.21 | AB27: =VLOOKUP(G27,[10]分布式发票数据!$A:$D,4,FALSE) -> 13687 | AC27: =VLOOKUP(G27,[10]分布式发票数据!$A:$E,5,FALSE) -> 4987.54 | AD27: =VLOOKUP(G27,[12]sheet1!$G:$S,13,FALSE) -> 26239 | AE27: =VLOOKUP(G27,[12]sheet1!$G:$X,18,FALSE) -> 9561.49 | AF27: =VLOOKUP(G27,[11]Sheet1!$B:$E,4,FALSE) -> 28828.62 | AG27: =AE27+AF27 -> 38390.11 | AH27: =VLOOKUP(G27,[13]Sheet1!$C$1:$H$65536,6,FALSE) -> 23198 | AI27: =VLOOKUP(G27,[13]Sheet1!$C$1:$I$65536,7,FALSE) -> 8453.35 | AJ27: =VLOOKUP(G27,[14]Sheet1!$E$1:$I$65536,5,FALSE) -> 11264.95 | AK27: =VLOOKUP(G27,[15]Sheet1!$E$1:$I$65536,5,FALSE) -> 12741.66 | AL27: =AJ27+AK27 -> 24006.61 | AM27: =AI27+AL27 -> 32459.96 | AN27: =VLOOKUP(G27,[16]分布式营销结算明细接收数据!$E:$K,7,FALSE) -> 20033 | AO27: =VLOOKUP(G27,[16]分布式营销结算明细接收数据!$E:$O,11,FALSE) -> 7300.03 | AP27: =VLOOKUP(G27,[16]分布式营销结算明细接收数据!$E:$R,14,FALSE) -> 9728.02 | AQ27: =AO27+AP27 -> 17028.05 | AR27: =AQ27+AM27+AG27+AC27+AA27+Y27+W27+S27+Q27+O27+K27+I27 -> 242602.71
A28: 23 | C28: 赵家井 | F28: 420 | G28: 0731429167 | H28: =VLOOKUP(G28,[1]分布式发票数据!$A:$D,4) -> 13052 | I28: =VLOOKUP(G28,[1]分布式发票数据!$A:$E,5,FALSE) -> 4756.15 | J28: =VLOOKUP(G28,[2]分布式发票数据!$A:$D,4,FALSE) -> 11791 | K28: =VLOOKUP(G28,[2]分布式发票数据!$A:$E,5,FALSE) -> 4296.64 | L28: 16201 | M28: 5903.64 | N28: =VLOOKUP(G28,'[7]2022年12月-2023年3月'!$A$4:$E$193,5,FALSE) -> 26642.45 | O28: =M28+N28 -> 32546.09 | P28: 12208 | Q28: 4448.6 | R28: =VLOOKUP(G:G,[4]分布式发票数据!$A:$E,4,FALSE) -> 13742 | S28: =VLOOKUP(G:G,[4]分布式发票数据!$A:$E,5,FALSE) -> 5007.58 | T28: =VLOOKUP(G28,[5]分布式发票数据!$A$4:$E$193,4,FALSE) -> 15644 | U28: =VLOOKUP(G28,[5]分布式发票数据!$A$4:$E$193,5,FALSE) -> 5700.67 | V28: =VLOOKUP(G28,'[8]2023年4-6月'!$A$4:$E$193,5,FALSE) -> 20198.05 | W28: =U28+V28 -> 25898.72 | X28: =VLOOKUP(G28,[6]分布式发票数据!$A$4:$D$193,4,FALSE) -> 13174 | Y28: =VLOOKUP(G28,[6]分布式发票数据!$A$4:$E$193,5,FALSE) -> 4800.61 | Z28: =VLOOKUP(G28,[9]分布式发票数据!$A$4:$E$193,4,FALSE) -> 13893 | AA28: =VLOOKUP(G28,[9]分布式发票数据!$A$4:$E$193,5,FALSE) -> 5062.61 | AB28: =VLOOKUP(G28,[10]分布式发票数据!$A:$D,4,FALSE) -> 11735 | AC28: =VLOOKUP(G28,[10]分布式发票数据!$A:$E,5,FALSE) -> 4276.23 | AD28: =VLOOKUP(G28,[12]sheet1!$G:$S,13,FALSE) -> 15240 | AE28: =VLOOKUP(G28,[12]sheet1!$G:$X,18,FALSE) -> 5553.46 | AF28: =VLOOKUP(G28,[11]Sheet1!$B:$E,4,FALSE) -> 18842.25 | AG28: =AE28+AF28 -> 24395.71 | AH28: =VLOOKUP(G28,[13]Sheet1!$C$1:$H$65536,6,FALSE) -> 13426 | AI28: =VLOOKUP(G28,[13]Sheet1!$C$1:$I$65536,7,FALSE) -> 4892.43 | AJ28: =VLOOKUP(G28,[14]Sheet1!$E$1:$I$65536,5,FALSE) -> 6519.67 | AK28: =VLOOKUP(G28,[15]Sheet1!$E$1:$I$65536,5,FALSE) -> 7400.54 | AL28: =AJ28+AK28 -> 13920.21 | AM28: =AI28+AL28 -> 18812.64 | AN28: =VLOOKUP(G28,[16]分布式营销结算明细接收数据!$E:$K,7,FALSE) -> 8962 | AO28: =VLOOKUP(G28,[16]分布式营销结算明细接收数据!$E:$O,11,FALSE) -> 3265.75 | AP28: =VLOOKUP(G28,[16]分布式营销结算明细接收数据!$E:$R,14,FALSE) -> 4351.95 | AQ28: =AO28+AP28 -> 7617.7 | AR28: =AQ28+AM28+AG28+AC28+AA28+Y28+W28+S28+Q28+O28+K28+I28 -> 141919.28
A29: 24 | G29: 0731429284 | H29: =VLOOKUP(G29,[1]分布式发票数据!$A:$D,4) -> 41140 | I29: =VLOOKUP(G29,[1]分布式发票数据!$A:$E,5,FALSE) -> 14991.42 | J29: =VLOOKUP(G29,[2]分布式发票数据!$A:$D,4,FALSE) -> 37309 | K29: =VLOOKUP(G29,[2]分布式发票数据!$A:$E,5,FALSE) -> 13595.4 | L29: 51472 | M29: 18756.4 | N29: =VLOOKUP(G29,'[7]2022年12月-2023年3月'!$A$4:$E$193,5,FALSE) -> 84084.06 | O29: =M29+N29 -> 102840.46 | P29: =VLOOKUP(G29,[3]分布式发票数据!$A:$E,4,FALSE) -> 38293 | Q29: =VLOOKUP(G29,[3]分布式发票数据!$A:$E,5,FALSE) -> 13953.97 | R29: =VLOOKUP(G:G,[4]分布式发票数据!$A:$E,4,FALSE) -> 43067 | S29: =VLOOKUP(G:G,[4]分布式发票数据!$A:$E,5,FALSE) -> 15693.61 | T29: =VLOOKUP(G29,[5]分布式发票数据!$A$4:$E$193,4,FALSE) -> 48559 | U29: =VLOOKUP(G29,[5]分布式发票数据!$A$4:$E$193,5,FALSE) -> 17694.9 | V29: =VLOOKUP(G29,'[8]2023年4-6月'!$A$4:$E$193,5,FALSE) -> 63088.67 | W29: =U29+V29 -> 80783.57 | X29: =VLOOKUP(G29,[6]分布式发票数据!$A$4:$D$193,4,FALSE) -> 40799 | Y29: =VLOOKUP(G29,[6]分布式发票数据!$A$4:$E$193,5,FALSE) -> 14867.16 | Z29: =VLOOKUP(G29,[9]分布式发票数据!$A$4:$E$193,4,FALSE) -> 40429 | AA29: =VLOOKUP(G29,[9]分布式发票数据!$A$4:$E$193,5,FALSE) -> 14732.33 | AB29: =VLOOKUP(G29,[10]分布式发票数据!$A:$D,4,FALSE) -> 36337 | AC29: =VLOOKUP(G29,[10]分布式发票数据!$A:$E,5,FALSE) -> 13241.2 | AD29: =VLOOKUP(G29,[12]sheet1!$G:$S,13,FALSE) -> 47347 | AE29: =VLOOKUP(G29,[12]sheet1!$G:$X,18,FALSE) -> 17253.25 | AF29: =VLOOKUP(G29,[11]Sheet1!$B:$E,4,FALSE) -> 57089.56 | AG29: =AE29+AF29 -> 74342.81 | AH29: =VLOOKUP(G29,[13]Sheet1!$C$1:$H$65536,6,FALSE) -> 41509 | AI29: =VLOOKUP(G29,[13]Sheet1!$C$1:$I$65536,7,FALSE) -> 15125.88 | AJ29: =VLOOKUP(G29,[14]Sheet1!$E$1:$I$65536,5,FALSE) -> 20156.77 | AK29: =VLOOKUP(G29,[15]Sheet1!$E$1:$I$65536,5,FALSE) -> 22991.7 | AL29: =AJ29+AK29 -> 43148.47 | AM29: =AI29+AL29 -> 58274.35 | AN29: =VLOOKUP(G29,[16]分布式营销结算明细接收数据!$E:$K,7,FALSE) -> 29981 | AO29: =VLOOKUP(G29,[16]分布式营销结算明细接收数据!$E:$O,11,FALSE) -> 10925.08 | AP29: =VLOOKUP(G29,[16]分布式营销结算明细接收数据!$E:$R,14,FALSE) -> 14558.77 | AQ29: =AO29+AP29 -> 25483.85 | AR29: =AQ29+AM29+AG29+AC29+AA29+Y29+W29+S29+Q29+O29+K29+I29 -> 442800.13
A30: 25 | B30: 东团堡 | C30: 北李庄村级电站 | F30: 300 | G30: 0705705343 | H30: =VLOOKUP(G30,[1]分布式发票数据!$A:$D,4) -> 35950 | I30: =VLOOKUP(G30,[1]分布式发票数据!$A:$E,5,FALSE) -> 13100.18 | J30: =VLOOKUP(G30,[2]分布式发票数据!$A:$D,4,FALSE) -> 32773 | K30: =VLOOKUP(G30,[2]分布式发票数据!$A:$E,5,FALSE) -> 11942.48 | L30: 46414 | M30: 16913.26 | N30: =VLOOKUP(G30,'[7]2022年12月-2023年3月'!$A$4:$E$193,5,FALSE) -> 92125.16 | O30: =M30+N30 -> 109038.42 | P30: =VLOOKUP(G30,[3]分布式发票数据!$A:$E,4,FALSE) -> 35380 | Q30: =VLOOKUP(G30,[3]分布式发票数据!$A:$E,5,FALSE) -> 12892.47 | R30: =VLOOKUP(G:G,[4]分布式发票数据!$A:$E,4,FALSE) -> 38683 | S30: =VLOOKUP(G:G,[4]分布式发票数据!$A:$E,5,FALSE) -> 14096.09 | T30: =VLOOKUP(G30,[5]分布式发票数据!$A$4:$E$193,4,FALSE) -> 43908 | U30: =VLOOKUP(G30,[5]分布式发票数据!$A$4:$E$193,5,FALSE) -> 16000.08 | V30: =VLOOKUP(G30,'[8]2023年4-6月'!$A$4:$E$193,5,FALSE) -> 72622.94 | W30: =U30+V30 -> 88623.02 | X30: =VLOOKUP(G30,[6]分布式发票数据!$A$4:$D$193,4,FALSE) -> 35707 | Y30: =VLOOKUP(G30,[6]分布式发票数据!$A$4:$E$193,5,FALSE) -> 13011.63 | Z30: =VLOOKUP(G30,[9]分布式发票数据!$A$4:$E$193,4,FALSE) -> 37360 | AA30: =VLOOKUP(G30,[9]分布式发票数据!$A$4:$E$193,5,FALSE) -> 13613.98 | AB30: =VLOOKUP(G30,[10]分布式发票数据!$A:$D,4,FALSE) -> 33121 | AC30: =VLOOKUP(G30,[10]分布式发票数据!$A:$E,5,FALSE) -> 12069.29 | AD30: =VLOOKUP(G30,[12]sheet1!$G:$S,13,FALSE) -> 41489 | AE30: =VLOOKUP(G30,[12]sheet1!$G:$X,18,FALSE) -> 15118.59 | AF30: =VLOOKUP(G30,[11]Sheet1!$B:$E,4,FALSE) -> 65369.34 | AG30: =AE30+AF30 -> 80487.93 | AH30: =VLOOKUP(G30,[13]Sheet1!$C$1:$H$65536,6,FALSE) -> 32831 | AI30: =VLOOKUP(G30,[13]Sheet1!$C$1:$I$65536,7,FALSE) -> 11963.62 | AJ30: =VLOOKUP(G30,[14]Sheet1!$E$1:$I$65536,5,FALSE) -> 20210.76 | AK30: =VLOOKUP(G30,[15]Sheet1!$E$1:$I$65536,5,FALSE) -> 25540.63 | AL30: =AJ30+AK30 -> 45751.39 | AM30: =AI30+AL30 -> 57715.01 | AN30: =VLOOKUP(G30,[16]分布式营销结算明细接收数据!$E:$K,7,FALSE) -> 25530 | AO30: =VLOOKUP(G30,[16]分布式营销结算明细接收数据!$E:$O,11,FALSE) -> 9303.13 | AP30: =VLOOKUP(G30,[16]分布式营销结算明细接收数据!$E:$R,14,FALSE) -> 15716.27 | AQ30: =AO30+AP30 -> 25019.4 | AR30: =AQ30+AM30+AG30+AC30+AA30+Y30+W30+S30+Q30+O30+K30+I30 -> 451609.9
A31: 26 | C31: 北辛庄村级电站 | F31: 300 | G31: 0705721604 | H31: =VLOOKUP(G31,[1]分布式发票数据!$A:$D,4) -> 36664 | I31: =VLOOKUP(G31,[1]分布式发票数据!$A:$E,5,FALSE) -> 13360.36 | J31: =VLOOKUP(G31,[2]分布式发票数据!$A:$D,4,FALSE) -> 30186 | K31: =VLOOKUP(G31,[2]分布式发票数据!$A:$E,5,FALSE) -> 10999.78 | L31: 43427 | M31: 15824.8 | N31: =VLOOKUP(G31,'[7]2022年12月-2023年3月'!$A$4:$E$193,5,FALSE) -> 90815.77 | O31: =M31+N31 -> 106640.57 | P31: =VLOOKUP(G31,[3]分布式发票数据!$A:$E,4,FALSE) -> 32275 | Q31: =VLOOKUP(G31,[3]分布式发票数据!$A:$E,5,FALSE) -> 11761.01 | R31: =VLOOKUP(G:G,[4]分布式发票数据!$A:$E,4,FALSE) -> 37382 | S31: =VLOOKUP(G:G,[4]分布式发票数据!$A:$E,5,FALSE) -> 13622 | T31: =VLOOKUP(G31,[5]分布式发票数据!$A$4:$E$193,4,FALSE) -> 46240 | U31: =VLOOKUP(G31,[5]分布式发票数据!$A$4:$E$193,5,FALSE) -> 16849.86 | V31: =VLOOKUP(G31,'[8]2023年4-6月'!$A$4:$E$193,5,FALSE) -> 71346.19 | W31: =U31+V31 -> 88196.05 | X31: =VLOOKUP(G31,[6]分布式发票数据!$A$4:$D$193,4,FALSE) -> 36598 | Y31: =VLOOKUP(G31,[6]分布式发票数据!$A$4:$E$193,5,FALSE) -> 13336.31 | Z31: =VLOOKUP(G31,[9]分布式发票数据!$A$4:$E$193,4,FALSE) -> 38687 | AA31: =VLOOKUP(G31,[9]分布式发票数据!$A$4:$E$193,5,FALSE) -> 14097.54 | AB31: =VLOOKUP(G31,[10]分布式发票数据!$A:$D,4,FALSE) -> 33884 | AC31: =VLOOKUP(G31,[10]分布式发票数据!$A:$E,5,FALSE) -> 12347.33 | AD31: =VLOOKUP(G31,[12]sheet1!$G:$S,13,FALSE) -> 44540 | AE31: =VLOOKUP(G31,[12]sheet1!$G:$X,18,FALSE) -> 16230.38 | AF31: =VLOOKUP(G31,[11]Sheet1!$B:$E,4,FALSE) -> 67204.44 | AG31: =AE31+AF31 -> 83434.82 | AH31: =VLOOKUP(G31,[13]Sheet1!$C$1:$H$65536,6,FALSE) -> 35754 | AI31: =VLOOKUP(G31,[13]Sheet1!$C$1:$I$65536,7,FALSE) -> 13028.76 | AJ31: =VLOOKUP(G31,[14]Sheet1!$E$1:$I$65536,5,FALSE) -> 22010.16 | AK31: =VLOOKUP(G31,[15]Sheet1!$E$1:$I$65536,5,FALSE) -> 27418.82 | AL31: =AJ31+AK31 -> 49428.98 | AM31: =AI31+AL31 -> 62457.74 | AN31: =VLOOKUP(G31,[16]分布式营销结算明细接收数据!$E:$K,7,FALSE) -> 29849 | AO31: =VLOOKUP(G31,[16]分布式营销结算明细接收数据!$E:$O,11,FALSE) -> 10876.98 | AP31: =VLOOKUP(G31,[16]分布式营销结算明细接收数据!$E:$R,14,FALSE) -> 18375.04 | AQ31: =AO31+AP31 -> 29252.02 | AR31: =AQ31+AM31+AG31+AC31+AA31+Y31+W31+S31+Q31+O31+K31+I31 -> 459505.53
A32: 27 | C32: 东团堡村级电站 | F32: 300 | G32: 0705727497 | H32: =VLOOKUP(G32,[1]分布式发票数据!$A:$D,4) -> 32558 | I32: =VLOOKUP(G32,[1]分布式发票数据!$A:$E,5,FALSE) -> 11864.14 | J32: =VLOOKUP(G32,[2]分布式发票数据!$A:$D,4,FALSE) -> 28532 | K32: =VLOOKUP(G32,[2]分布式发票数据!$A:$E,5,FALSE) -> 10397.06 | L32: 40391 | M32: 14718.48 | N32: =VLOOKUP(G32,'[7]2022年12月-2023年3月'!$A$4:$E$193,5,FALSE) -> 80873.22 | O32: =M32+N32 -> 95591.7 | P32: =VLOOKUP(G32,[3]分布式发票数据!$A:$E,4,FALSE) -> 30979 | Q32: =VLOOKUP(G32,[3]分布式发票数据!$A:$E,5,FALSE) -> 11288.75 | R32: =VLOOKUP(G:G,[4]分布式发票数据!$A:$E,4,FALSE) -> 34654 | S32: =VLOOKUP(G:G,[4]分布式发票数据!$A:$E,5,FALSE) -> 12627.92 | T32: =VLOOKUP(G32,[5]分布式发票数据!$A$4:$E$193,4,FALSE) -> 41939 | U32: =VLOOKUP(G32,[5]分布式发票数据!$A$4:$E$193,5,FALSE) -> 15282.57 | V32: =VLOOKUP(G32,'[8]2023年4-6月'!$A$4:$E$193,5,FALSE) -> 66221.32 | W32: =U32+V32 -> 81503.89 | X32: =VLOOKUP(G32,[6]分布式发票数据!$A$4:$D$193,4,FALSE) -> 33878 | Y32: =VLOOKUP(G32,[6]分布式发票数据!$A$4:$E$193,5,FALSE) -> 12345.14 | Z32: =VLOOKUP(G32,[9]分布式发票数据!$A$4:$E$193,4,FALSE) -> 35285 | AA32: =VLOOKUP(G32,[9]分布式发票数据!$A$4:$E$193,5,FALSE) -> 12857.85 | AB32: =VLOOKUP(G32,[10]分布式发票数据!$A:$D,4,FALSE) -> 28974 | AC32: =VLOOKUP(G32,[10]分布式发票数据!$A:$E,5,FALSE) -> 10558.13 | AD32: =VLOOKUP(G32,[12]sheet1!$G:$S,13,FALSE) -> 37657 | AE32: =VLOOKUP(G32,[12]sheet1!$G:$X,18,FALSE) -> 13722.21 | AF32: =VLOOKUP(G32,[11]Sheet1!$B:$E,4,FALSE) -> 60413.14 | AG32: =AE32+AF32 -> 74135.35 | AH32: =VLOOKUP(G32,[13]Sheet1!$C$1:$H$65536,6,FALSE) -> 31244 | AI32: =VLOOKUP(G32,[13]Sheet1!$C$1:$I$65536,7,FALSE) -> 11385.31 | AJ32: =VLOOKUP(G32,[14]Sheet1!$E$1:$I$65536,5,FALSE) -> 19233.81 | AK32: =VLOOKUP(G32,[15]Sheet1!$E$1:$I$65536,5,FALSE) -> 23181.65 | AL32: =AJ32+AK32 -> 42415.46 | AM32: =AI32+AL32 -> 53800.77 | AN32: =VLOOKUP(G32,[16]分布式营销结算明细接收数据!$E:$K,7,FALSE) -> 22499 | AO32: =VLOOKUP(G32,[16]分布式营销结算明细接收数据!$E:$O,11,FALSE) -> 8198.64 | AP32: =VLOOKUP(G32,[16]分布式营销结算明细接收数据!$E:$R,14,FALSE) -> 13850.38 | AQ32: =AO32+AP32 -> 22049.02 | AR32: =AQ32+AM32+AG32+AC32+AA32+Y32+W32+S32+Q32+O32+K32+I32 -> 409019.72
A33: 28 | C33: 侯家沟村级电站 | F33: 300 | G33: 0705690168 | H33: =VLOOKUP(G33,[1]分布式发票数据!$A:$D,4) -> 24054 | I33: =VLOOKUP(G33,[1]分布式发票数据!$A:$E,5,FALSE) -> 8765.28 | J33: =VLOOKUP(G33,[2]分布式发票数据!$A:$D,4,FALSE) -> 23447 | K33: =VLOOKUP(G33,[2]分布式发票数据!$A:$E,5,FALSE) -> 8544.09 | L33: 36773 | M33: 13400.08 | N33: =VLOOKUP(G33,'[7]2022年12月-2023年3月'!$A$4:$E$193,5,FALSE) -> 66808.6 | O33: =M33+N33 -> 80208.68 | P33: =VLOOKUP(G33,[3]分布式发票数据!$A:$E,4,FALSE) -> 32030 | Q33: =VLOOKUP(G33,[3]分布式发票数据!$A:$E,5,FALSE) -> 11671.73 | R33: =VLOOKUP(G:G,[4]分布式发票数据!$A:$E,4,FALSE) -> 37454 | S33: =VLOOKUP(G:G,[4]分布式发票数据!$A:$E,5,FALSE) -> 13648.24 | T33: =VLOOKUP(G33,[5]分布式发票数据!$A$4:$E$193,4,FALSE) -> 43820 | U33: =VLOOKUP(G33,[5]分布式发票数据!$A$4:$E$193,5,FALSE) -> 15968.01 | V33: =VLOOKUP(G33,'[8]2023年4-6月'!$A$4:$E$193,5,FALSE) -> 69749.94 | W33: =U33+V33 -> 85717.95 | X33: =VLOOKUP(G33,[6]分布式发票数据!$A$4:$D$193,4,FALSE) -> 35892 | Y33: =VLOOKUP(G33,[6]分布式发票数据!$A$4:$E$193,5,FALSE) -> 13079.04 | Z33: =VLOOKUP(G33,[9]分布式发票数据!$A$4:$E$193,4,FALSE) -> 36668 | AA33: =VLOOKUP(G33,[9]分布式发票数据!$A$4:$E$193,5,FALSE) -> 13361.82 | AB33: =VLOOKUP(G33,[10]分布式发票数据!$A:$D,4,FALSE) -> 29398 | AC33: =VLOOKUP(G33,[10]分布式发票数据!$A:$E,5,FALSE) -> 10712.63 | AD33: =VLOOKUP(G33,[12]sheet1!$G:$S,13,FALSE) -> 31244 | AE33: =VLOOKUP(G33,[12]sheet1!$G:$X,18,FALSE) -> 11385.31 | AF33: =VLOOKUP(G33,[11]Sheet1!$B:$E,4,FALSE) -> 62765.35 | AG33: =AE33+AF33 -> 74150.66 | AH33: =VLOOKUP(G33,[13]Sheet1!$C$1:$H$65536,6,FALSE) -> 22216 | AI33: =VLOOKUP(G33,[13]Sheet1!$C$1:$I$65536,7,FALSE) -> 8095.51 | AJ33: =VLOOKUP(G33,[14]Sheet1!$E$1:$I$65536,5,FALSE) -> 13676.17 | AK33: =VLOOKUP(G33,[15]Sheet1!$E$1:$I$65536,5,FALSE) -> 19233.81 | AL33: =AJ33+AK33 -> 32909.98 | AM33: =AI33+AL33 -> 41005.49 | AN33: =VLOOKUP(G33,[16]分布式营销结算明细接收数据!$E:$K,7,FALSE) -> 10610 | AO33: =VLOOKUP(G33,[16]分布式营销结算明细接收数据!$E:$O,11,FALSE) -> 3866.28 | AP33: =VLOOKUP(G33,[16]分布式营销结算明细接收数据!$E:$R,14,FALSE) -> 6531.52 | AQ33: =AO33+AP33 -> 10397.8 | AR33: =AQ33+AM33+AG33+AC33+AA33+Y33+W33+S33+Q33+O33+K33+I33 -> 371263.41
A34: 29 | C34: 汤子岭村级电站 | F34: 300 | G34: 0705423568 | H34: =VLOOKUP(G34,[1]分布式发票数据!$A:$D,4) -> 40006 | I34: =VLOOKUP(G34,[1]分布式发票数据!$A:$E,5,FALSE) -> 14578.19 | J34: =VLOOKUP(G34,[2]分布式发票数据!$A:$D,4,FALSE) -> 35346 | K34: =VLOOKUP(G34,[2]分布式发票数据!$A:$E,5,FALSE) -> 12880.08 | L34: 49823 | M34: 18155.5 | N34: =VLOOKUP(G34,'[7]2022年12月-2023年3月'!$A$4:$E$193,5,FALSE) -> 101447.19 | O34: =M34+N34 -> 119602.69 | P34: =VLOOKUP(G34,[3]分布式发票数据!$A:$E,4,FALSE) -> 37823 | Q34: =VLOOKUP(G34,[3]分布式发票数据!$A:$E,5,FALSE) -> 13782.7 | R34: =VLOOKUP(G:G,[4]分布式发票数据!$A:$E,4,FALSE) -> 40814 | S34: =VLOOKUP(G:G,[4]分布式发票数据!$A:$E,5,FALSE) -> 14872.62 | T34: =VLOOKUP(G34,[5]分布式发票数据!$A$4:$E$193,4,FALSE) -> 47800 | U34: =VLOOKUP(G34,[5]分布式发票数据!$A$4:$E$193,5,FALSE) -> 17418.32 | V34: =VLOOKUP(G34,'[8]2023年4-6月'!$A$4:$E$193,5,FALSE) -> 77834.62 | W34: =U34+V34 -> 95252.94 | X34: =VLOOKUP(G34,[6]分布式发票数据!$A$4:$D$193,4,FALSE) -> 36046 | Y34: =VLOOKUP(G34,[6]分布式发票数据!$A$4:$E$193,5,FALSE) -> 13135.16 | Z34: =VLOOKUP(G34,[9]分布式发票数据!$A$4:$E$193,4,FALSE) -> 37506 | AA34: =VLOOKUP(G34,[9]分布式发票数据!$A$4:$E$193,5,FALSE) -> 13667.19 | AB34: =VLOOKUP(G34,[10]分布式发票数据!$A:$D,4,FALSE) -> 32156 | AC34: =VLOOKUP(G34,[10]分布式发票数据!$A:$E,5,FALSE) -> 11717.65 | AD34: =VLOOKUP(G34,[12]sheet1!$G:$S,13,FALSE) -> 40361 | AE34: =VLOOKUP(G34,[12]sheet1!$G:$X,18,FALSE) -> 14707.55 | AF34: =VLOOKUP(G34,[11]Sheet1!$B:$E,4,FALSE) -> 65073.84 | AG34: =AE34+AF34 -> 79781.39 | AH34: =VLOOKUP(G34,[13]Sheet1!$C$1:$H$65536,6,FALSE) -> 39102 | AI34: =VLOOKUP(G34,[13]Sheet1!$C$1:$I$65536,7,FALSE) -> 14248.77 | AJ34: =VLOOKUP(G34,[14]Sheet1!$E$1:$I$65536,5,FALSE) -> 24071.19 | AK34: =VLOOKUP(G34,[15]Sheet1!$E$1:$I$65536,5,FALSE) -> 24846.23 | AL34: =AJ34+AK34 -> 48917.42 | AM34: =AI34+AL34 -> 63166.19 | AN34: =VLOOKUP(G34,[16]分布式营销结算明细接收数据!$E:$K,7,FALSE) -> 32034 | AO34: =VLOOKUP(G34,[16]分布式营销结算明细接收数据!$E:$O,11,FALSE) -> 11673.19 | AP34: =VLOOKUP(G34,[16]分布式营销结算明细接收数据!$E:$R,14,FALSE) -> 19720.13 | AQ34: =AO34+AP34 -> 31393.32 | AR34: =AQ34+AM34+AG34+AC34+AA34+Y34+W34+S34+Q34+O34+K34+I34 -> 483830.12
A35: 30 | C35: 北王家湾村级电站 | F35: 300 | G35: 0705480897 | H35: =VLOOKUP(G35,[1]分布式发票数据!$A:$D,4) -> 30097 | I35: =VLOOKUP(G35,[1]分布式发票数据!$A:$E,5,FALSE) -> 10967.35 | J35: =VLOOKUP(G35,[2]分布式发票数据!$A:$D,4,FALSE) -> 26514 | K35: =VLOOKUP(G35,[2]分布式发票数据!$A:$E,5,FALSE) -> 9661.7 | L35: 37514 | M35: 13670.1 | N35: =VLOOKUP(G35,'[7]2022年12月-2023年3月'!$A$4:$E$193,5,FALSE) -> 75884.4 | O35: =M35+N35 -> 89554.5 | P35: =VLOOKUP(G35,[3]分布式发票数据!$A:$E,4,FALSE) -> 28565 | Q35: =VLOOKUP(G35,[3]分布式发票数据!$A:$E,5,FALSE) -> 10409.09 | R35: =VLOOKUP(G:G,[4]分布式发票数据!$A:$E,4,FALSE) -> 31534 | S35: =VLOOKUP(G:G,[4]分布式发票数据!$A:$E,5,FALSE) -> 11490.99 | T35: =VLOOKUP(G35,[5]分布式发票数据!$A$4:$E$193,4,FALSE) -> 39541 | U35: =VLOOKUP(G35,[5]分布式发票数据!$A$4:$E$193,5,FALSE) -> 14408.74 | V35: =VLOOKUP(G35,'[8]2023年4-6月'!$A$4:$E$193,5,FALSE) -> 61338.38 | W35: =U35+V35 -> 75747.12 | X35: =VLOOKUP(G35,[6]分布式发票数据!$A$4:$D$193,4,FALSE) -> 32146 | Y35: =VLOOKUP(G35,[6]分布式发票数据!$A$4:$E$193,5,FALSE) -> 11714 | Z35: =VLOOKUP(G35,[9]分布式发票数据!$A$4:$E$193,4,FALSE) -> 33684 | AA35: =VLOOKUP(G35,[9]分布式发票数据!$A$4:$E$193,5,FALSE) -> 12274.45 | AB35: =VLOOKUP(G35,[10]分布式发票数据!$A:$D,4,FALSE) -> 29700 | AC35: =VLOOKUP(G35,[10]分布式发票数据!$A:$E,5,FALSE) -> 10822.68 | AD35: =VLOOKUP(G35,[12]sheet1!$G:$S,13,FALSE) -> 36864 | AE35: =VLOOKUP(G35,[12]sheet1!$G:$X,18,FALSE) -> 13433.24 | AF35: =VLOOKUP(G35,[11]Sheet1!$B:$E,4,FALSE) -> 58808.27 | AG35: =AE35+AF35 -> 72241.51 | AH35: =VLOOKUP(G35,[13]Sheet1!$C$1:$H$65536,6,FALSE) -> 33329 | AI35: =VLOOKUP(G35,[13]Sheet1!$C$1:$I$65536,7,FALSE) -> 12145.09 | AJ35: =VLOOKUP(G35,[14]Sheet1!$E$1:$I$65536,5,FALSE) -> 20517.33 | AK35: =VLOOKUP(G35,[15]Sheet1!$E$1:$I$65536,5,FALSE) -> 22693.48 | AL35: =AJ35+AK35 -> 43210.81 | AM35: =AI35+AL35 -> 55355.9 | AN35: =VLOOKUP(G35,[16]分布式营销结算明细接收数据!$E:$K,7,FALSE) -> 29593 | AO35: =VLOOKUP(G35,[16]分布式营销结算明细接收数据!$E:$O,11,FALSE) -> 10783.69 | AP35: =VLOOKUP(G35,[16]分布式营销结算明细接收数据!$E:$R,14,FALSE) -> 18217.45 | AQ35: =AO35+AP35 -> 29001.14 | AR35: =AQ35+AM35+AG35+AC35+AA35+Y35+W35+S35+Q35+O35+K35+I35 -> 399240.43
A36: 31 | C36: 卸甲沟村级电站 | F36: 300 | G36: 0705699569 | H36: =VLOOKUP(G36,[1]分布式发票数据!$A:$D,4) -> 36824 | I36: =VLOOKUP(G36,[1]分布式发票数据!$A:$E,5,FALSE) -> 13418.67 | J36: =VLOOKUP(G36,[2]分布式发票数据!$A:$D,4,FALSE) -> 33275 | K36: =VLOOKUP(G36,[2]分布式发票数据!$A:$E,5,FALSE) -> 12125.41 | L36: 48899 | M36: 17818.8 | N36: =VLOOKUP(G36,'[7]2022年12月-2023年3月'!$A$4:$E$193,5,FALSE) -> 95103.42 | O36: =M36+N36 -> 112922.22 | P36: =VLOOKUP(G36,[3]分布式发票数据!$A:$E,4,FALSE) -> 37534 | Q36: =VLOOKUP(G36,[3]分布式发票数据!$A:$E,5,FALSE) -> 13677.39 | R36: =VLOOKUP(G:G,[4]分布式发票数据!$A:$E,4,FALSE) -> 40484 | S36: =VLOOKUP(G:G,[4]分布式发票数据!$A:$E,5,FALSE) -> 14752.37 | T36: =VLOOKUP(G36,[5]分布式发票数据!$A$4:$E$193,4,FALSE) -> 47390 | U36: =VLOOKUP(G36,[5]分布式发票数据!$A$4:$E$193,5,FALSE) -> 17268.92 | V36: =VLOOKUP(G36,'[8]2023年4-6月'!$A$4:$E$193,5,FALSE) -> 77201.16 | W36: =U36+V36 -> 94470.08 | X36: =VLOOKUP(G36,[6]分布式发票数据!$A$4:$D$193,4,FALSE) -> 37020 | Y36: =VLOOKUP(G36,[6]分布式发票数据!$A$4:$E$193,5,FALSE) -> 13490.09 | Z36: =VLOOKUP(G36,[9]分布式发票数据!$A$4:$E$193,4,FALSE) -> 35581 | AA36: =VLOOKUP(G36,[9]分布式发票数据!$A$4:$E$193,5,FALSE) -> 12965.72 | AB36: =VLOOKUP(G36,[10]分布式发票数据!$A:$D,4,FALSE) -> 31534 | AC36: =VLOOKUP(G36,[10]分布式发票数据!$A:$E,5,FALSE) -> 11490.99 | AD36: =VLOOKUP(G36,[12]sheet1!$G:$S,13,FALSE) -> 40198 | AE36: =VLOOKUP(G36,[12]sheet1!$G:$X,18,FALSE) -> 14648.15 | AF36: =VLOOKUP(G36,[11]Sheet1!$B:$E,4,FALSE) -> 64105.5 | AG36: =AE36+AF36 -> 78753.65 | AH36: =VLOOKUP(G36,[13]Sheet1!$C$1:$H$65536,6,FALSE) -> 27860 | AI36: =VLOOKUP(G36,[13]Sheet1!$C$1:$I$65536,7,FALSE) -> 10152.18 | AJ36: =VLOOKUP(G36,[14]Sheet1!$E$1:$I$65536,5,FALSE) -> 17150.62 | AK36: =VLOOKUP(G36,[15]Sheet1!$E$1:$I$65536,5,FALSE) -> 24745.89 | AL36: =AJ36+AK36 -> 41896.51 | AM36: =AI36+AL36 -> 52048.69 | AN36: =VLOOKUP(G36,[16]分布式营销结算明细接收数据!$E:$K,7,FALSE) -> 27005 | AO36: =VLOOKUP(G36,[16]分布式营销结算明细接收数据!$E:$O,11,FALSE) -> 9840.62 | AP36: =VLOOKUP(G36,[16]分布式营销结算明细接收数据!$E:$R,14,FALSE) -> 16624.28 | AQ36: =AO36+AP36 -> 26464.9 | AR36: =AQ36+AM36+AG36+AC36+AA36+Y36+W36+S36+Q36+O36+K36+I36 -> 456580.18
A37: 32 | B37: 金家井 | C37: 北坡底村级电站 | F37: 300 | G37: 0705126757 | H37: =VLOOKUP(G37,[1]分布式发票数据!$A:$D,4) -> 36725 | I37: =VLOOKUP(G37,[1]分布式发票数据!$A:$E,5,FALSE) -> 13382.59 | J37: =VLOOKUP(G37,[2]分布式发票数据!$A:$D,4,FALSE) -> 31753 | K37: =VLOOKUP(G37,[2]分布式发票数据!$A:$E,5,FALSE) -> 11570.79 | L37: 43120 | M37: 15712.93 | N37: =VLOOKUP(G37,'[7]2022年12月-2023年3月'!$A$4:$E$193,5,FALSE) -> 91183.9 | O37: =M37+N37 -> 106896.83 | P37: =VLOOKUP(G37,[3]分布式发票数据!$A:$E,4,FALSE) -> 33349 | Q37: =VLOOKUP(G37,[3]分布式发票数据!$A:$E,5,FALSE) -> 12152.38 | R37: =VLOOKUP(G:G,[4]分布式发票数据!$A:$E,4,FALSE) -> 38017 | S37: =VLOOKUP(G:G,[4]分布式发票数据!$A:$E,5,FALSE) -> 13853.39 | T37: =VLOOKUP(G37,[5]分布式发票数据!$A$4:$E$193,4,FALSE) -> 47120 | U37: =VLOOKUP(G37,[5]分布式发票数据!$A$4:$E$193,5,FALSE) -> 17170.53 | V37: =VLOOKUP(G37,'[8]2023年4-6月'!$A$4:$E$193,5,FALSE) -> 72939.98 | W37: =U37+V37 -> 90110.51 | X37: =VLOOKUP(G37,[6]分布式发票数据!$A$4:$D$193,4,FALSE) -> 39304 | Y37: =VLOOKUP(G37,[6]分布式发票数据!$A$4:$E$193,5,FALSE) -> 14322.38 | Z37: =VLOOKUP(G37,[9]分布式发票数据!$A$4:$E$193,4,FALSE) -> 41596 | AA37: =VLOOKUP(G37,[9]分布式发票数据!$A$4:$E$193,5,FALSE) -> 15157.58 | AB37: =VLOOKUP(G37,[10]分布式发票数据!$A:$D,4,FALSE) -> 35767 | AC37: =VLOOKUP(G37,[10]分布式发票数据!$A:$E,5,FALSE) -> 13033.49 | AD37: =VLOOKUP(G37,[12]sheet1!$G:$S,13,FALSE) -> 44125 | AE37: =VLOOKUP(G37,[12]sheet1!$G:$X,18,FALSE) -> 16079.15 | AF37: =VLOOKUP(G37,[11]Sheet1!$B:$E,4,FALSE) -> 71820.21 | AG37: =AE37+AF37 -> 87899.36 | AH37: =VLOOKUP(G37,[13]Sheet1!$C$1:$H$65536,6,FALSE) -> 38879 | AI37: =VLOOKUP(G37,[13]Sheet1!$C$1:$I$65536,7,FALSE) -> 14167.51 | AJ37: =VLOOKUP(G37,[14]Sheet1!$E$1:$I$65536,5,FALSE) -> 23933.91 | AK37: =VLOOKUP(G37,[15]Sheet1!$E$1:$I$65536,5,FALSE) -> 27163.35 | AL37: =AJ37+AK37 -> 51097.26 | AM37: =AI37+AL37 -> 65264.77 | AN37: =VLOOKUP(G37,[16]分布式营销结算明细接收数据!$E:$K,7,FALSE) -> 28604 | AO37: =VLOOKUP(G37,[16]分布式营销结算明细接收数据!$E:$O,11,FALSE) -> 10423.3 | AP37: =VLOOKUP(G37,[16]分布式营销结算明细接收数据!$E:$R,14,FALSE) -> 17608.62 | AQ37: =AO37+AP37 -> 28031.92 | AR37: =AQ37+AM37+AG37+AC37+AA37+Y37+W37+S37+Q37+O37+K37+I37 -> 471675.99
A38: 33 | C38: 上沟村 | D38: 上沟村联村电站 | E38: 420 | F38: 3850 | G38: 0723853929 | H38: =VLOOKUP(G38,[1]分布式发票数据!$A:$D,4) -> 42562 | I38: =VLOOKUP(G38,[1]分布式发票数据!$A:$E,5,FALSE) -> 15509.59 | J38: =VLOOKUP(G38,[2]分布式发票数据!$A:$D,4,FALSE) -> 37504 | K38: =VLOOKUP(G38,[2]分布式发票数据!$A:$E,5,FALSE) -> 13666.46 | L38: 50189 | M38: 18288.87 | N38: =VLOOKUP(G38,'[7]2022年12月-2023年3月'!$A$4:$E$193,5,FALSE) -> 84335.61 | O38: =M38+N38 -> 102624.48 | P38: =VLOOKUP(G38,[3]分布式发票数据!$A:$E,4,FALSE) -> 33026 | Q38: =VLOOKUP(G38,[3]分布式发票数据!$A:$E,5,FALSE) -> 12034.67 | R38: =VLOOKUP(G:G,[4]分布式发票数据!$A:$E,4,FALSE) -> 40284 | S38: =VLOOKUP(G:G,[4]分布式发票数据!$A:$E,5,FALSE) -> 14679.49 | T38: =VLOOKUP(G38,[5]分布式发票数据!$A$4:$E$193,4,FALSE) -> 48457 | U38: =VLOOKUP(G38,[5]分布式发票数据!$A$4:$E$193,5,FALSE) -> 17657.73 | V38: =VLOOKUP(G38,'[8]2023年4-6月'!$A$4:$E$193,5,FALSE) -> 59130.06 | W38: =U38+V38 -> 76787.79 | X38: =VLOOKUP(G38,[6]分布式发票数据!$A$4:$D$193,4,FALSE) -> 40556 | Y38: =VLOOKUP(G38,[6]分布式发票数据!$A$4:$E$193,5,FALSE) -> 14778.61 | Z38: =VLOOKUP(G38,[9]分布式发票数据!$A$4:$E$193,4,FALSE) -> 43481 | AA38: =VLOOKUP(G38,[9]分布式发票数据!$A$4:$E$193,5,FALSE) -> 15844.48 | AB38: =VLOOKUP(G38,[10]分布式发票数据!$A:$D,4,FALSE) -> 37883 | AC38: =VLOOKUP(G38,[10]分布式发票数据!$A:$E,5,FALSE) -> 13804.57 | AD38: =VLOOKUP(G38,[12]sheet1!$G:$S,13,FALSE) -> 47280 | AE38: =VLOOKUP(G38,[12]sheet1!$G:$X,18,FALSE) -> 17228.83 | AF38: =VLOOKUP(G38,[11]Sheet1!$B:$E,4,FALSE) -> 59204.34 | AG38: =AE38+AF38 -> 76433.17 | AH38: =VLOOKUP(G38,[13]Sheet1!$C$1:$H$65536,6,FALSE) -> 42504 | AI38: =VLOOKUP(G38,[13]Sheet1!$C$1:$I$65536,7,FALSE) -> 15488.46 | AJ38: =VLOOKUP(G38,[14]Sheet1!$E$1:$I$65536,5,FALSE) -> 20639.94 | AK38: =VLOOKUP(G38,[15]Sheet1!$E$1:$I$65536,5,FALSE) -> 22959.17 | AL38: =AJ38+AK38 -> 43599.11 | AM38: =AI38+AL38 -> 59087.57 | AN38: =VLOOKUP(G38,[16]分布式营销结算明细接收数据!$E:$K,7,FALSE) -> 32645 | AO38: =VLOOKUP(G38,[16]分布式营销结算明细接收数据!$E:$O,11,FALSE) -> 11895.84 | AP38: =VLOOKUP(G38,[16]分布式营销结算明细接收数据!$E:$R,14,FALSE) -> 15852.41 | AQ38: =AO38+AP38 -> 27748.25 | AR38: =AQ38+AM38+AG38+AC38+AA38+Y38+W38+S38+Q38+O38+K38+I38 -> 442999.13
A39: 34 | G39: 0723858083 | H39: =VLOOKUP(G39,[1]分布式发票数据!$A:$D,4) -> 41238 | I39: =VLOOKUP(G39,[1]分布式发票数据!$A:$E,5,FALSE) -> 15027.13 | J39: =VLOOKUP(G39,[2]分布式发票数据!$A:$D,4,FALSE) -> 37118 | K39: =VLOOKUP(G39,[2]分布式发票数据!$A:$E,5,FALSE) -> 13525.8 | L39: 49445 | M39: 18017.76 | N39: =VLOOKUP(G39,'[7]2022年12月-2023年3月'!$A$4:$E$193,5,FALSE) -> 82091.16 | O39: =M39+N39 -> 100108.92 | P39: =VLOOKUP(G39,[3]分布式发票数据!$A:$E,4,FALSE) -> 38617 | Q39: =VLOOKUP(G39,[3]分布式发票数据!$A:$E,5,FALSE) -> 14072.03 | R39: =VLOOKUP(G:G,[4]分布式发票数据!$A:$E,4,FALSE) -> 40604 | S39: =VLOOKUP(G:G,[4]分布式发票数据!$A:$E,5,FALSE) -> 14796.1 | T39: =VLOOKUP(G39,[5]分布式发票数据!$A$4:$E$193,4,FALSE) -> 48158 | U39: =VLOOKUP(G39,[5]分布式发票数据!$A$4:$E$193,5,FALSE) -> 17548.78 | V39: =VLOOKUP(G39,'[8]2023年4-6月'!$A$4:$E$193,5,FALSE) -> 61855.24 | W39: =U39+V39 -> 79404.02 | X39: =VLOOKUP(G39,[6]分布式发票数据!$A$4:$D$193,4,FALSE) -> 39930 | Y39: =VLOOKUP(G39,[6]分布式发票数据!$A$4:$E$193,5,FALSE) -> 14550.49 | Z39: =VLOOKUP(G39,[9]分布式发票数据!$A$4:$E$193,4,FALSE) -> 39071 | AA39: =VLOOKUP(G39,[9]分布式发票数据!$A$4:$E$193,5,FALSE) -> 14237.47 | AB39: =VLOOKUP(G39,[10]分布式发票数据!$A:$D,4,FALSE) -> 37258 | AC39: =VLOOKUP(G39,[10]分布式发票数据!$A:$E,5,FALSE) -> 13576.82 | AD39: =VLOOKUP(G39,[12]sheet1!$G:$S,13,FALSE) -> 46520 | AE39: =VLOOKUP(G39,[12]sheet1!$G:$X,18,FALSE) -> 16951.89 | AF39: =VLOOKUP(G39,[11]Sheet1!$B:$E,4,FALSE) -> 56455.37 | AG39: =AE39+AF39 -> 73407.26 | AH39: =VLOOKUP(G39,[13]Sheet1!$C$1:$H$65536,6,FALSE) -> 41164 | AI39: =VLOOKUP(G39,[13]Sheet1!$C$1:$I$65536,7,FALSE) -> 15000.16 | AJ39: =VLOOKUP(G39,[14]Sheet1!$E$1:$I$65536,5,FALSE) -> 19989.24 | AK39: =VLOOKUP(G39,[15]Sheet1!$E$1:$I$65536,5,FALSE) -> 22590.11 | AL39: =AJ39+AK39 -> 42579.35 | AM39: =AI39+AL39 -> 57579.51 | AN39: =VLOOKUP(G39,[16]分布式营销结算明细接收数据!$E:$K,7,FALSE) -> 33380 | AO39: =VLOOKUP(G39,[16]分布式营销结算明细接收数据!$E:$O,11,FALSE) -> 12163.67 | AP39: =VLOOKUP(G39,[16]分布式营销结算明细接收数据!$E:$R,14,FALSE) -> 16209.33 | AQ39: =AO39+AP39 -> 28373 | AR39: =AQ39+AM39+AG39+AC39+AA39+Y39+W39+S39+Q39+O39+K39+I39 -> 438658.55
A40: 35 | C40: 宋家庄村 | E40: 420 | G40: 0723880154 | H40: =VLOOKUP(G40,[1]分布式发票数据!$A:$D,4) -> 39038 | I40: =VLOOKUP(G40,[1]分布式发票数据!$A:$E,5,FALSE) -> 14225.45 | J40: =VLOOKUP(G40,[2]分布式发票数据!$A:$D,4,FALSE) -> 35580 | K40: =VLOOKUP(G40,[2]分布式发票数据!$A:$E,5,FALSE) -> 12965.35 | L40: 48577 | M40: 17701.46 | N40: =VLOOKUP(G40,'[7]2022年12月-2023年3月'!$A$4:$E$193,5,FALSE) -> 78720.13 | O40: =M40+N40 -> 96421.59 | P40: =VLOOKUP(G40,[3]分布式发票数据!$A:$E,4,FALSE) -> 35507 | Q40: =VLOOKUP(G40,[3]分布式发票数据!$A:$E,5,FALSE) -> 12938.75 | R40: =VLOOKUP(G:G,[4]分布式发票数据!$A:$E,4,FALSE) -> 39532 | S40: =VLOOKUP(G:G,[4]分布式发票数据!$A:$E,5,FALSE) -> 14405.46 | T40: =VLOOKUP(G40,[5]分布式发票数据!$A$4:$E$193,4,FALSE) -> 46046 | U40: =VLOOKUP(G40,[5]分布式发票数据!$A$4:$E$193,5,FALSE) -> 16779.16 | V40: =VLOOKUP(G40,'[8]2023年4-6月'!$A$4:$E$193,5,FALSE) -> 58798.88 | W40: =U40+V40 -> 75578.04 | X40: =VLOOKUP(G40,[6]分布式发票数据!$A$4:$D$193,4,FALSE) -> 38384 | Y40: =VLOOKUP(G40,[6]分布式发票数据!$A$4:$E$193,5,FALSE) -> 13987.13 | Z40: =VLOOKUP(G40,[9]分布式发票数据!$A$4:$E$193,4,FALSE) -> 32777 | AA40: =VLOOKUP(G40,[9]分布式发票数据!$A$4:$E$193,5,FALSE) -> 11943.94 | AB40: =VLOOKUP(G40,[10]分布式发票数据!$A:$D,4,FALSE) -> 35585 | AC40: =VLOOKUP(G40,[10]分布式发票数据!$A:$E,5,FALSE) -> 12967.17 | AD40: =VLOOKUP(G40,[12]sheet1!$G:$S,13,FALSE) -> 43004 | AE40: =VLOOKUP(G40,[12]sheet1!$G:$X,18,FALSE) -> 15670.66 | AF40: =VLOOKUP(G40,[11]Sheet1!$B:$E,4,FALSE) -> 51835.86 | AG40: =AE40+AF40 -> 67506.52 | AH40: =VLOOKUP(G40,[13]Sheet1!$C$1:$H$65536,6,FALSE) -> 37705 | AI40: =VLOOKUP(G40,[13]Sheet1!$C$1:$I$65536,7,FALSE) -> 13739.7 | AJ40: =VLOOKUP(G40,[14]Sheet1!$E$1:$I$65536,5,FALSE) -> 18309.55 | AK40: =VLOOKUP(G40,[15]Sheet1!$E$1:$I$65536,5,FALSE) -> 20882.74 | AL40: =AJ40+AK40 -> 39192.29 | AM40: =AI40+AL40 -> 52931.99 | AN40: =VLOOKUP(G40,[16]分布式营销结算明细接收数据!$E:$K,7,FALSE) -> 28188 | AO40: =VLOOKUP(G40,[16]分布式营销结算明细接收数据!$E:$O,11,FALSE) -> 10271.71 | AP40: =VLOOKUP(G40,[16]分布式营销结算明细接收数据!$E:$R,14,FALSE) -> 13688.09 | AQ40: =AO40+AP40 -> 23959.8 | AR40: =AQ40+AM40+AG40+AC40+AA40+Y40+W40+S40+Q40+O40+K40+I40 -> 409831.19
A41: 36 | G41: 0723886732 | H41: =VLOOKUP(G41,[1]分布式发票数据!$A:$D,4) -> 36841 | I41: =VLOOKUP(G41,[1]分布式发票数据!$A:$E,5,FALSE) -> 13424.86 | J41: =VLOOKUP(G41,[2]分布式发票数据!$A:$D,4,FALSE) -> 34643 | K41: =VLOOKUP(G41,[2]分布式发票数据!$A:$E,5,FALSE) -> 12623.91 | L41: 48575 | M41: 17700.73 | N41: =VLOOKUP(G41,'[7]2022年12月-2023年3月'!$A$4:$E$193,5,FALSE) -> 75963.86 | O41: =M41+N41 -> 93664.59 | P41: =VLOOKUP(G41,[3]分布式发票数据!$A:$E,4,FALSE) -> 37630 | Q41: =VLOOKUP(G41,[3]分布式发票数据!$A:$E,5,FALSE) -> 13712.37 | R41: =VLOOKUP(G:G,[4]分布式发票数据!$A:$E,4,FALSE) -> 40118 | S41: =VLOOKUP(G:G,[4]分布式发票数据!$A:$E,5,FALSE) -> 14619 | T41: =VLOOKUP(G41,[5]分布式发票数据!$A$4:$E$193,4,FALSE) -> 46135 | U41: =VLOOKUP(G41,[5]分布式发票数据!$A$4:$E$193,5,FALSE) -> 16811.59 | V41: =VLOOKUP(G41,'[8]2023年4-6月'!$A$4:$E$193,5,FALSE) -> 60157.59 | W41: =U41+V41 -> 76969.18 | X41: =VLOOKUP(G41,[6]分布式发票数据!$A$4:$D$193,4,FALSE) -> 39604 | Y41: =VLOOKUP(G41,[6]分布式发票数据!$A$4:$E$193,5,FALSE) -> 14431.7 | Z41: =VLOOKUP(G41,[9]分布式发票数据!$A$4:$E$193,4,FALSE) -> 42214 | AA41: =VLOOKUP(G41,[9]分布式发票数据!$A$4:$E$193,5,FALSE) -> 15382.78 | AB41: =VLOOKUP(G41,[10]分布式发票数据!$A:$D,4,FALSE) -> 36467 | AC41: =VLOOKUP(G41,[10]分布式发票数据!$A:$E,5,FALSE) -> 13288.57 | AD41: =VLOOKUP(G41,[12]sheet1!$G:$S,13,FALSE) -> 44734 | AE41: =VLOOKUP(G41,[12]sheet1!$G:$X,18,FALSE) -> 16301.07 | AF41: =VLOOKUP(G41,[11]Sheet1!$B:$E,4,FALSE) -> 57439.2 | AG41: =AE41+AF41 -> 73740.27 | AH41: =VLOOKUP(G41,[13]Sheet1!$C$1:$H$65536,6,FALSE) -> 37376 | AI41: =VLOOKUP(G41,[13]Sheet1!$C$1:$I$65536,7,FALSE) -> 13619.81 | AJ41: =VLOOKUP(G41,[14]Sheet1!$E$1:$I$65536,5,FALSE) -> 18149.79 | AK41: =VLOOKUP(G41,[15]Sheet1!$E$1:$I$65536,5,FALSE) -> 21722.83 | AL41: =AJ41+AK41 -> 39872.62 | AM41: =AI41+AL41 -> 53492.43 | AN41: =VLOOKUP(G41,[16]分布式营销结算明细接收数据!$E:$K,7,FALSE) -> 26507 | AO41: =VLOOKUP(G41,[16]分布式营销结算明细接收数据!$E:$O,11,FALSE) -> 9659.15 | AP41: =VLOOKUP(G41,[16]分布式营销结算明细接收数据!$E:$R,14,FALSE) -> 12871.8 | AQ41: =AO41+AP41 -> 22530.95 | AR41: =AQ41+AM41+AG41+AC41+AA41+Y41+W41+S41+Q41+O41+K41+I41 -> 417880.61
A42: 37 | C42: 亚家庄村 | E42: 420 | G42: 0723895163 | H42: =VLOOKUP(G42,[1]分布式发票数据!$A:$D,4) -> 38489 | I42: =VLOOKUP(G42,[1]分布式发票数据!$A:$E,5,FALSE) -> 14025.39 | J42: =VLOOKUP(G42,[2]分布式发票数据!$A:$D,4,FALSE) -> 36070 | K42: =VLOOKUP(G42,[2]分布式发票数据!$A:$E,5,FALSE) -> 13143.91 | L42: 49889 | M42: 18179.55 | N42: =VLOOKUP(G42,'[7]2022年12月-2023年3月'!$A$4:$E$193,5,FALSE) -> 78910.49 | O42: =M42+N42 -> 97090.04 | P42: =VLOOKUP(G42,[3]分布式发票数据!$A:$E,4,FALSE) -> 38500 | Q42: =VLOOKUP(G42,[3]分布式发票数据!$A:$E,5,FALSE) -> 14029.4 | R42: =VLOOKUP(G:G,[4]分布式发票数据!$A:$E,4,FALSE) -> 41178 | S42: =VLOOKUP(G:G,[4]分布式发票数据!$A:$E,5,FALSE) -> 15005.26 | T42: =VLOOKUP(G42,[5]分布式发票数据!$A$4:$E$193,4,FALSE) -> 47640 | U42: =VLOOKUP(G42,[5]分布式发票数据!$A$4:$E$193,5,FALSE) -> 17360.02 | V42: =VLOOKUP(G42,'[8]2023年4-6月'!$A$4:$E$193,5,FALSE) -> 61825.62 | W42: =U42+V42 -> 79185.64 | X42: =VLOOKUP(G42,[6]分布式发票数据!$A$4:$D$193,4,FALSE) -> 39906 | Y42: =VLOOKUP(G42,[6]分布式发票数据!$A$4:$E$193,5,FALSE) -> 14541.75 | Z42: =VLOOKUP(G42,[9]分布式发票数据!$A$4:$E$193,4,FALSE) -> 42499 | AA42: =VLOOKUP(G42,[9]分布式发票数据!$A$4:$E$193,5,FALSE) -> 15486.64 | AB42: =VLOOKUP(G42,[10]分布式发票数据!$A:$D,4,FALSE) -> 36688 | AC42: =VLOOKUP(G42,[10]分布式发票数据!$A:$E,5,FALSE) -> 13369.11 | AD42: =VLOOKUP(G42,[12]sheet1!$G:$S,13,FALSE) -> 45065 | AE42: =VLOOKUP(G42,[12]sheet1!$G:$X,18,FALSE) -> 16421.69 | AF42: =VLOOKUP(G42,[11]Sheet1!$B:$E,4,FALSE) -> 57831.55 | AG42: =AE42+AF42 -> 74253.24 | AH42: =VLOOKUP(G42,[13]Sheet1!$C$1:$H$65536,6,FALSE) -> 38381 | AI42: =VLOOKUP(G42,[13]Sheet1!$C$1:$I$65536,7,FALSE) -> 13986.04 | AJ42: =VLOOKUP(G42,[14]Sheet1!$E$1:$I$65536,5,FALSE) -> 18637.81 | AK42: =VLOOKUP(G42,[15]Sheet1!$E$1:$I$65536,5,FALSE) -> 21883.56 | AL42: =AJ42+AK42 -> 40521.37 | AM42: =AI42+AL42 -> 54507.41 | AN42: =VLOOKUP(G42,[16]分布式营销结算明细接收数据!$E:$K,7,FALSE) -> 27966 | AO42: =VLOOKUP(G42,[16]分布式营销结算明细接收数据!$E:$O,11,FALSE) -> 10190.81 | AP42: =VLOOKUP(G42,[16]分布式营销结算明细接收数据!$E:$R,14,FALSE) -> 13580.29 | AQ42: =AO42+AP42 -> 23771.1 | AR42: =AQ42+AM42+AG42+AC42+AA42+Y42+W42+S42+Q42+O42+K42+I42 -> 428408.89
A43: 38 | G43: 0723901569 | H43: =VLOOKUP(G43,[1]分布式发票数据!$A:$D,4) -> 39036 | I43: =VLOOKUP(G43,[1]分布式发票数据!$A:$E,5,FALSE) -> 14224.72 | J43: =VLOOKUP(G43,[2]分布式发票数据!$A:$D,4,FALSE) -> 35152 | K43: =VLOOKUP(G43,[2]分布式发票数据!$A:$E,5,FALSE) -> 12809.39 | L43: 44380 | M43: 16172.07 | N43: =VLOOKUP(G43,'[7]2022年12月-2023年3月'!$A$4:$E$193,5,FALSE) -> 76672.35 | O43: =M43+N43 -> 92844.42 | P43: =VLOOKUP(G43,[3]分布式发票数据!$A:$E,4,FALSE) -> 34822 | Q43: =VLOOKUP(G43,[3]分布式发票数据!$A:$E,5,FALSE) -> 12689.14 | R43: =VLOOKUP(G:G,[4]分布式发票数据!$A:$E,4,FALSE) -> 36138 | S43: =VLOOKUP(G:G,[4]分布式发票数据!$A:$E,5,FALSE) -> 13168.69 | T43: =VLOOKUP(G43,[5]分布式发票数据!$A$4:$E$193,4,FALSE) -> 45734 | U43: =VLOOKUP(G43,[5]分布式发票数据!$A$4:$E$193,5,FALSE) -> 16665.47 | V43: =VLOOKUP(G43,'[8]2023年4-6月'!$A$4:$E$193,5,FALSE) -> 56666.6 | W43: =U43+V43 -> 73332.07 | X43: =VLOOKUP(G43,[6]分布式发票数据!$A$4:$D$193,4,FALSE) -> 35370 | Y43: =VLOOKUP(G43,[6]分布式发票数据!$A$4:$E$193,5,FALSE) -> 12888.83 | Z43: =VLOOKUP(G43,[9]分布式发票数据!$A$4:$E$193,4,FALSE) -> 42804 | AA43: =VLOOKUP(G43,[9]分布式发票数据!$A$4:$E$193,5,FALSE) -> 15597.78 | AB43: =VLOOKUP(G43,[10]分布式发票数据!$A:$D,4,FALSE) -> 36610 | AC43: =VLOOKUP(G43,[10]分布式发票数据!$A:$E,5,FALSE) -> 13340.68 | AD43: =VLOOKUP(G43,[12]sheet1!$G:$S,13,FALSE) -> 44556 | AE43: =VLOOKUP(G43,[12]sheet1!$G:$X,18,FALSE) -> 16236.21 | AF43: =VLOOKUP(G43,[11]Sheet1!$B:$E,4,FALSE) -> 55739.11 | AG43: =AE43+AF43 -> 71975.32 | AH43: =VLOOKUP(G43,[13]Sheet1!$C$1:$H$65536,6,FALSE) -> 38726 | AI43: =VLOOKUP(G43,[13]Sheet1!$C$1:$I$65536,7,FALSE) -> 14111.75 | AJ43: =VLOOKUP(G43,[14]Sheet1!$E$1:$I$65536,5,FALSE) -> 18805.35 | AK43: =VLOOKUP(G43,[15]Sheet1!$E$1:$I$65536,5,FALSE) -> 21636.39 | AL43: =AJ43+AK43 -> 40441.74 | AM43: =AI43+AL43 -> 54553.49 | AN43: =VLOOKUP(G43,[16]分布式营销结算明细接收数据!$E:$K,7,FALSE) -> 28106 | AO43: =VLOOKUP(G43,[16]分布式营销结算明细接收数据!$E:$O,11,FALSE) -> 10241.83 | AP43: =VLOOKUP(G43,[16]分布式营销结算明细接收数据!$E:$R,14,FALSE) -> 13648.27 | AQ43: =AO43+AP43 -> 23890.1 | AR43: =AQ43+AM43+AG43+AC43+AA43+Y43+W43+S43+Q43+O43+K43+I43 -> 411314.63
A44: 39 | C44: 朱家庄村 | E44: 420 | G44: 0723904047 | H44: =VLOOKUP(G44,[1]分布式发票数据!$A:$D,4) -> 38311 | I44: =VLOOKUP(G44,[1]分布式发票数据!$A:$E,5,FALSE) -> 13960.53 | J44: =VLOOKUP(G44,[2]分布式发票数据!$A:$D,4,FALSE) -> 37121 | K44: =VLOOKUP(G44,[2]分布式发票数据!$A:$E,5,FALSE) -> 13526.89 | L44: 50390 | M44: 18362.12 | N44: =VLOOKUP(G44,'[7]2022年12月-2023年3月'!$A$4:$E$193,5,FALSE) -> 80372.14 | O44: =M44+N44 -> 98734.26 | P44: =VLOOKUP(G44,[3]分布式发票数据!$A:$E,4,FALSE) -> 38928 | Q44: =VLOOKUP(G44,[3]分布式发票数据!$A:$E,5,FALSE) -> 14185.36 | R44: =VLOOKUP(G:G,[4]分布式发票数据!$A:$E,4,FALSE) -> 41410 | S44: =VLOOKUP(G:G,[4]分布式发票数据!$A:$E,5,FALSE) -> 15089.8 | T44: =VLOOKUP(G44,[5]分布式发票数据!$A$4:$E$193,4,FALSE) -> 47809 | U44: =VLOOKUP(G44,[5]分布式发票数据!$A$4:$E$193,5,FALSE) -> 17421.6 | V44: =VLOOKUP(G44,'[8]2023年4-6月'!$A$4:$E$193,5,FALSE) -> 62228.19 | W44: =U44+V44 -> 79649.79 | X44: =VLOOKUP(G44,[6]分布式发票数据!$A$4:$D$193,4,FALSE) -> 39947 | Y44: =VLOOKUP(G44,[6]分布式发票数据!$A$4:$E$193,5,FALSE) -> 14556.69 | Z44: =VLOOKUP(G44,[9]分布式发票数据!$A$4:$E$193,4,FALSE) -> 42838 | AA44: =VLOOKUP(G44,[9]分布式发票数据!$A$4:$E$193,5,FALSE) -> 15610.17 | AB44: =VLOOKUP(G44,[10]分布式发票数据!$A:$D,4,FALSE) -> 36619 | AC44: =VLOOKUP(G44,[10]分布式发票数据!$A:$E,5,FALSE) -> 13343.96 | AD44: =VLOOKUP(G44,[12]sheet1!$G:$S,13,FALSE) -> 45541 | AE44: =VLOOKUP(G44,[12]sheet1!$G:$X,18,FALSE) -> 16595.14 | AF44: =VLOOKUP(G44,[11]Sheet1!$B:$E,4,FALSE) -> 57982.58 | AG44: =AE44+AF44 -> 74577.72 | AH44: =VLOOKUP(G44,[13]Sheet1!$C$1:$H$65536,6,FALSE) -> 40667 | AI44: =VLOOKUP(G44,[13]Sheet1!$C$1:$I$65536,7,FALSE) -> 14819.05 | AJ44: =VLOOKUP(G44,[14]Sheet1!$E$1:$I$65536,5,FALSE) -> 19747.9 | AK44: =VLOOKUP(G44,[15]Sheet1!$E$1:$I$65536,5,FALSE) -> 22114.71 | AL44: =AJ44+AK44 -> 41862.61 | AM44: =AI44+AL44 -> 56681.66 | AN44: =VLOOKUP(G44,[16]分布式营销结算明细接收数据!$E:$K,7,FALSE) -> 30109 | AO44: =VLOOKUP(G44,[16]分布式营销结算明细接收数据!$E:$O,11,FALSE) -> 10971.72 | AP44: =VLOOKUP(G44,[16]分布式营销结算明细接收数据!$E:$R,14,FALSE) -> 14620.93 | AQ44: =AO44+AP44 -> 25592.65 | AR44: =AQ44+AM44+AG44+AC44+AA44+Y44+W44+S44+Q44+O44+K44+I44 -> 435509.48
A45: 40 | G45: 0723906551 | H45: =VLOOKUP(G45,[1]分布式发票数据!$A:$D,4) -> 43499 | I45: =VLOOKUP(G45,[1]分布式发票数据!$A:$E,5,FALSE) -> 15851.04 | J45: =VLOOKUP(G45,[2]分布式发票数据!$A:$D,4,FALSE) -> 36380 | K45: =VLOOKUP(G45,[2]分布式发票数据!$A:$E,5,FALSE) -> 13256.87 | L45: 52074 | M45: 18975.77 | N45: =VLOOKUP(G45,'[7]2022年12月-2023年3月'!$A$4:$E$193,5,FALSE) -> 85467.54 | O45: =M45+N45 -> 104443.31 | P45: =VLOOKUP(G45,[3]分布式发票数据!$A:$E,4,FALSE) -> 39664 | Q45: =VLOOKUP(G45,[3]分布式发票数据!$A:$E,5,FALSE) -> 14453.56 | R45: =VLOOKUP(G:G,[4]分布式发票数据!$A:$E,4,FALSE) -> 44147 | S45: =VLOOKUP(G:G,[4]分布式发票数据!$A:$E,5,FALSE) -> 16087.17 | T45: =VLOOKUP(G45,[5]分布式发票数据!$A$4:$E$193,4,FALSE) -> 44608 | U45: =VLOOKUP(G45,[5]分布式发票数据!$A$4:$E$193,5,FALSE) -> 16255.16 | V45: =VLOOKUP(G45,'[8]2023年4-6月'!$A$4:$E$193,5,FALSE) -> 62360.26 | W45: =U45+V45 -> 78615.42 | X45: =VLOOKUP(G45,[6]分布式发票数据!$A$4:$D$193,4,FALSE) -> 18262 | Y45: =VLOOKUP(G45,[6]分布式发票数据!$A$4:$E$193,5,FALSE) -> 6654.67 | Z45: =VLOOKUP(G45,[9]分布式发票数据!$A$4:$E$193,4,FALSE) -> 37717 | AA45: =VLOOKUP(G45,[9]分布式发票数据!$A$4:$E$193,5,FALSE) -> 13744.07 | AB45: =VLOOKUP(G45,[10]分布式发票数据!$A:$D,4,FALSE) -> 38590 | AC45: =VLOOKUP(G45,[10]分布式发票数据!$A:$E,5,FALSE) -> 14062.2 | AD45: =VLOOKUP(G45,[12]sheet1!$G:$S,13,FALSE) -> 49510 | AE45: =VLOOKUP(G45,[12]sheet1!$G:$X,18,FALSE) -> 18041.44 | AF45: =VLOOKUP(G45,[11]Sheet1!$B:$E,4,FALSE) -> 45922.71 | AG45: =AE45+AF45 -> 63964.15 | AH45: =VLOOKUP(G45,[13]Sheet1!$C$1:$H$65536,6,FALSE) -> 43810 | AI45: =VLOOKUP(G45,[13]Sheet1!$C$1:$I$65536,7,FALSE) -> 15964.36 | AJ45: =VLOOKUP(G45,[14]Sheet1!$E$1:$I$65536,5,FALSE) -> 21274.14 | AK45: =VLOOKUP(G45,[15]Sheet1!$E$1:$I$65536,5,FALSE) -> 24042.06 | AL45: =AJ45+AK45 -> 45316.2 | AM45: =AI45+AL45 -> 61280.56 | AN45: =VLOOKUP(G45,[16]分布式营销结算明细接收数据!$E:$K,7,FALSE) -> 30509 | AO45: =VLOOKUP(G45,[16]分布式营销结算明细接收数据!$E:$O,11,FALSE) -> 11117.48 | AP45: =VLOOKUP(G45,[16]分布式营销结算明细接收数据!$E:$R,14,FALSE) -> 14815.17 | AQ45: =AO45+AP45 -> 25932.65 | AR45: =AQ45+AM45+AG45+AC45+AA45+Y45+W45+S45+Q45+O45+K45+I45 -> 428345.67
A46: 41 | C46: 黄台院村 | E46: 420 | G46: 0723906782 | H46: =VLOOKUP(G46,[1]分布式发票数据!$A:$D,4) -> 15709 | I46: =VLOOKUP(G46,[1]分布式发票数据!$A:$E,5,FALSE) -> 5724.36 | J46: =VLOOKUP(G46,[2]分布式发票数据!$A:$D,4,FALSE) -> 16210 | K46: =VLOOKUP(G46,[2]分布式发票数据!$A:$E,5,FALSE) -> 5906.92 | L46: 23251 | M46: 8472.66 | N46: =VLOOKUP(G46,'[7]2022年12月-2023年3月'!$A$4:$E$193,5,FALSE) -> 33922.57 | O46: =M46+N46 -> 42395.23 | P46: =VLOOKUP(G46,[3]分布式发票数据!$A:$E,4,FALSE) -> 18641 | Q46: =VLOOKUP(G46,[3]分布式发票数据!$A:$E,5,FALSE) -> 6792.78 | R46: =VLOOKUP(G:G,[4]分布式发票数据!$A:$E,4,FALSE) -> 19823 | S46: =VLOOKUP(G:G,[4]分布式发票数据!$A:$E,5,FALSE) -> 7223.5 | T46: =VLOOKUP(G46,[5]分布式发票数据!$A$4:$E$193,4,FALSE) -> 22899 | U46: =VLOOKUP(G46,[5]分布式发票数据!$A$4:$E$193,5,FALSE) -> 8344.4 | V46: =VLOOKUP(G46,'[8]2023年4-6月'!$A$4:$E$193,5,FALSE) -> 29797.87 | W46: =U46+V46 -> 38142.27 | X46: =VLOOKUP(G46,[6]分布式发票数据!$A$4:$D$193,4,FALSE) -> 19070 | Y46: =VLOOKUP(G46,[6]分布式发票数据!$A$4:$E$193,5,FALSE) -> 6949.11 | Z46: =VLOOKUP(G46,[9]分布式发票数据!$A$4:$E$193,4,FALSE) -> 20101 | AA46: =VLOOKUP(G46,[9]分布式发票数据!$A$4:$E$193,5,FALSE) -> 7324.8 | AB46: =VLOOKUP(G46,[10]分布式发票数据!$A:$D,4,FALSE) -> 17030 | AC46: =VLOOKUP(G46,[10]分布式发票数据!$A:$E,5,FALSE) -> 6205.73 | AD46: =VLOOKUP(G46,[12]sheet1!$G:$S,13,FALSE) -> 16020 | AE46: =VLOOKUP(G46,[12]sheet1!$G:$X,18,FALSE) -> 5837.69 | AF46: =VLOOKUP(G46,[11]Sheet1!$B:$E,4,FALSE) -> 27291.21 | AG46: =AE46+AF46 -> 33128.9 | AH46: =VLOOKUP(G46,[13]Sheet1!$C$1:$H$65536,6,FALSE) -> 16151 | AI46: =VLOOKUP(G46,[13]Sheet1!$C$1:$I$65536,7,FALSE) -> 5885.42 | AJ46: =VLOOKUP(G46,[14]Sheet1!$E$1:$I$65536,5,FALSE) -> 7842.93 | AK46: =VLOOKUP(G46,[15]Sheet1!$E$1:$I$65536,5,FALSE) -> 7779.31 | AL46: =AJ46+AK46 -> 15622.24 | AM46: =AI46+AL46 -> 21507.66 | AN46: =VLOOKUP(G46,[16]分布式营销结算明细接收数据!$E:$K,7,FALSE) -> 9061 | AO46: =VLOOKUP(G46,[16]分布式营销结算明细接收数据!$E:$O,11,FALSE) -> 3301.83 | AP46: =VLOOKUP(G46,[16]分布式营销结算明细接收数据!$E:$R,14,FALSE) -> 4400.02 | AQ46: =AO46+AP46 -> 7701.85 | AR46: =AQ46+AM46+AG46+AC46+AA46+Y46+W46+S46+Q46+O46+K46+I46 -> 189003.11
A47: 42 | C47: 祁家沟村 | E47: 427 | G47: 0723907394 | H47: =VLOOKUP(G47,[1]分布式发票数据!$A:$D,4) -> 17275 | I47: =VLOOKUP(G47,[1]分布式发票数据!$A:$E,5,FALSE) -> 6295.01 | J47: =VLOOKUP(G47,[2]分布式发票数据!$A:$D,4,FALSE) -> 15007 | K47: =VLOOKUP(G47,[2]分布式发票数据!$A:$E,5,FALSE) -> 5468.55 | L47: 20272 | M47: 7387.12 | N47: =VLOOKUP(G47,'[7]2022年12月-2023年3月'!$A$4:$E$193,5,FALSE) -> 34104.17 | O47: =M47+N47 -> 41491.29 | P47: =VLOOKUP(G47,[3]分布式发票数据!$A:$E,4,FALSE) -> 15512 | Q47: =VLOOKUP(G47,[3]分布式发票数据!$A:$E,5,FALSE) -> 5652.57 | R47: =VLOOKUP(G:G,[4]分布式发票数据!$A:$E,4,FALSE) -> 17071 | S47: =VLOOKUP(G:G,[4]分布式发票数据!$A:$E,5,FALSE) -> 6220.67 | T47: =VLOOKUP(G47,[5]分布式发票数据!$A$4:$E$193,4,FALSE) -> 19124 | U47: =VLOOKUP(G47,[5]分布式发票数据!$A$4:$E$193,5,FALSE) -> 6968.79 | V47: =VLOOKUP(G47,'[8]2023年4-6月'!$A$4:$E$193,5,FALSE) -> 25108.92 | W47: =U47+V47 -> 32077.71 | X47: =VLOOKUP(G47,[6]分布式发票数据!$A$4:$D$193,4,FALSE) -> 16246 | Y47: =VLOOKUP(G47,[6]分布式发票数据!$A$4:$E$193,5,FALSE) -> 5920.04 | Z47: =VLOOKUP(G47,[9]分布式发票数据!$A$4:$E$193,4,FALSE) -> 17340 | AA47: =VLOOKUP(G47,[9]分布式发票数据!$A$4:$E$193,5,FALSE) -> 6318.7 | AB47: =VLOOKUP(G47,[10]分布式发票数据!$A:$D,4,FALSE) -> 14942 | AC47: =VLOOKUP(G47,[10]分布式发票数据!$A:$E,5,FALSE) -> 5444.86 | AD47: =VLOOKUP(G47,[12]sheet1!$G:$S,13,FALSE) -> 18992 | AE47: =VLOOKUP(G47,[12]sheet1!$G:$X,18,FALSE) -> 6920.68 | AF47: =VLOOKUP(G47,[11]Sheet1!$B:$E,4,FALSE) -> 23565.2 | AG47: =AE47+AF47 -> 30485.88 | AH47: =VLOOKUP(G47,[13]Sheet1!$C$1:$H$65536,6,FALSE) -> 17536 | AI47: =VLOOKUP(G47,[13]Sheet1!$C$1:$I$65536,7,FALSE) -> 6390.12 | AJ47: =VLOOKUP(G47,[14]Sheet1!$E$1:$I$65536,5,FALSE) -> 8515.48 | AK47: =VLOOKUP(G47,[15]Sheet1!$E$1:$I$65536,5,FALSE) -> 9222.52 | AL47: =AJ47+AK47 -> 17738 | AM47: =AI47+AL47 -> 24128.12 | AN47: =VLOOKUP(G47,[16]分布式营销结算明细接收数据!$E:$K,7,FALSE) -> 12230 | AO47: =VLOOKUP(G47,[16]分布式营销结算明细接收数据!$E:$O,11,FALSE) -> 4456.61 | AP47: =VLOOKUP(G47,[16]分布式营销结算明细接收数据!$E:$R,14,FALSE) -> 5938.89 | AQ47: =AO47+AP47 -> 10395.5 | AR47: =AQ47+AM47+AG47+AC47+AA47+Y47+W47+S47+Q47+O47+K47+I47 -> 179898.9
A48: 43 | C48: 草厂村 | E48: 483 | G48: 0724068065 | H48: =VLOOKUP(G48,[1]分布式发票数据!$A:$D,4) -> 44734 | I48: =VLOOKUP(G48,[1]分布式发票数据!$A:$E,5,FALSE) -> 16301.07 | J48: =VLOOKUP(G48,[2]分布式发票数据!$A:$D,4,FALSE) -> 39287 | K48: =VLOOKUP(G48,[2]分布式发票数据!$A:$E,5,FALSE) -> 14316.18 | L48: 51599 | M48: 18802.68 | N48: =VLOOKUP(G48,'[7]2022年12月-2023年3月'!$A$4:$E$193,5,FALSE) -> 87951.87 | O48: =M48+N48 -> 106754.55 | P48: =VLOOKUP(G48,[3]分布式发票数据!$A:$E,4,FALSE) -> 40261 | Q48: =VLOOKUP(G48,[3]分布式发票数据!$A:$E,5,FALSE) -> 14671.11 | R48: =VLOOKUP(G:G,[4]分布式发票数据!$A:$E,4,FALSE) -> 44186 | S48: =VLOOKUP(G:G,[4]分布式发票数据!$A:$E,5,FALSE) -> 16101.38 | T48: =VLOOKUP(G48,[5]分布式发票数据!$A$4:$E$193,4,FALSE) -> 48402 | U48: =VLOOKUP(G48,[5]分布式发票数据!$A$4:$E$193,5,FALSE) -> 17637.69 | V48: =VLOOKUP(G48,'[8]2023年4-6月'!$A$4:$E$193,5,FALSE) -> 64511.47 | W48: =U48+V48 -> 82149.16 | X48: =VLOOKUP(G48,[6]分布式发票数据!$A$4:$D$193,4,FALSE) -> 42296 | Y48: =VLOOKUP(G48,[6]分布式发票数据!$A$4:$E$193,5,FALSE) -> 15412.66 | Z48: =VLOOKUP(G48,[9]分布式发票数据!$A$4:$E$193,4,FALSE) -> 45078 | AA48: =VLOOKUP(G48,[9]分布式发票数据!$A$4:$E$193,5,FALSE) -> 16426.42 | AB48: =VLOOKUP(G48,[10]分布式发票数据!$A:$D,4,FALSE) -> 39608 | AC48: =VLOOKUP(G48,[10]分布式发票数据!$A:$E,5,FALSE) -> 14433.16 | AD48: =VLOOKUP(G48,[12]sheet1!$G:$S,13,FALSE) -> 50299 | AE48: =VLOOKUP(G48,[12]sheet1!$G:$X,18,FALSE) -> 18328.96 | AF48: =VLOOKUP(G48,[11]Sheet1!$B:$E,4,FALSE) -> 61662.46 | AG48: =AE48+AF48 -> 79991.42 | AH48: =VLOOKUP(G48,[13]Sheet1!$C$1:$H$65536,6,FALSE) -> 44701 | AI48: =VLOOKUP(G48,[13]Sheet1!$C$1:$I$65536,7,FALSE) -> 16289.04 | AJ48: =VLOOKUP(G48,[14]Sheet1!$E$1:$I$65536,5,FALSE) -> 21706.81 | AK48: =VLOOKUP(G48,[15]Sheet1!$E$1:$I$65536,5,FALSE) -> 24425.19 | AL48: =AJ48+AK48 -> 46132 | AM48: =AI48+AL48 -> 62421.04 | AN48: =VLOOKUP(G48,[16]分布式营销结算明细接收数据!$E:$K,7,FALSE) -> 34732 | AO48: =VLOOKUP(G48,[16]分布式营销结算明细接收数据!$E:$O,11,FALSE) -> 12656.34 | AP48: =VLOOKUP(G48,[16]分布式营销结算明细接收数据!$E:$R,14,FALSE) -> 16865.86 | AQ48: =AO48+AP48 -> 29522.2 | AR48: =AQ48+AM48+AG48+AC48+AA48+Y48+W48+S48+Q48+O48+K48+I48 -> 468500.35
A49: 44 | C49: 大草滩村 | E49: 420 | G49: 0724606915 | H49: =VLOOKUP(G49,[1]分布式发票数据!$A:$D,4) -> 41357 | I49: =VLOOKUP(G49,[1]分布式发票数据!$A:$E,5,FALSE) -> 15070.49 | J49: =VLOOKUP(G49,[2]分布式发票数据!$A:$D,4,FALSE) -> 36942 | K49: =VLOOKUP(G49,[2]分布式发票数据!$A:$E,5,FALSE) -> 13461.66 | L49: 50167 | M49: 18280.85 | N49: =VLOOKUP(G49,'[7]2022年12月-2023年3月'!$A$4:$E$193,5,FALSE) -> 82597.17 | O49: =M49+N49 -> 100878.02 | P49: =VLOOKUP(G49,[3]分布式发票数据!$A:$E,4,FALSE) -> 37152 | Q49: =VLOOKUP(G49,[3]分布式发票数据!$A:$E,5,FALSE) -> 13538.19 | R49: =VLOOKUP(G:G,[4]分布式发票数据!$A:$E,4,FALSE) -> 39682 | S49: =VLOOKUP(G:G,[4]分布式发票数据!$A:$E,5,FALSE) -> 14460.12 | T49: =VLOOKUP(G49,[5]分布式发票数据!$A$4:$E$193,4,FALSE) -> 47000 | U49: =VLOOKUP(G49,[5]分布式发票数据!$A$4:$E$193,5,FALSE) -> 17126.8 | V49: =VLOOKUP(G49,'[8]2023年4-6月'!$A$4:$E$193,5,FALSE) -> 60133.79 | W49: =U49+V49 -> 77260.59 | X49: =VLOOKUP(G49,[6]分布式发票数据!$A$4:$D$193,4,FALSE) -> 39410 | Y49: =VLOOKUP(G49,[6]分布式发票数据!$A$4:$E$193,5,FALSE) -> 14361 | Z49: =VLOOKUP(G49,[9]分布式发票数据!$A$4:$E$193,4,FALSE) -> 42352 | AA49: =VLOOKUP(G49,[9]分布式发票数据!$A$4:$E$193,5,FALSE) -> 15433.07 | AB49: =VLOOKUP(G49,[10]分布式发票数据!$A:$D,4,FALSE) -> 37075 | AC49: =VLOOKUP(G49,[10]分布式发票数据!$A:$E,5,FALSE) -> 13510.13 | AD49: =VLOOKUP(G49,[12]sheet1!$G:$S,13,FALSE) -> 46428 | AE49: =VLOOKUP(G49,[12]sheet1!$G:$X,18,FALSE) -> 16918.36 | AF49: =VLOOKUP(G49,[11]Sheet1!$B:$E,4,FALSE) -> 57707.25 | AG49: =AE49+AF49 -> 74625.61 | AH49: =VLOOKUP(G49,[13]Sheet1!$C$1:$H$65536,6,FALSE) -> 40616 | AI49: =VLOOKUP(G49,[13]Sheet1!$C$1:$I$65536,7,FALSE) -> 14800.47 | AJ49: =VLOOKUP(G49,[14]Sheet1!$E$1:$I$65536,5,FALSE) -> 19723.13 | AK49: =VLOOKUP(G49,[15]Sheet1!$E$1:$I$65536,5,FALSE) -> 22545.44 | AL49: =AJ49+AK49 -> 42268.57 | AM49: =AI49+AL49 -> 57069.04 | AN49: =VLOOKUP(G49,[16]分布式营销结算明细接收数据!$E:$K,7,FALSE) -> 31514 | AO49: =VLOOKUP(G49,[16]分布式营销结算明细接收数据!$E:$O,11,FALSE) -> 11483.7 | AP49: =VLOOKUP(G49,[16]分布式营销结算明细接收数据!$E:$R,14,FALSE) -> 15303.2 | AQ49: =AO49+AP49 -> 26786.9 | AR49: =AQ49+AM49+AG49+AC49+AA49+Y49+W49+S49+Q49+O49+K49+I49 -> 436454.82
A50: 45 | C50: 东龙虎村 | E50: 420 | G50: 0724889888 | H50: =VLOOKUP(G50,[1]分布式发票数据!$A:$D,4) -> 41705 | I50: =VLOOKUP(G50,[1]分布式发票数据!$A:$E,5,FALSE) -> 15197.3 | J50: =VLOOKUP(G50,[2]分布式发票数据!$A:$D,4,FALSE) -> 37175 | K50: =VLOOKUP(G50,[2]分布式发票数据!$A:$E,5,FALSE) -> 13546.57 | L50: 49726 | M50: 18120.15 | N50: =VLOOKUP(G50,'[7]2022年12月-2023年3月'!$A$4:$E$193,5,FALSE) -> 82616.11 | O50: =M50+N50 -> 100736.26 | P50: =VLOOKUP(G50,[3]分布式发票数据!$A:$E,4,FALSE) -> 38544 | Q50: =VLOOKUP(G50,[3]分布式发票数据!$A:$E,5,FALSE) -> 14045.43 | R50: =VLOOKUP(G:G,[4]分布式发票数据!$A:$E,4,FALSE) -> 39881 | S50: =VLOOKUP(G:G,[4]分布式发票数据!$A:$E,5,FALSE) -> 14532.64 | T50: =VLOOKUP(G50,[5]分布式发票数据!$A$4:$E$193,4,FALSE) -> 46100 | U50: =VLOOKUP(G50,[5]分布式发票数据!$A$4:$E$193,5,FALSE) -> 16798.84 | V50: =VLOOKUP(G50,'[8]2023年4-6月'!$A$4:$E$193,5,FALSE) -> 60469.34 | W50: =U50+V50 -> 77268.18 | X50: =VLOOKUP(G50,[6]分布式发票数据!$A$4:$D$193,4,FALSE) -> 39815 | Y50: =VLOOKUP(G50,[6]分布式发票数据!$A$4:$E$193,5,FALSE) -> 14508.59 | Z50: =VLOOKUP(G50,[9]分布式发票数据!$A$4:$E$193,4,FALSE) -> 42672 | AA50: =VLOOKUP(G50,[9]分布式发票数据!$A$4:$E$193,5,FALSE) -> 15549.68 | AB50: =VLOOKUP(G50,[10]分布式发票数据!$A:$D,4,FALSE) -> 37477 | AC50: =VLOOKUP(G50,[10]分布式发票数据!$A:$E,5,FALSE) -> 13656.62 | AD50: =VLOOKUP(G50,[12]sheet1!$G:$S,13,FALSE) -> 46603 | AE50: =VLOOKUP(G50,[12]sheet1!$G:$X,18,FALSE) -> 16982.13 | AF50: =VLOOKUP(G50,[11]Sheet1!$B:$E,4,FALSE) -> 58254.51 | AG50: =AE50+AF50 -> 75236.64 | AH50: =VLOOKUP(G50,[13]Sheet1!$C$1:$H$65536,6,FALSE) -> 41718 | AI50: =VLOOKUP(G50,[13]Sheet1!$C$1:$I$65536,7,FALSE) -> 15202.04 | AJ50: =VLOOKUP(G50,[14]Sheet1!$E$1:$I$65536,5,FALSE) -> 20258.26 | AK50: =VLOOKUP(G50,[15]Sheet1!$E$1:$I$65536,5,FALSE) -> 22630.42 | AL50: =AJ50+AK50 -> 42888.68 | AM50: =AI50+AL50 -> 58090.72 | AN50: =VLOOKUP(G50,[16]分布式营销结算明细接收数据!$E:$K,7,FALSE) -> 33862 | AO50: =VLOOKUP(G50,[16]分布式营销结算明细接收数据!$E:$O,11,FALSE) -> 12339.31 | AP50: =VLOOKUP(G50,[16]分布式营销结算明细接收数据!$E:$R,14,FALSE) -> 16443.39 | AQ50: =AO50+AP50 -> 28782.7 | AR50: =AQ50+AM50+AG50+AC50+AA50+Y50+W50+S50+Q50+O50+K50+I50 -> 441151.33
A51: 46 | C51: 北黄土岭 | F51: 399 | G51: 0724764660 | H51: =VLOOKUP(G51,[1]分布式发票数据!$A:$D,4) -> 47968 | I51: =VLOOKUP(G51,[1]分布式发票数据!$A:$E,5,FALSE) -> 17479.54 | J51: =VLOOKUP(G51,[2]分布式发票数据!$A:$D,4,FALSE) -> 40168 | K51: =VLOOKUP(G51,[2]分布式发票数据!$A:$E,5,FALSE) -> 14637.22 | L51: 55804 | M51: 20334.98 | N51: =VLOOKUP(G51,'[7]2022年12月-2023年3月'!$A$4:$E$193,5,FALSE) -> 91716.72 | O51: =M51+N51 -> 112051.7 | P51: =VLOOKUP(G51,[3]分布式发票数据!$A:$E,4,FALSE) -> 42211 | Q51: =VLOOKUP(G51,[3]分布式发票数据!$A:$E,5,FALSE) -> 15381.69 | R51: =VLOOKUP(G:G,[4]分布式发票数据!$A:$E,4,FALSE) -> 46550 | S51: =VLOOKUP(G:G,[4]分布式发票数据!$A:$E,5,FALSE) -> 16962.82 | T51: =VLOOKUP(G51,[5]分布式发票数据!$A$4:$E$193,4,FALSE) -> 50135 | U51: =VLOOKUP(G51,[5]分布式发票数据!$A$4:$E$193,5,FALSE) -> 18269.19 | V51: =VLOOKUP(G51,'[8]2023年4-6月'!$A$4:$E$193,5,FALSE) -> 67447.9 | W51: =U51+V51 -> 85717.09 | X51: =VLOOKUP(G51,[6]分布式发票数据!$A$4:$D$193,4,FALSE) -> 43476 | Y51: =VLOOKUP(G51,[6]分布式发票数据!$A$4:$E$193,5,FALSE) -> 15842.65 | Z51: =VLOOKUP(G51,[9]分布式发票数据!$A$4:$E$193,4,FALSE) -> 45194 | AA51: =VLOOKUP(G51,[9]分布式发票数据!$A$4:$E$193,5,FALSE) -> 16468.69 | AB51: =VLOOKUP(G51,[10]分布式发票数据!$A:$D,4,FALSE) -> 40404 | AC51: =VLOOKUP(G51,[10]分布式发票数据!$A:$E,5,FALSE) -> 14723.22 | AD51: =VLOOKUP(G51,[12]sheet1!$G:$S,13,FALSE) -> 51562 | AE51: =VLOOKUP(G51,[12]sheet1!$G:$X,18,FALSE) -> 18789.19 | AF51: =VLOOKUP(G51,[11]Sheet1!$B:$E,4,FALSE) -> 62678.34 | AG51: =AE51+AF51 -> 81467.53 | AH51: =VLOOKUP(G51,[13]Sheet1!$C$1:$H$65536,6,FALSE) -> 46369 | AI51: =VLOOKUP(G51,[13]Sheet1!$C$1:$I$65536,7,FALSE) -> 16896.86 | AJ51: =VLOOKUP(G51,[14]Sheet1!$E$1:$I$65536,5,FALSE) -> 22516.79 | AK51: =VLOOKUP(G51,[15]Sheet1!$E$1:$I$65536,5,FALSE) -> 25038.51 | AL51: =AJ51+AK51 -> 47555.3 | AM51: =AI51+AL51 -> 64452.16 | AN51: =VLOOKUP(G51,[16]分布式营销结算明细接收数据!$E:$K,7,FALSE) -> 40189 | AO51: =VLOOKUP(G51,[16]分布式营销结算明细接收数据!$E:$O,11,FALSE) -> 14644.87 | AP51: =VLOOKUP(G51,[16]分布式营销结算明细接收数据!$E:$R,14,FALSE) -> 19515.78 | AQ51: =AO51+AP51 -> 34160.65 | AR51: =AQ51+AM51+AG51+AC51+AA51+Y51+W51+S51+Q51+O51+K51+I51 -> 489344.96
A52: 47 | G52: 0725133465 | H52: =VLOOKUP(G52,[1]分布式发票数据!$A:$D,4) -> 7474 | I52: =VLOOKUP(G52,[1]分布式发票数据!$A:$E,5,FALSE) -> 2723.53 | J52: =VLOOKUP(G52,[2]分布式发票数据!$A:$D,4,FALSE) -> 5818 | K52: =VLOOKUP(G52,[2]分布式发票数据!$A:$E,5,FALSE) -> 2120.08 | L52: 8143 | M52: 2967.31 | N52: =VLOOKUP(G52,'[7]2022年12月-2023年3月'!$A$4:$E$193,5,FALSE) -> 14016.35 | O52: =M52+N52 -> 16983.66 | P52: =VLOOKUP(G52,[3]分布式发票数据!$A:$E,4,FALSE) -> 5233 | Q52: =VLOOKUP(G52,[3]分布式发票数据!$A:$E,5,FALSE) -> 1906.91 | R52: =VLOOKUP(G:G,[4]分布式发票数据!$A:$E,4,FALSE) -> 5882 | S52: =VLOOKUP(G:G,[4]分布式发票数据!$A:$E,5,FALSE) -> 2143.4 | T52: =VLOOKUP(G52,[5]分布式发票数据!$A$4:$E$193,4,FALSE) -> 6566 | U52: =VLOOKUP(G52,[5]分布式发票数据!$A$4:$E$193,5,FALSE) -> 2392.65 | V52: =VLOOKUP(G52,'[8]2023年4-6月'!$A$4:$E$193,5,FALSE) -> 8585.89 | W52: =U52+V52 -> 10978.54 | X52: =VLOOKUP(G52,[6]分布式发票数据!$A$4:$D$193,4,FALSE) -> 5509 | Y52: =VLOOKUP(G52,[6]分布式发票数据!$A$4:$E$193,5,FALSE) -> 2007.48 | Z52: =VLOOKUP(G52,[9]分布式发票数据!$A$4:$E$193,4,FALSE) -> 5720 | AA52: =VLOOKUP(G52,[9]分布式发票数据!$A$4:$E$193,5,FALSE) -> 2084.37 | AB52: =VLOOKUP(G52,[10]分布式发票数据!$A:$D,4,FALSE) -> 5090 | AC52: =VLOOKUP(G52,[10]分布式发票数据!$A:$E,5,FALSE) -> 1854.8 | AD52: =VLOOKUP(G52,[12]sheet1!$G:$S,13,FALSE) -> 6479 | AE52: =VLOOKUP(G52,[12]sheet1!$G:$X,18,FALSE) -> 2360.95 | AF52: =VLOOKUP(G52,[11]Sheet1!$B:$E,4,FALSE) -> 7924.5 | AG52: =AE52+AF52 -> 10285.45 | AH52: =VLOOKUP(G52,[13]Sheet1!$C$1:$H$65536,6,FALSE) -> 5777 | AI52: =VLOOKUP(G52,[13]Sheet1!$C$1:$I$65536,7,FALSE) -> 2105.14 | AJ52: =VLOOKUP(G52,[14]Sheet1!$E$1:$I$65536,5,FALSE) -> 2805.31 | AK52: =VLOOKUP(G52,[15]Sheet1!$E$1:$I$65536,5,FALSE) -> 3146.2 | AL52: =AJ52+AK52 -> 5951.51 | AM52: =AI52+AL52 -> 8056.65 | AN52: =VLOOKUP(G52,[16]分布式营销结算明细接收数据!$E:$K,7,FALSE) -> 4805 | AO52: =VLOOKUP(G52,[16]分布式营销结算明细接收数据!$E:$O,11,FALSE) -> 1750.94 | AP52: =VLOOKUP(G52,[16]分布式营销结算明细接收数据!$E:$R,14,FALSE) -> 2333.31 | AQ52: =AO52+AP52 -> 4084.25 | AR52: =AQ52+AM52+AG52+AC52+AA52+Y52+W52+S52+Q52+O52+K52+I52 -> 65229.12
A53: 48 | C53: 梁家庄村 | D53: 梁家庄村联村电站（梁家庄地块1，调减161千瓦） | E53: 420 | F53: 2408 | G53: 0724712425 | H53: =VLOOKUP(G53,[1]分布式发票数据!$A:$D,4) -> 20141 | I53: =VLOOKUP(G53,[1]分布式发票数据!$A:$E,5,FALSE) -> 7339.38 | J53: =VLOOKUP(G53,[2]分布式发票数据!$A:$D,4,FALSE) -> 17406 | K53: =VLOOKUP(G53,[2]分布式发票数据!$A:$E,5,FALSE) -> 6342.75 | L53: 24252 | M53: 8837.43 | N53: =VLOOKUP(G53,'[7]2022年12月-2023年3月'!$A$4:$E$193,5,FALSE) -> 39890.09 | O53: =M53+N53 -> 48727.52 | P53: =VLOOKUP(G53,[3]分布式发票数据!$A:$E,4,FALSE) -> 18137 | Q53: =VLOOKUP(G53,[3]分布式发票数据!$A:$E,5,FALSE) -> 6609.12 | R53: =VLOOKUP(G:G,[4]分布式发票数据!$A:$E,4,FALSE) -> 19621 | S53: =VLOOKUP(G:G,[4]分布式发票数据!$A:$E,5,FALSE) -> 7149.89 | T53: =VLOOKUP(G53,[5]分布式发票数据!$A$4:$E$193,4,FALSE) -> 22490 | U53: =VLOOKUP(G53,[5]分布式发票数据!$A$4:$E$193,5,FALSE) -> 8195.36 | V53: =VLOOKUP(G53,'[8]2023年4-6月'!$A$4:$E$193,5,FALSE) -> 29256.43 | W53: =U53+V53 -> 37451.79 | X53: =VLOOKUP(G53,[6]分布式发票数据!$A$4:$D$193,4,FALSE) -> 19448 | Y53: =VLOOKUP(G53,[6]分布式发票数据!$A$4:$E$193,5,FALSE) -> 7086.85 | Z53: =VLOOKUP(G53,[9]分布式发票数据!$A$4:$E$193,4,FALSE) -> 18672 | AA53: =VLOOKUP(G53,[9]分布式发票数据!$A$4:$E$193,5,FALSE) -> 6804.08 | AB53: =VLOOKUP(G53,[10]分布式发票数据!$A:$D,4,FALSE) -> 18102 | AC53: =VLOOKUP(G53,[10]分布式发票数据!$A:$E,5,FALSE) -> 6596.37 | AD53: =VLOOKUP(G53,[12]sheet1!$G:$S,13,FALSE) -> 22111 | AE53: =VLOOKUP(G53,[12]sheet1!$G:$X,18,FALSE) -> 8057.25 | AF53: =VLOOKUP(G53,[11]Sheet1!$B:$E,4,FALSE) -> 27301.4 | AG53: =AE53+AF53 -> 35358.65 | AH53: =VLOOKUP(G53,[13]Sheet1!$C$1:$H$65536,6,FALSE) -> 20034 | AI53: =VLOOKUP(G53,[13]Sheet1!$C$1:$I$65536,7,FALSE) -> 7300.39 | AJ53: =VLOOKUP(G53,[14]Sheet1!$E$1:$I$65536,5,FALSE) -> 9728.51 | AK53: =VLOOKUP(G53,[15]Sheet1!$E$1:$I$65536,5,FALSE) -> 10737.1 | AL53: =AJ53+AK53 -> 20465.61 | AM53: =AI53+AL53 -> 27766 | AN53: =VLOOKUP(G53,[16]分布式营销结算明细接收数据!$E:$K,7,FALSE) -> 14838 | AO53: =VLOOKUP(G53,[16]分布式营销结算明细接收数据!$E:$O,11,FALSE) -> 5406.97 | AP53: =VLOOKUP(G53,[16]分布式营销结算明细接收数据!$E:$R,14,FALSE) -> 7205.33 | AQ53: =AO53+AP53 -> 12612.3 | AR53: =AQ53+AM53+AG53+AC53+AA53+Y53+W53+S53+Q53+O53+K53+I53 -> 209844.7
A54: 49 | G54: 0724712496 | H54: =VLOOKUP(G54,[1]分布式发票数据!$A:$D,4) -> 42956 | I54: =VLOOKUP(G54,[1]分布式发票数据!$A:$E,5,FALSE) -> 15653.17 | J54: =VLOOKUP(G54,[2]分布式发票数据!$A:$D,4,FALSE) -> 36434 | K54: =VLOOKUP(G54,[2]分布式发票数据!$A:$E,5,FALSE) -> 13276.55 | L54: 48794 | M54: 17780.53 | N54: =VLOOKUP(G54,'[7]2022年12月-2023年3月'!$A$4:$E$193,5,FALSE) -> 83328.96 | O54: =M54+N54 -> 101109.49 | P54: =VLOOKUP(G54,[3]分布式发票数据!$A:$E,4,FALSE) -> 28918 | Q54: =VLOOKUP(G54,[3]分布式发票数据!$A:$E,5,FALSE) -> 10537.72 | R54: =VLOOKUP(G:G,[4]分布式发票数据!$A:$E,4,FALSE) -> 41197 | S54: =VLOOKUP(G:G,[4]分布式发票数据!$A:$E,5,FALSE) -> 15012.19 | T54: =VLOOKUP(G54,[5]分布式发票数据!$A$4:$E$193,4,FALSE) -> 48144 | U54: =VLOOKUP(G54,[5]分布式发票数据!$A$4:$E$193,5,FALSE) -> 17543.67 | V54: =VLOOKUP(G54,'[8]2023年4-6月'!$A$4:$E$193,5,FALSE) -> 57426.57 | W54: =U54+V54 -> 74970.24 | X54: =VLOOKUP(G54,[6]分布式发票数据!$A$4:$D$193,4,FALSE) -> 42419 | Y54: =VLOOKUP(G54,[6]分布式发票数据!$A$4:$E$193,5,FALSE) -> 15457.48 | Z54: =VLOOKUP(G54,[9]分布式发票数据!$A$4:$E$193,4,FALSE) -> 40337 | AA54: =VLOOKUP(G54,[9]分布式发票数据!$A$4:$E$193,5,FALSE) -> 14698.8 | AB54: =VLOOKUP(G54,[10]分布式发票数据!$A:$D,4,FALSE) -> 38874 | AC54: =VLOOKUP(G54,[10]分布式发票数据!$A:$E,5,FALSE) -> 14165.69 | AD54: =VLOOKUP(G54,[12]sheet1!$G:$S,13,FALSE) -> 47242 | AE54: =VLOOKUP(G54,[12]sheet1!$G:$X,18,FALSE) -> 17214.98 | AF54: =VLOOKUP(G54,[11]Sheet1!$B:$E,4,FALSE) -> 59063.53 | AG54: =AE54+AF54 -> 76278.51 | AH54: =VLOOKUP(G54,[13]Sheet1!$C$1:$H$65536,6,FALSE) -> 43393 | AI54: =VLOOKUP(G54,[13]Sheet1!$C$1:$I$65536,7,FALSE) -> 15812.41 | AJ54: =VLOOKUP(G54,[14]Sheet1!$E$1:$I$65536,5,FALSE) -> 21071.64 | AK54: =VLOOKUP(G54,[15]Sheet1!$E$1:$I$65536,5,FALSE) -> 22940.72 | AL54: =AJ54+AK54 -> 44012.36 | AM54: =AI54+AL54 -> 59824.77 | AN54: =VLOOKUP(G54,[16]分布式营销结算明细接收数据!$E:$K,7,FALSE) -> 30329 | AO54: =VLOOKUP(G54,[16]分布式营销结算明细接收数据!$E:$O,11,FALSE) -> 11051.89 | AP54: =VLOOKUP(G54,[16]分布式营销结算明细接收数据!$E:$R,14,FALSE) -> 14727.76 | AQ54: =AO54+AP54 -> 25779.65 | AR54: =AQ54+AM54+AG54+AC54+AA54+Y54+W54+S54+Q54+O54+K54+I54 -> 436764.26
A55: 50 | C55: 孙家泉村 | E55: 441 | G55: 0724717358 | H55: =VLOOKUP(G55,[1]分布式发票数据!$A:$D,4) -> 42648 | I55: =VLOOKUP(G55,[1]分布式发票数据!$A:$E,5,FALSE) -> 15540.93 | J55: =VLOOKUP(G55,[2]分布式发票数据!$A:$D,4,FALSE) -> 37696 | K55: =VLOOKUP(G55,[2]分布式发票数据!$A:$E,5,FALSE) -> 13736.42 | L55: 52091 | M55: 18981.96 | N55: =VLOOKUP(G55,'[7]2022年12月-2023年3月'!$A$4:$E$193,5,FALSE) -> 85173.76 | O55: =M55+N55 -> 104155.72 | P55: =VLOOKUP(G55,[3]分布式发票数据!$A:$E,4,FALSE) -> 39458 | Q55: =VLOOKUP(G55,[3]分布式发票数据!$A:$E,5,FALSE) -> 14378.5 | R55: =VLOOKUP(G:G,[4]分布式发票数据!$A:$E,4,FALSE) -> 42631 | S55: =VLOOKUP(G:G,[4]分布式发票数据!$A:$E,5,FALSE) -> 15534.74 | T55: =VLOOKUP(G55,[5]分布式发票数据!$A$4:$E$193,4,FALSE) -> 49098 | U55: =VLOOKUP(G55,[5]分布式发票数据!$A$4:$E$193,5,FALSE) -> 17891.31 | V55: =VLOOKUP(G55,'[8]2023年4-6月'!$A$4:$E$193,5,FALSE) -> 63704.4 | W55: =U55+V55 -> 81595.71 | X55: =VLOOKUP(G55,[6]分布式发票数据!$A$4:$D$193,4,FALSE) -> 42295 | Y55: =VLOOKUP(G55,[6]分布式发票数据!$A$4:$E$193,5,FALSE) -> 15412.3 | Z55: =VLOOKUP(G55,[9]分布式发票数据!$A$4:$E$193,4,FALSE) -> 40067 | AA55: =VLOOKUP(G55,[9]分布式发票数据!$A$4:$E$193,5,FALSE) -> 14600.41 | AB55: =VLOOKUP(G55,[10]分布式发票数据!$A:$D,4,FALSE) -> 39070 | AC55: =VLOOKUP(G55,[10]分布式发票数据!$A:$E,5,FALSE) -> 14237.11 | AD55: =VLOOKUP(G55,[12]sheet1!$G:$S,13,FALSE) -> 47332 | AE55: =VLOOKUP(G55,[12]sheet1!$G:$X,18,FALSE) -> 17247.78 | AF55: =VLOOKUP(G55,[11]Sheet1!$B:$E,4,FALSE) -> 58967.38 | AG55: =AE55+AF55 -> 76215.16 | AH55: =VLOOKUP(G55,[13]Sheet1!$C$1:$H$65536,6,FALSE) -> 41917 | AI55: =VLOOKUP(G55,[13]Sheet1!$C$1:$I$65536,7,FALSE) -> 15274.55 | AJ55: =VLOOKUP(G55,[14]Sheet1!$E$1:$I$65536,5,FALSE) -> 20354.9 | AK55: =VLOOKUP(G55,[15]Sheet1!$E$1:$I$65536,5,FALSE) -> 22984.42 | AL55: =AJ55+AK55 -> 43339.32 | AM55: =AI55+AL55 -> 58613.87 | AN55: =VLOOKUP(G55,[16]分布式营销结算明细接收数据!$E:$K,7,FALSE) -> 28231 | AO55: =VLOOKUP(G55,[16]分布式营销结算明细接收数据!$E:$O,11,FALSE) -> 10287.38 | AP55: =VLOOKUP(G55,[16]分布式营销结算明细接收数据!$E:$R,14,FALSE) -> 13708.97 | AQ55: =AO55+AP55 -> 23996.35 | AR55: =AQ55+AM55+AG55+AC55+AA55+Y55+W55+S55+Q55+O55+K55+I55 -> 448017.22
A56: 51 | C56: 双坨村 | E56: 434 | G56: 0724719787 | H56: =VLOOKUP(G56,[1]分布式发票数据!$A:$D,4) -> 42964 | I56: =VLOOKUP(G56,[1]分布式发票数据!$A:$E,5,FALSE) -> 15656.08 | J56: =VLOOKUP(G56,[2]分布式发票数据!$A:$D,4,FALSE) -> 37391 | K56: =VLOOKUP(G56,[2]分布式发票数据!$A:$E,5,FALSE) -> 13625.28 | L56: 50899 | M56: 18547.6 | N56: =VLOOKUP(G56,'[7]2022年12月-2023年3月'!$A$4:$E$193,5,FALSE) -> 84948.92 | O56: =M56+N56 -> 103496.52 | P56: =VLOOKUP(G56,[3]分布式发票数据!$A:$E,4,FALSE) -> 38861 | Q56: =VLOOKUP(G56,[3]分布式发票数据!$A:$E,5,FALSE) -> 14160.95 | R56: =VLOOKUP(G:G,[4]分布式发票数据!$A:$E,4,FALSE) -> 42379 | S56: =VLOOKUP(G:G,[4]分布式发票数据!$A:$E,5,FALSE) -> 15442.91 | T56: =VLOOKUP(G56,[5]分布式发票数据!$A$4:$E$193,4,FALSE) -> 48310 | U56: =VLOOKUP(G56,[5]分布式发票数据!$A$4:$E$193,5,FALSE) -> 17604.16 | V56: =VLOOKUP(G56,'[8]2023年4-6月'!$A$4:$E$193,5,FALSE) -> 62909.48 | W56: =U56+V56 -> 80513.64 | X56: =VLOOKUP(G56,[6]分布式发票数据!$A$4:$D$193,4,FALSE) -> 41822 | Y56: =VLOOKUP(G56,[6]分布式发票数据!$A$4:$E$193,5,FALSE) -> 15239.94 | Z56: =VLOOKUP(G56,[9]分布式发票数据!$A$4:$E$193,4,FALSE) -> 40330 | AA56: =VLOOKUP(G56,[9]分布式发票数据!$A$4:$E$193,5,FALSE) -> 14696.25 | AB56: =VLOOKUP(G56,[10]分布式发票数据!$A:$D,4,FALSE) -> 38876 | AC56: =VLOOKUP(G56,[10]分布式发票数据!$A:$E,5,FALSE) -> 14166.41 | AD56: =VLOOKUP(G56,[12]sheet1!$G:$S,13,FALSE) -> 47580 | AE56: =VLOOKUP(G56,[12]sheet1!$G:$X,18,FALSE) -> 17338.15 | AF56: =VLOOKUP(G56,[11]Sheet1!$B:$E,4,FALSE) -> 58771.2 | AG56: =AE56+AF56 -> 76109.35 | AH56: =VLOOKUP(G56,[13]Sheet1!$C$1:$H$65536,6,FALSE) -> 42811 | AI56: =VLOOKUP(G56,[13]Sheet1!$C$1:$I$65536,7,FALSE) -> 15600.33 | AJ56: =VLOOKUP(G56,[14]Sheet1!$E$1:$I$65536,5,FALSE) -> 20789.02 | AK56: =VLOOKUP(G56,[15]Sheet1!$E$1:$I$65536,5,FALSE) -> 23104.85 | AL56: =AJ56+AK56 -> 43893.87 | AM56: =AI56+AL56 -> 59494.2 | AN56: =VLOOKUP(G56,[16]分布式营销结算明细接收数据!$E:$K,7,FALSE) -> 33208 | AO56: =VLOOKUP(G56,[16]分布式营销结算明细接收数据!$E:$O,11,FALSE) -> 12101 | AP56: =VLOOKUP(G56,[16]分布式营销结算明细接收数据!$E:$R,14,FALSE) -> 16125.8 | AQ56: =AO56+AP56 -> 28226.8 | AR56: =AQ56+AM56+AG56+AC56+AA56+Y56+W56+S56+Q56+O56+K56+I56 -> 450828.33
A57: 52 | C57: 东刘家庄 | E57: 840 | G57: 0724720433 | H57: =VLOOKUP(G57,[1]分布式发票数据!$A:$D,4) -> 45443 | I57: =VLOOKUP(G57,[1]分布式发票数据!$A:$E,5,FALSE) -> 16559.43 | J57: =VLOOKUP(G57,[2]分布式发票数据!$A:$D,4,FALSE) -> 39218 | K57: =VLOOKUP(G57,[2]分布式发票数据!$A:$E,5,FALSE) -> 14291.04 | L57: 53834 | M57: 19617.11 | N57: =VLOOKUP(G57,'[7]2022年12月-2023年3月'!$A$4:$E$193,5,FALSE) -> 89745.68 | O57: =M57+N57 -> 109362.79 | P57: =VLOOKUP(G57,[3]分布式发票数据!$A:$E,4,FALSE) -> 40183 | Q57: =VLOOKUP(G57,[3]分布式发票数据!$A:$E,5,FALSE) -> 14642.69 | R57: =VLOOKUP(G:G,[4]分布式发票数据!$A:$E,4,FALSE) -> 43447 | S57: =VLOOKUP(G:G,[4]分布式发票数据!$A:$E,5,FALSE) -> 15832.09 | T57: =VLOOKUP(G57,[5]分布式发票数据!$A$4:$E$193,4,FALSE) -> 49788 | U57: =VLOOKUP(G57,[5]分布式发票数据!$A$4:$E$193,5,FALSE) -> 18142.75 | V57: =VLOOKUP(G57,'[8]2023年4-6月'!$A$4:$E$193,5,FALSE) -> 64787.77 | W57: =U57+V57 -> 82930.52 | X57: =VLOOKUP(G57,[6]分布式发票数据!$A$4:$D$193,4,FALSE) -> 43177 | Y57: =VLOOKUP(G57,[6]分布式发票数据!$A$4:$E$193,5,FALSE) -> 15733.7 | Z57: =VLOOKUP(G57,[9]分布式发票数据!$A$4:$E$193,4,FALSE) -> 41714 | AA57: =VLOOKUP(G57,[9]分布式发票数据!$A$4:$E$193,5,FALSE) -> 15200.58 | AB57: =VLOOKUP(G57,[10]分布式发票数据!$A:$D,4,FALSE) -> 40288 | AC57: =VLOOKUP(G57,[10]分布式发票数据!$A:$E,5,FALSE) -> 14680.95 | AD57: =VLOOKUP(G57,[12]sheet1!$G:$S,13,FALSE) -> 49712 | AE57: =VLOOKUP(G57,[12]sheet1!$G:$X,18,FALSE) -> 18115.05 | AF57: =VLOOKUP(G57,[11]Sheet1!$B:$E,4,FALSE) -> 60786.92 | AG57: =AE57+AF57 -> 78901.97 | AH57: =VLOOKUP(G57,[13]Sheet1!$C$1:$H$65536,6,FALSE) -> 45096 | AI57: =VLOOKUP(G57,[13]Sheet1!$C$1:$I$65536,7,FALSE) -> 16432.98 | AJ57: =VLOOKUP(G57,[14]Sheet1!$E$1:$I$65536,5,FALSE) -> 21898.62 | AK57: =VLOOKUP(G57,[15]Sheet1!$E$1:$I$65536,5,FALSE) -> 24140.15 | AL57: =AJ57+AK57 -> 46038.77 | AM57: =AI57+AL57 -> 62471.75 | AN57: =VLOOKUP(G57,[16]分布式营销结算明细接收数据!$E:$K,7,FALSE) -> 37156 | AO57: =VLOOKUP(G57,[16]分布式营销结算明细接收数据!$E:$O,11,FALSE) -> 13539.65 | AP57: =VLOOKUP(G57,[16]分布式营销结算明细接收数据!$E:$R,14,FALSE) -> 18042.95 | AQ57: =AO57+AP57 -> 31582.6 | AR57: =AQ57+AM57+AG57+AC57+AA57+Y57+W57+S57+Q57+O57+K57+I57 -> 472190.11
A58: 53 | C58: 五十亩地 | G58: 0724737174 | H58: =VLOOKUP(G58,[1]分布式发票数据!$A:$D,4) -> 42443 | I58: =VLOOKUP(G58,[1]分布式发票数据!$A:$E,5,FALSE) -> 15466.23 | J58: =VLOOKUP(G58,[2]分布式发票数据!$A:$D,4,FALSE) -> 37456 | K58: =VLOOKUP(G58,[2]分布式发票数据!$A:$E,5,FALSE) -> 13648.97 | L58: 51593 | M58: 18800.49 | N58: =VLOOKUP(G58,'[7]2022年12月-2023年3月'!$A$4:$E$193,5,FALSE) -> 84572.09 | O58: =M58+N58 -> 103372.58 | P58: =VLOOKUP(G58,[3]分布式发票数据!$A:$E,4,FALSE) -> 38634 | Q58: =VLOOKUP(G58,[3]分布式发票数据!$A:$E,5,FALSE) -> 14078.23 | R58: =VLOOKUP(G:G,[4]分布式发票数据!$A:$E,4,FALSE) -> 41948 | S58: =VLOOKUP(G:G,[4]分布式发票数据!$A:$E,5,FALSE) -> 15285.85 | T58: =VLOOKUP(G58,[5]分布式发票数据!$A$4:$E$193,4,FALSE) -> 48030 | U58: =VLOOKUP(G58,[5]分布式发票数据!$A$4:$E$193,5,FALSE) -> 17502.13 | V58: =VLOOKUP(G58,'[8]2023年4-6月'!$A$4:$E$193,5,FALSE) -> 62453.99 | W58: =U58+V58 -> 79956.12 | X58: =VLOOKUP(G58,[6]分布式发票数据!$A$4:$D$193,4,FALSE) -> 41516 | Y58: =VLOOKUP(G58,[6]分布式发票数据!$A$4:$E$193,5,FALSE) -> 15128.43 | Z58: =VLOOKUP(G58,[9]分布式发票数据!$A$4:$E$193,4,FALSE) -> 39856 | AA58: =VLOOKUP(G58,[9]分布式发票数据!$A$4:$E$193,5,FALSE) -> 14523.53 | AB58: =VLOOKUP(G58,[10]分布式发票数据!$A:$D,4,FALSE) -> 38518 | AC58: =VLOOKUP(G58,[10]分布式发票数据!$A:$E,5,FALSE) -> 14035.96 | AD58: =VLOOKUP(G58,[12]sheet1!$G:$S,13,FALSE) -> 47038 | AE58: =VLOOKUP(G58,[12]sheet1!$G:$X,18,FALSE) -> 17140.65 | AF58: =VLOOKUP(G58,[11]Sheet1!$B:$E,4,FALSE) -> 58218.58 | AG58: =AE58+AF58 -> 75359.23 | AH58: =VLOOKUP(G58,[13]Sheet1!$C$1:$H$65536,6,FALSE) -> 41947 | AI58: =VLOOKUP(G58,[13]Sheet1!$C$1:$I$65536,7,FALSE) -> 15285.49 | AJ58: =VLOOKUP(G58,[14]Sheet1!$E$1:$I$65536,5,FALSE) -> 20369.46 | AK58: =VLOOKUP(G58,[15]Sheet1!$E$1:$I$65536,5,FALSE) -> 22841.65 | AL58: =AJ58+AK58 -> 43211.11 | AM58: =AI58+AL58 -> 58496.6 | AN58: =VLOOKUP(G58,[16]分布式营销结算明细接收数据!$E:$K,7,FALSE) -> 33574 | AO58: =VLOOKUP(G58,[16]分布式营销结算明细接收数据!$E:$O,11,FALSE) -> 12234.37 | AP58: =VLOOKUP(G58,[16]分布式营销结算明细接收数据!$E:$R,14,FALSE) -> 16303.53 | AQ58: =AO58+AP58 -> 28537.9 | AR58: =AQ58+AM58+AG58+AC58+AA58+Y58+W58+S58+Q58+O58+K58+I58 -> 447889.63
A59: 54 | C59: 冷铺 | E59: 434 | G59: 0724763029 | H59: =VLOOKUP(G59,[1]分布式发票数据!$A:$D,4) -> 42920 | I59: =VLOOKUP(G59,[1]分布式发票数据!$A:$E,5,FALSE) -> 15640.05 | J59: =VLOOKUP(G59,[2]分布式发票数据!$A:$D,4,FALSE) -> 37975 | K59: =VLOOKUP(G59,[2]分布式发票数据!$A:$E,5,FALSE) -> 13838.09 | L59: 52376 | M59: 19085.81 | N59: =VLOOKUP(G59,'[7]2022年12月-2023年3月'!$A$4:$E$193,5,FALSE) -> 85613.71 | O59: =M59+N59 -> 104699.52 | P59: =VLOOKUP(G59,[3]分布式发票数据!$A:$E,4,FALSE) -> 39467 | Q59: =VLOOKUP(G59,[3]分布式发票数据!$A:$E,5,FALSE) -> 14381.77 | R59: =VLOOKUP(G:G,[4]分布式发票数据!$A:$E,4,FALSE) -> 42661 | S59: =VLOOKUP(G:G,[4]分布式发票数据!$A:$E,5,FALSE) -> 15545.67 | T59: =VLOOKUP(G59,[5]分布式发票数据!$A$4:$E$193,4,FALSE) -> 48823 | U59: =VLOOKUP(G59,[5]分布式发票数据!$A$4:$E$193,5,FALSE) -> 17791.1 | V59: =VLOOKUP(G59,'[8]2023年4-6月'!$A$4:$E$193,5,FALSE) -> 63589.81 | W59: =U59+V59 -> 81380.91 | X59: =VLOOKUP(G59,[6]分布式发票数据!$A$4:$D$193,4,FALSE) -> 39420 | Y59: =VLOOKUP(G59,[6]分布式发票数据!$A$4:$E$193,5,FALSE) -> 14364.65 | Z59: =VLOOKUP(G59,[9]分布式发票数据!$A$4:$E$193,4,FALSE) -> 40675 | AA59: =VLOOKUP(G59,[9]分布式发票数据!$A$4:$E$193,5,FALSE) -> 14821.97 | AB59: =VLOOKUP(G59,[10]分布式发票数据!$A:$D,4,FALSE) -> 39233 | AC59: =VLOOKUP(G59,[10]分布式发票数据!$A:$E,5,FALSE) -> 14296.51 | AD59: =VLOOKUP(G59,[12]sheet1!$G:$S,13,FALSE) -> 47930 | AE59: =VLOOKUP(G59,[12]sheet1!$G:$X,18,FALSE) -> 17465.69 | AF59: =VLOOKUP(G59,[11]Sheet1!$B:$E,4,FALSE) -> 57945.67 | AG59: =AE59+AF59 -> 75411.36 | AH59: =VLOOKUP(G59,[13]Sheet1!$C$1:$H$65536,6,FALSE) -> 42397 | AI59: =VLOOKUP(G59,[13]Sheet1!$C$1:$I$65536,7,FALSE) -> 15449.47 | AJ59: =VLOOKUP(G59,[14]Sheet1!$E$1:$I$65536,5,FALSE) -> 20587.98 | AK59: =VLOOKUP(G59,[15]Sheet1!$E$1:$I$65536,5,FALSE) -> 23274.81 | AL59: =AJ59+AK59 -> 43862.79 | AM59: =AI59+AL59 -> 59312.26 | AN59: =VLOOKUP(G59,[16]分布式营销结算明细接收数据!$E:$K,7,FALSE) -> 32204 | AO59: =VLOOKUP(G59,[16]分布式营销结算明细接收数据!$E:$O,11,FALSE) -> 11735.14 | AP59: =VLOOKUP(G59,[16]分布式营销结算明细接收数据!$E:$R,14,FALSE) -> 15638.26 | AQ59: =AO59+AP59 -> 27373.4 | AR59: =AQ59+AM59+AG59+AC59+AA59+Y59+W59+S59+Q59+O59+K59+I59 -> 451066.16
A60: 55 | G60: 0725133537 | H60: =VLOOKUP(G60,[1]分布式发票数据!$A:$D,4) -> 43378 | I60: =VLOOKUP(G60,[1]分布式发票数据!$A:$E,5,FALSE) -> 15806.94 | J60: =VLOOKUP(G60,[2]分布式发票数据!$A:$D,4,FALSE) -> 37901 | K60: =VLOOKUP(G60,[2]分布式发票数据!$A:$E,5,FALSE) -> 13811.12 | L60: 52652 | M60: 19186.39 | N60: =VLOOKUP(G60,'[7]2022年12月-2023年3月'!$A$4:$E$193,5,FALSE) -> 85259.23 | O60: =M60+N60 -> 104445.62 | P60: =VLOOKUP(G60,[3]分布式发票数据!$A:$E,4,FALSE) -> 39431 | Q60: =VLOOKUP(G60,[3]分布式发票数据!$A:$E,5,FALSE) -> 14368.66 | R60: =VLOOKUP(G:G,[4]分布式发票数据!$A:$E,4,FALSE) -> 42727 | S60: =VLOOKUP(G:G,[4]分布式发票数据!$A:$E,5,FALSE) -> 15569.72 | T60: =VLOOKUP(G60,[5]分布式发票数据!$A$4:$E$193,4,FALSE) -> 48966 | U60: =VLOOKUP(G60,[5]分布式发票数据!$A$4:$E$193,5,FALSE) -> 17843.21 | V60: =VLOOKUP(G60,'[8]2023年4-6月'!$A$4:$E$193,5,FALSE) -> 63673.81 | W60: =U60+V60 -> 81517.02 | X60: =VLOOKUP(G60,[6]分布式发票数据!$A$4:$D$193,4,FALSE) -> 42176 | Y60: =VLOOKUP(G60,[6]分布式发票数据!$A$4:$E$193,5,FALSE) -> 15368.93 | Z60: =VLOOKUP(G60,[9]分布式发票数据!$A$4:$E$193,4,FALSE) -> 40692 | AA60: =VLOOKUP(G60,[9]分布式发票数据!$A$4:$E$193,5,FALSE) -> 14828.16 | AB60: =VLOOKUP(G60,[10]分布式发票数据!$A:$D,4,FALSE) -> 39110 | AC60: =VLOOKUP(G60,[10]分布式发票数据!$A:$E,5,FALSE) -> 14251.68 | AD60: =VLOOKUP(G60,[12]sheet1!$G:$S,13,FALSE) -> 47519 | AE60: =VLOOKUP(G60,[12]sheet1!$G:$X,18,FALSE) -> 17315.92 | AF60: =VLOOKUP(G60,[11]Sheet1!$B:$E,4,FALSE) -> 59232.53 | AG60: =AE60+AF60 -> 76548.45 | AH60: =VLOOKUP(G60,[13]Sheet1!$C$1:$H$65536,6,FALSE) -> 43484 | AI60: =VLOOKUP(G60,[13]Sheet1!$C$1:$I$65536,7,FALSE) -> 15845.57 | AJ60: =VLOOKUP(G60,[14]Sheet1!$E$1:$I$65536,5,FALSE) -> 21115.83 | AK60: =VLOOKUP(G60,[15]Sheet1!$E$1:$I$65536,5,FALSE) -> 23075.23 | AL60: =AJ60+AK60 -> 44191.06 | AM60: =AI60+AL60 -> 60036.63 | AN60: =VLOOKUP(G60,[16]分布式营销结算明细接收数据!$E:$K,7,FALSE) -> 25387 | AO60: =VLOOKUP(G60,[16]分布式营销结算明细接收数据!$E:$O,11,FALSE) -> 9251.02 | AP60: =VLOOKUP(G60,[16]分布式营销结算明细接收数据!$E:$R,14,FALSE) -> 12327.93 | AQ60: =AO60+AP60 -> 21578.95 | AR60: =AQ60+AM60+AG60+AC60+AA60+Y60+W60+S60+Q60+O60+K60+I60 -> 448131.88
A61: 56 | C61: 金家井村 | D61: 金家井村联村电站 | E61: 420 | F61: 1792 | G61: 0724603408 | H61: =VLOOKUP(G61,[1]分布式发票数据!$A:$D,4) -> 45260 | I61: =VLOOKUP(G61,[1]分布式发票数据!$A:$E,5,FALSE) -> 16492.74 | J61: =VLOOKUP(G61,[2]分布式发票数据!$A:$D,4,FALSE) -> 39724 | K61: =VLOOKUP(G61,[2]分布式发票数据!$A:$E,5,FALSE) -> 14475.43 | L61: 55272 | M61: 20141.12 | N61: =VLOOKUP(G61,'[7]2022年12月-2023年3月'!$A$4:$E$193,5,FALSE) -> 90365.3 | O61: =M61+N61 -> 110506.42 | P61: =VLOOKUP(G61,[3]分布式发票数据!$A:$E,4,FALSE) -> 41183 | Q61: =VLOOKUP(G61,[3]分布式发票数据!$A:$E,5,FALSE) -> 15007.09 | R61: =VLOOKUP(G:G,[4]分布式发票数据!$A:$E,4,FALSE) -> 45476 | S61: =VLOOKUP(G:G,[4]分布式发票数据!$A:$E,5,FALSE) -> 16571.45 | T61: =VLOOKUP(G61,[5]分布式发票数据!$A$4:$E$193,4,FALSE) -> 41395 | U61: =VLOOKUP(G61,[5]分布式发票数据!$A$4:$E$193,5,FALSE) -> 15084.34 | V61: =VLOOKUP(G61,'[8]2023年4-6月'!$A$4:$E$193,5,FALSE) -> 62183.02 | W61: =U61+V61 -> 77267.36 | X61: =VLOOKUP(G61,[6]分布式发票数据!$A$4:$D$193,4,FALSE) -> 40847 | Y61: =VLOOKUP(G61,[6]分布式发票数据!$A$4:$E$193,5,FALSE) -> 14884.65 | Z61: =VLOOKUP(G61,[9]分布式发票数据!$A$4:$E$193,4,FALSE) -> 43133 | AA61: =VLOOKUP(G61,[9]分布式发票数据!$A$4:$E$193,5,FALSE) -> 15717.67 | AB61: =VLOOKUP(G61,[10]分布式发票数据!$A:$D,4,FALSE) -> 41303 | AC61: =VLOOKUP(G61,[10]分布式发票数据!$A:$E,5,FALSE) -> 15050.81 | AD61: =VLOOKUP(G61,[12]sheet1!$G:$S,13,FALSE) -> 50716 | AE61: =VLOOKUP(G61,[12]sheet1!$G:$X,18,FALSE) -> 18480.91 | AF61: =VLOOKUP(G61,[11]Sheet1!$B:$E,4,FALSE) -> 60837.42 | AG61: =AE61+AF61 -> 79318.33 | AH61: =VLOOKUP(G61,[13]Sheet1!$C$1:$H$65536,6,FALSE) -> 45166 | AI61: =VLOOKUP(G61,[13]Sheet1!$C$1:$I$65536,7,FALSE) -> 16458.49 | AJ61: =VLOOKUP(G61,[14]Sheet1!$E$1:$I$65536,5,FALSE) -> 21932.61 | AK61: =VLOOKUP(G61,[15]Sheet1!$E$1:$I$65536,5,FALSE) -> 24627.69 | AL61: =AJ61+AK61 -> 46560.3 | AM61: =AI61+AL61 -> 63018.79 | AN61: =VLOOKUP(G61,[16]分布式营销结算明细接收数据!$E:$K,7,FALSE) -> 34147 | AO61: =VLOOKUP(G61,[16]分布式营销结算明细接收数据!$E:$O,11,FALSE) -> 12443.17 | AP61: =VLOOKUP(G61,[16]分布式营销结算明细接收数据!$E:$R,14,FALSE) -> 16581.78 | AQ61: =AO61+AP61 -> 29024.95 | AR61: =AQ61+AM61+AG61+AC61+AA61+Y61+W61+S61+Q61+O61+K61+I61 -> 467335.69
A62: 57 | G62: 0724604313 | H62: =VLOOKUP(G62,[1]分布式发票数据!$A:$D,4) -> 23905 | I62: =VLOOKUP(G62,[1]分布式发票数据!$A:$E,5,FALSE) -> 8710.98 | J62: =VLOOKUP(G62,[2]分布式发票数据!$A:$D,4,FALSE) -> 20974 | K62: =VLOOKUP(G62,[2]分布式发票数据!$A:$E,5,FALSE) -> 7642.93 | L62: 28465 | M62: 10372.65 | N62: =VLOOKUP(G62,'[7]2022年12月-2023年3月'!$A$4:$E$193,5,FALSE) -> 47435.34 | O62: =M62+N62 -> 57807.99 | P62: =VLOOKUP(G62,[3]分布式发票数据!$A:$E,4,FALSE) -> 21359 | Q62: =VLOOKUP(G62,[3]分布式发票数据!$A:$E,5,FALSE) -> 7783.22 | R62: =VLOOKUP(G:G,[4]分布式发票数据!$A:$E,4,FALSE) -> 23160 | S62: =VLOOKUP(G:G,[4]分布式发票数据!$A:$E,5,FALSE) -> 8439.5 | T62: =VLOOKUP(G62,[5]分布式发票数据!$A$4:$E$193,4,FALSE) -> 26383 | U62: =VLOOKUP(G62,[5]分布式发票数据!$A$4:$E$193,5,FALSE) -> 9613.97 | V62: =VLOOKUP(G62,'[8]2023年4-6月'!$A$4:$E$193,5,FALSE) -> 34430.01 | W62: =U62+V62 -> 44043.98 | X62: =VLOOKUP(G62,[6]分布式发票数据!$A$4:$D$193,4,FALSE) -> 22873 | Y62: =VLOOKUP(G62,[6]分布式发票数据!$A$4:$E$193,5,FALSE) -> 8334.92 | Z62: =VLOOKUP(G62,[9]分布式发票数据!$A$4:$E$193,4,FALSE) -> 22040 | AA62: =VLOOKUP(G62,[9]分布式发票数据!$A$4:$E$193,5,FALSE) -> 8031.38 | AB62: =VLOOKUP(G62,[10]分布式发票数据!$A:$D,4,FALSE) -> 21416 | AC62: =VLOOKUP(G62,[10]分布式发票数据!$A:$E,5,FALSE) -> 7803.99 | AD62: =VLOOKUP(G62,[12]sheet1!$G:$S,13,FALSE) -> 26216 | AE62: =VLOOKUP(G62,[12]sheet1!$G:$X,18,FALSE) -> 9553.11 | AF62: =VLOOKUP(G62,[11]Sheet1!$B:$E,4,FALSE) -> 32209.36 | AG62: =AE62+AF62 -> 41762.47 | AH62: =VLOOKUP(G62,[13]Sheet1!$C$1:$H$65536,6,FALSE) -> 23676 | AI62: =VLOOKUP(G62,[13]Sheet1!$C$1:$I$65536,7,FALSE) -> 8627.53 | AJ62: =VLOOKUP(G62,[14]Sheet1!$E$1:$I$65536,5,FALSE) -> 11497.07 | AK62: =VLOOKUP(G62,[15]Sheet1!$E$1:$I$65536,5,FALSE) -> 12730.49 | AL62: =AJ62+AK62 -> 24227.56 | AM62: =AI62+AL62 -> 32855.09 | AN62: =VLOOKUP(G62,[16]分布式营销结算明细接收数据!$E:$K,7,FALSE) -> 19729 | AO62: =VLOOKUP(G62,[16]分布式营销结算明细接收数据!$E:$O,11,FALSE) -> 7189.25 | AP62: =VLOOKUP(G62,[16]分布式营销结算明细接收数据!$E:$R,14,FALSE) -> 9580.4 | AQ62: =AO62+AP62 -> 16769.65 | AR62: =AQ62+AM62+AG62+AC62+AA62+Y62+W62+S62+Q62+O62+K62+I62 -> 249986.1
A63: 58 | C63: 窝坨村 | E63: 420 | G63: 0724606768 | H63: =VLOOKUP(G63,[1]分布式发票数据!$A:$D,4) -> 45418 | I63: =VLOOKUP(G63,[1]分布式发票数据!$A:$E,5,FALSE) -> 16550.32 | J63: =VLOOKUP(G63,[2]分布式发票数据!$A:$D,4,FALSE) -> 39571 | K63: =VLOOKUP(G63,[2]分布式发票数据!$A:$E,5,FALSE) -> 14419.67 | L63: 54734 | M63: 19945.07 | N63: =VLOOKUP(G63,'[7]2022年12月-2023年3月'!$A$4:$E$193,5,FALSE) -> 90546.43 | O63: =M63+N63 -> 110491.5 | P63: =VLOOKUP(G63,[3]分布式发票数据!$A:$E,4,FALSE) -> 41238 | Q63: =VLOOKUP(G63,[3]分布式发票数据!$A:$E,5,FALSE) -> 15027.13 | R63: =VLOOKUP(G:G,[4]分布式发票数据!$A:$E,4,FALSE) -> 45524 | S63: =VLOOKUP(G:G,[4]分布式发票数据!$A:$E,5,FALSE) -> 16588.95 | T63: =VLOOKUP(G63,[5]分布式发票数据!$A$4:$E$193,4,FALSE) -> 51662 | U63: =VLOOKUP(G63,[5]分布式发票数据!$A$4:$E$193,5,FALSE) -> 18825.63 | V63: =VLOOKUP(G63,'[8]2023年4-6月'!$A$4:$E$193,5,FALSE) -> 67218.69 | W63: =U63+V63 -> 86044.32 | X63: =VLOOKUP(G63,[6]分布式发票数据!$A$4:$D$193,4,FALSE) -> 44912 | Y63: =VLOOKUP(G63,[6]分布式发票数据!$A$4:$E$193,5,FALSE) -> 16365.93 | Z63: =VLOOKUP(G63,[9]分布式发票数据!$A$4:$E$193,4,FALSE) -> 43349 | AA63: =VLOOKUP(G63,[9]分布式发票数据!$A$4:$E$193,5,FALSE) -> 15796.38 | AB63: =VLOOKUP(G63,[10]分布式发票数据!$A:$D,4,FALSE) -> 41084 | AC63: =VLOOKUP(G63,[10]分布式发票数据!$A:$E,5,FALSE) -> 14971.01 | AD63: =VLOOKUP(G63,[12]sheet1!$G:$S,13,FALSE) -> 50108 | AE63: =VLOOKUP(G63,[12]sheet1!$G:$X,18,FALSE) -> 18259.36 | AF63: =VLOOKUP(G63,[11]Sheet1!$B:$E,4,FALSE) -> 62809.93 | AG63: =AE63+AF63 -> 81069.29 | AH63: =VLOOKUP(G63,[13]Sheet1!$C$1:$H$65536,6,FALSE) -> 45617 | AI63: =VLOOKUP(G63,[13]Sheet1!$C$1:$I$65536,7,FALSE) -> 16622.83 | AJ63: =VLOOKUP(G63,[14]Sheet1!$E$1:$I$65536,5,FALSE) -> 22151.62 | AK63: =VLOOKUP(G63,[15]Sheet1!$E$1:$I$65536,5,FALSE) -> 24332.44 | AL63: =AJ63+AK63 -> 46484.06 | AM63: =AI63+AL63 -> 63106.89 | AN63: =VLOOKUP(G63,[16]分布式营销结算明细接收数据!$E:$K,7,FALSE) -> 33802 | AO63: =VLOOKUP(G63,[16]分布式营销结算明细接收数据!$E:$O,11,FALSE) -> 12317.45 | AP63: =VLOOKUP(G63,[16]分布式营销结算明细接收数据!$E:$R,14,FALSE) -> 16414.25 | AQ63: =AO63+AP63 -> 28731.7 | AR63: =AQ63+AM63+AG63+AC63+AA63+Y63+W63+S63+Q63+O63+K63+I63 -> 479163.09
A64: 59 | C64: 周家庄村 | E64: 112 | G64: 0724607152 | H64: =VLOOKUP(G64,[1]分布式发票数据!$A:$D,4) -> 39137 | I64: =VLOOKUP(G64,[1]分布式发票数据!$A:$E,5,FALSE) -> 14261.52 | J64: =VLOOKUP(G64,[2]分布式发票数据!$A:$D,4,FALSE) -> 34573 | K64: =VLOOKUP(G64,[2]分布式发票数据!$A:$E,5,FALSE) -> 12598.4 | L64: 47510 | M64: 17312.64 | N64: =VLOOKUP(G64,'[7]2022年12月-2023年3月'!$A$4:$E$193,5,FALSE) -> 78262.7 | O64: =M64+N64 -> 95575.34 | P64: =VLOOKUP(G64,[3]分布式发票数据!$A:$E,4,FALSE) -> 36166 | Q64: =VLOOKUP(G64,[3]分布式发票数据!$A:$E,5,FALSE) -> 13178.89 | R64: =VLOOKUP(G:G,[4]分布式发票数据!$A:$E,4,FALSE) -> 39079 | S64: =VLOOKUP(G:G,[4]分布式发票数据!$A:$E,5,FALSE) -> 14240.39 | T64: =VLOOKUP(G64,[5]分布式发票数据!$A$4:$E$193,4,FALSE) -> 44464 | U64: =VLOOKUP(G64,[5]分布式发票数据!$A$4:$E$193,5,FALSE) -> 16202.68 | V64: =VLOOKUP(G64,'[8]2023年4-6月'!$A$4:$E$193,5,FALSE) -> 58130.69 | W64: =U64+V64 -> 74333.37 | X64: =VLOOKUP(G64,[6]分布式发票数据!$A$4:$D$193,4,FALSE) -> 36070 | Y64: =VLOOKUP(G64,[6]分布式发票数据!$A$4:$E$193,5,FALSE) -> 13143.91 | Z64: =VLOOKUP(G64,[9]分布式发票数据!$A$4:$E$193,4,FALSE) -> 36662 | AA64: =VLOOKUP(G64,[9]分布式发票数据!$A$4:$E$193,5,FALSE) -> 13359.63 | AB64: =VLOOKUP(G64,[10]分布式发票数据!$A:$D,4,FALSE) -> 35718 | AC64: =VLOOKUP(G64,[10]分布式发票数据!$A:$E,5,FALSE) -> 13015.64 | AD64: =VLOOKUP(G64,[12]sheet1!$G:$S,13,FALSE) -> 42852 | AE64: =VLOOKUP(G64,[12]sheet1!$G:$X,18,FALSE) -> 15615.27 | AF64: =VLOOKUP(G64,[11]Sheet1!$B:$E,4,FALSE) -> 52663.32 | AG64: =AE64+AF64 -> 68278.59 | AH64: =VLOOKUP(G64,[13]Sheet1!$C$1:$H$65536,6,FALSE) -> 38342 | AI64: =VLOOKUP(G64,[13]Sheet1!$C$1:$I$65536,7,FALSE) -> 13971.82 | AJ64: =VLOOKUP(G64,[14]Sheet1!$E$1:$I$65536,5,FALSE) -> 18618.88 | AK64: =VLOOKUP(G64,[15]Sheet1!$E$1:$I$65536,5,FALSE) -> 20808.93 | AL64: =AJ64+AK64 -> 39427.81 | AM64: =AI64+AL64 -> 53399.63 | AN64: =VLOOKUP(G64,[16]分布式营销结算明细接收数据!$E:$K,7,FALSE) -> 28448 | AO64: =VLOOKUP(G64,[16]分布式营销结算明细接收数据!$E:$O,11,FALSE) -> 10366.45 | AP64: =VLOOKUP(G64,[16]分布式营销结算明细接收数据!$E:$R,14,FALSE) -> 13814.35 | AQ64: =AO64+AP64 -> 24180.8 | AR64: =AQ64+AM64+AG64+AC64+AA64+Y64+W64+S64+Q64+O64+K64+I64 -> 409566.11
A65: 60 | C65: 邓庄村 | E65: 420 | G65: 0724719556 | H65: =VLOOKUP(G65,[1]分布式发票数据!$A:$D,4) -> 45154 | I65: =VLOOKUP(G65,[1]分布式发票数据!$A:$E,5,FALSE) -> 16454.12 | J65: =VLOOKUP(G65,[2]分布式发票数据!$A:$D,4,FALSE) -> 39356 | K65: =VLOOKUP(G65,[2]分布式发票数据!$A:$E,5,FALSE) -> 14341.33 | L65: 53948 | M65: 19658.65 | N65: =VLOOKUP(G65,'[7]2022年12月-2023年3月'!$A$4:$E$193,5,FALSE) -> 89612.62 | O65: =M65+N65 -> 109271.27 | P65: =VLOOKUP(G65,[3]分布式发票数据!$A:$E,4,FALSE) -> 40415 | Q65: =VLOOKUP(G65,[3]分布式发票数据!$A:$E,5,FALSE) -> 14727.23 | R65: =VLOOKUP(G:G,[4]分布式发票数据!$A:$E,4,FALSE) -> 44318 | S65: =VLOOKUP(G:G,[4]分布式发票数据!$A:$E,5,FALSE) -> 16149.48 | T65: =VLOOKUP(G65,[5]分布式发票数据!$A$4:$E$193,4,FALSE) -> 50309 | U65: =VLOOKUP(G65,[5]分布式发票数据!$A$4:$E$193,5,FALSE) -> 18332.6 | V65: =VLOOKUP(G65,'[8]2023年4-6月'!$A$4:$E$193,5,FALSE) -> 65576.39 | W65: =U65+V65 -> 83908.99 | X65: =VLOOKUP(G65,[6]分布式发票数据!$A$4:$D$193,4,FALSE) -> 43696 | Y65: =VLOOKUP(G65,[6]分布式发票数据!$A$4:$E$193,5,FALSE) -> 15922.82 | Z65: =VLOOKUP(G65,[9]分布式发票数据!$A$4:$E$193,4,FALSE) -> 42078 | AA65: =VLOOKUP(G65,[9]分布式发票数据!$A$4:$E$193,5,FALSE) -> 15333.22 | AB65: =VLOOKUP(G65,[10]分布式发票数据!$A:$D,4,FALSE) -> 40626 | AC65: =VLOOKUP(G65,[10]分布式发票数据!$A:$E,5,FALSE) -> 14804.11 | AD65: =VLOOKUP(G65,[12]sheet1!$G:$S,13,FALSE) -> 49676 | AE65: =VLOOKUP(G65,[12]sheet1!$G:$X,18,FALSE) -> 18101.93 | AF65: =VLOOKUP(G65,[11]Sheet1!$B:$E,4,FALSE) -> 61379.85 | AG65: =AE65+AF65 -> 79481.78 | AH65: =VLOOKUP(G65,[13]Sheet1!$C$1:$H$65536,6,FALSE) -> 44807 | AI65: =VLOOKUP(G65,[13]Sheet1!$C$1:$I$65536,7,FALSE) -> 16327.67 | AJ65: =VLOOKUP(G65,[14]Sheet1!$E$1:$I$65536,5,FALSE) -> 21758.28 | AK65: =VLOOKUP(G65,[15]Sheet1!$E$1:$I$65536,5,FALSE) -> 24122.67 | AL65: =AJ65+AK65 -> 45880.95 | AM65: =AI65+AL65 -> 62208.62 | AN65: =VLOOKUP(G65,[16]分布式营销结算明细接收数据!$E:$K,7,FALSE) -> 28788 | AO65: =VLOOKUP(G65,[16]分布式营销结算明细接收数据!$E:$O,11,FALSE) -> 10490.35 | AP65: =VLOOKUP(G65,[16]分布式营销结算明细接收数据!$E:$R,14,FALSE) -> 13979.45 | AQ65: =AO65+AP65 -> 24469.8 | AR65: =AQ65+AM65+AG65+AC65+AA65+Y65+W65+S65+Q65+O65+K65+I65 -> 467072.77
A66: 61 | C66: 小庄村 | E66: 420 | G66: 0724719673 | H66: =VLOOKUP(G66,[1]分布式发票数据!$A:$D,4) -> 46259 | I66: =VLOOKUP(G66,[1]分布式发票数据!$A:$E,5,FALSE) -> 16856.78 | J66: =VLOOKUP(G66,[2]分布式发票数据!$A:$D,4,FALSE) -> 40121 | K66: =VLOOKUP(G66,[2]分布式发票数据!$A:$E,5,FALSE) -> 14620.09 | L66: 54828 | M66: 19979.32 | N66: =VLOOKUP(G66,'[7]2022年12月-2023年3月'!$A$4:$E$193,5,FALSE) -> 91637.1 | O66: =M66+N66 -> 111616.42 | P66: =VLOOKUP(G66,[3]分布式发票数据!$A:$E,4,FALSE) -> 37021 | Q66: =VLOOKUP(G66,[3]分布式发票数据!$A:$E,5,FALSE) -> 13490.45 | R66: =VLOOKUP(G:G,[4]分布式发票数据!$A:$E,4,FALSE) -> 45552 | S66: =VLOOKUP(G:G,[4]分布式发票数据!$A:$E,5,FALSE) -> 16599.15 | T66: =VLOOKUP(G66,[5]分布式发票数据!$A$4:$E$193,4,FALSE) -> 51359 | U66: =VLOOKUP(G66,[5]分布式发票数据!$A$4:$E$193,5,FALSE) -> 18715.22 | V66: =VLOOKUP(G66,'[8]2023年4-6月'!$A$4:$E$193,5,FALSE) -> 65037.38 | W66: =U66+V66 -> 83752.6 | X66: =VLOOKUP(G66,[6]分布式发票数据!$A$4:$D$193,4,FALSE) -> 44695 | Y66: =VLOOKUP(G66,[6]分布式发票数据!$A$4:$E$193,5,FALSE) -> 16286.86 | Z66: =VLOOKUP(G66,[9]分布式发票数据!$A$4:$E$193,4,FALSE) -> 43181 | AA66: =VLOOKUP(G66,[9]分布式发票数据!$A$4:$E$193,5,FALSE) -> 15735.16 | AB66: =VLOOKUP(G66,[10]分布式发票数据!$A:$D,4,FALSE) -> 11820 | AC66: =VLOOKUP(G66,[10]分布式发票数据!$A:$E,5,FALSE) -> 4307.21 | AD66: =VLOOKUP(G66,[12]sheet1!$G:$S,13,FALSE) -> 0 | AE66: =VLOOKUP(G66,[12]sheet1!$G:$X,18,FALSE) -> 0 | AF66: =VLOOKUP(G66,[11]Sheet1!$B:$E,4,FALSE) -> 48412.37 | AG66: =AE66+AF66 -> 48412.37 | AH66: =VLOOKUP(G66,[13]Sheet1!$C$1:$H$65536,6,FALSE) -> 23662 | AI66: =VLOOKUP(G66,[13]Sheet1!$C$1:$I$65536,7,FALSE) -> 8622.43 | AJ66: =VLOOKUP(G66,[14]Sheet1!$E$1:$I$65536,5,FALSE) -> 11490.27 | AK66: =VLOOKUP(G66,[15]Sheet1!$E$1:$I$65536,5,FALSE) -> 0 | AL66: =AJ66+AK66 -> 11490.27 | AM66: =AI66+AL66 -> 20112.7 | AN66: =VLOOKUP(G66,[16]分布式营销结算明细接收数据!$E:$K,7,FALSE) -> 34253 | AO66: =VLOOKUP(G66,[16]分布式营销结算明细接收数据!$E:$O,11,FALSE) -> 12481.79 | AP66: =VLOOKUP(G66,[16]分布式营销结算明细接收数据!$E:$R,14,FALSE) -> 16633.26 | AQ66: =AO66+AP66 -> 29115.05 | AR66: =AQ66+AM66+AG66+AC66+AA66+Y66+W66+S66+Q66+O66+K66+I66 -> 390904.84
A67: 62 | C67: 南坡底村 | D67: 南坡底村联村电站 | E67: 693 | F67: 5971 | G67: 0723907697 | H67: =VLOOKUP(G67,[1]分布式发票数据!$A:$D,4) -> 46567 | I67: =VLOOKUP(G67,[1]分布式发票数据!$A:$E,5,FALSE) -> 16969.01 | J67: =VLOOKUP(G67,[2]分布式发票数据!$A:$D,4,FALSE) -> 40188 | K67: =VLOOKUP(G67,[2]分布式发票数据!$A:$E,5,FALSE) -> 14644.51 | L67: 51503 | M67: 18767.69 | N67: =VLOOKUP(G67,'[7]2022年12月-2023年3月'!$A$4:$E$193,5,FALSE) -> 90359.48 | O67: =M67+N67 -> 109127.17 | P67: =VLOOKUP(G67,[3]分布式发票数据!$A:$E,4,FALSE) -> 40903 | Q67: =VLOOKUP(G67,[3]分布式发票数据!$A:$E,5,FALSE) -> 14905.05 | R67: =VLOOKUP(G:G,[4]分布式发票数据!$A:$E,4,FALSE) -> 44521 | S67: =VLOOKUP(G:G,[4]分布式发票数据!$A:$E,5,FALSE) -> 16223.45 | T67: =VLOOKUP(G67,[5]分布式发票数据!$A$4:$E$193,4,FALSE) -> 44332 | U67: =VLOOKUP(G67,[5]分布式发票数据!$A$4:$E$193,5,FALSE) -> 16154.58 | V67: =VLOOKUP(G67,'[8]2023年4-6月'!$A$4:$E$193,5,FALSE) -> 63009.52 | W67: =U67+V67 -> 79164.1 | X67: =VLOOKUP(G67,[6]分布式发票数据!$A$4:$D$193,4,FALSE) -> 36062 | Y67: =VLOOKUP(G67,[6]分布式发票数据!$A$4:$E$193,5,FALSE) -> 13140.99 | Z67: =VLOOKUP(G67,[9]分布式发票数据!$A$4:$E$193,4,FALSE) -> 46184 | AA67: =VLOOKUP(G67,[9]分布式发票数据!$A$4:$E$193,5,FALSE) -> 16829.45 | AB67: =VLOOKUP(G67,[10]分布式发票数据!$A:$D,4,FALSE) -> 39530 | AC67: =VLOOKUP(G67,[10]分布式发票数据!$A:$E,5,FALSE) -> 14404.73 | AD67: =VLOOKUP(G67,[12]sheet1!$G:$S,13,FALSE) -> 50563 | AE67: =VLOOKUP(G67,[12]sheet1!$G:$X,18,FALSE) -> 18425.16 | AF67: =VLOOKUP(G67,[11]Sheet1!$B:$E,4,FALSE) -> 59134.43 | AG67: =AE67+AF67 -> 77559.59 | AH67: =VLOOKUP(G67,[13]Sheet1!$C$1:$H$65536,6,FALSE) -> 46192 | AI67: =VLOOKUP(G67,[13]Sheet1!$C$1:$I$65536,7,FALSE) -> 16832.36 | AJ67: =VLOOKUP(G67,[14]Sheet1!$E$1:$I$65536,5,FALSE) -> 22430.84 | AK67: =VLOOKUP(G67,[15]Sheet1!$E$1:$I$65536,5,FALSE) -> 24553.39 | AL67: =AJ67+AK67 -> 46984.23 | AM67: =AI67+AL67 -> 63816.59 | AN67: =VLOOKUP(G67,[16]分布式营销结算明细接收数据!$E:$K,7,FALSE) -> 40909 | AO67: =VLOOKUP(G67,[16]分布式营销结算明细接收数据!$E:$O,11,FALSE) -> 14907.24 | AP67: =VLOOKUP(G67,[16]分布式营销结算明细接收数据!$E:$R,14,FALSE) -> 19865.41 | AQ67: =AO67+AP67 -> 34772.65 | AR67: =AQ67+AM67+AG67+AC67+AA67+Y67+W67+S67+Q67+O67+K67+I67 -> 471557.29
A68: 63 | C68: 十八盘 | G68: 0723907831 | H68: =VLOOKUP(G68,[1]分布式发票数据!$A:$D,4) -> 38411 | I68: =VLOOKUP(G68,[1]分布式发票数据!$A:$E,5,FALSE) -> 13996.97 | J68: =VLOOKUP(G68,[2]分布式发票数据!$A:$D,4,FALSE) -> 34799 | K68: =VLOOKUP(G68,[2]分布式发票数据!$A:$E,5,FALSE) -> 12680.76 | L68: 46592 | M68: 16978.12 | N68: =VLOOKUP(G68,'[7]2022年12月-2023年3月'!$A$4:$E$193,5,FALSE) -> 76627.19 | O68: =M68+N68 -> 93605.31 | P68: =VLOOKUP(G68,[3]分布式发票数据!$A:$E,4,FALSE) -> 37680 | Q68: =VLOOKUP(G68,[3]分布式发票数据!$A:$E,5,FALSE) -> 13730.59 | R68: =VLOOKUP(G:G,[4]分布式发票数据!$A:$E,4,FALSE) -> 42050 | S68: =VLOOKUP(G:G,[4]分布式发票数据!$A:$E,5,FALSE) -> 15323.02 | T68: =VLOOKUP(G68,[5]分布式发票数据!$A$4:$E$193,4,FALSE) -> 49302 | U68: =VLOOKUP(G68,[5]分布式发票数据!$A$4:$E$193,5,FALSE) -> 17965.65 | V68: =VLOOKUP(G68,'[8]2023年4-6月'!$A$4:$E$193,5,FALSE) -> 62657.94 | W68: =U68+V68 -> 80623.59 | X68: =VLOOKUP(G68,[6]分布式发票数据!$A$4:$D$193,4,FALSE) -> 39669 | Y68: =VLOOKUP(G68,[6]分布式发票数据!$A$4:$E$193,5,FALSE) -> 14455.38 | Z68: =VLOOKUP(G68,[9]分布式发票数据!$A$4:$E$193,4,FALSE) -> 31470 | AA68: =VLOOKUP(G68,[9]分布式发票数据!$A$4:$E$193,5,FALSE) -> 11467.67 | AB68: =VLOOKUP(G68,[10]分布式发票数据!$A:$D,4,FALSE) -> 30072 | AC68: =VLOOKUP(G68,[10]分布式发票数据!$A:$E,5,FALSE) -> 10958.24 | AD68: =VLOOKUP(G68,[12]sheet1!$G:$S,13,FALSE) -> 30864 | AE68: =VLOOKUP(G68,[12]sheet1!$G:$X,18,FALSE) -> 11246.84 | AF68: =VLOOKUP(G68,[11]Sheet1!$B:$E,4,FALSE) -> 49148.06 | AG68: =AE68+AF68 -> 60394.9 | AH68: =VLOOKUP(G68,[13]Sheet1!$C$1:$H$65536,6,FALSE) -> 26464 | AI68: =VLOOKUP(G68,[13]Sheet1!$C$1:$I$65536,7,FALSE) -> 9643.48 | AJ68: =VLOOKUP(G68,[14]Sheet1!$E$1:$I$65536,5,FALSE) -> 12850.92 | AK68: =VLOOKUP(G68,[15]Sheet1!$E$1:$I$65536,5,FALSE) -> 14987.56 | AL68: =AJ68+AK68 -> 27838.48 | AM68: =AI68+AL68 -> 37481.96 | AN68: =VLOOKUP(G68,[16]分布式营销结算明细接收数据!$E:$K,7,FALSE) -> 21175 | AO68: =VLOOKUP(G68,[16]分布式营销结算明细接收数据!$E:$O,11,FALSE) -> 7716.17 | AP68: =VLOOKUP(G68,[16]分布式营销结算明细接收数据!$E:$R,14,FALSE) -> 10282.58 | AQ68: =AO68+AP68 -> 17998.75 | AR68: =AQ68+AM68+AG68+AC68+AA68+Y68+W68+S68+Q68+O68+K68+I68 -> 382717.14
A69: 64 | C69: 谭家庄村 | E69: 273 | G69: 0723907873 | H69: =VLOOKUP(G69,[1]分布式发票数据!$A:$D,4) -> 46439 | I69: =VLOOKUP(G69,[1]分布式发票数据!$A:$E,5,FALSE) -> 16922.37 | J69: =VLOOKUP(G69,[2]分布式发票数据!$A:$D,4,FALSE) -> 39761 | K69: =VLOOKUP(G69,[2]分布式发票数据!$A:$E,5,FALSE) -> 14488.91 | L69: 51409 | M69: 18733.44 | N69: =VLOOKUP(G69,'[7]2022年12月-2023年3月'!$A$4:$E$193,5,FALSE) -> 89973.42 | O69: =M69+N69 -> 108706.86 | P69: =VLOOKUP(G69,[3]分布式发票数据!$A:$E,4,FALSE) -> 40656 | Q69: =VLOOKUP(G69,[3]分布式发票数据!$A:$E,5,FALSE) -> 14815.05 | R69: =VLOOKUP(G:G,[4]分布式发票数据!$A:$E,4,FALSE) -> 44234 | S69: =VLOOKUP(G:G,[4]分布式发票数据!$A:$E,5,FALSE) -> 16118.87 | T69: =VLOOKUP(G69,[5]分布式发票数据!$A$4:$E$193,4,FALSE) -> 50886 | U69: =VLOOKUP(G69,[5]分布式发票数据!$A$4:$E$193,5,FALSE) -> 18542.86 | V69: =VLOOKUP(G69,'[8]2023年4-6月'!$A$4:$E$193,5,FALSE) -> 65932.82 | W69: =U69+V69 -> 84475.68 | X69: =VLOOKUP(G69,[6]分布式发票数据!$A$4:$D$193,4,FALSE) -> 42374 | Y69: =VLOOKUP(G69,[6]分布式发票数据!$A$4:$E$193,5,FALSE) -> 15441.09 | Z69: =VLOOKUP(G69,[9]分布式发票数据!$A$4:$E$193,4,FALSE) -> 46312 | AA69: =VLOOKUP(G69,[9]分布式发票数据!$A$4:$E$193,5,FALSE) -> 16876.09 | AB69: =VLOOKUP(G69,[10]分布式发票数据!$A:$D,4,FALSE) -> 39690 | AC69: =VLOOKUP(G69,[10]分布式发票数据!$A:$E,5,FALSE) -> 14463.04 | AD69: =VLOOKUP(G69,[12]sheet1!$G:$S,13,FALSE) -> 50952 | AE69: =VLOOKUP(G69,[12]sheet1!$G:$X,18,FALSE) -> 18566.91 | AF69: =VLOOKUP(G69,[11]Sheet1!$B:$E,4,FALSE) -> 62339.38 | AG69: =AE69+AF69 -> 80906.29 | AH69: =VLOOKUP(G69,[13]Sheet1!$C$1:$H$65536,6,FALSE) -> 46153 | AI69: =VLOOKUP(G69,[13]Sheet1!$C$1:$I$65536,7,FALSE) -> 16818.15 | AJ69: =VLOOKUP(G69,[14]Sheet1!$E$1:$I$65536,5,FALSE) -> 22411.9 | AK69: =VLOOKUP(G69,[15]Sheet1!$E$1:$I$65536,5,FALSE) -> 24742.29 | AL69: =AJ69+AK69 -> 47154.19 | AM69: =AI69+AL69 -> 63972.34 | AN69: =VLOOKUP(G69,[16]分布式营销结算明细接收数据!$E:$K,7,FALSE) -> 40380 | AO69: =VLOOKUP(G69,[16]分布式营销结算明细接收数据!$E:$O,11,FALSE) -> 14714.47 | AP69: =VLOOKUP(G69,[16]分布式营销结算明细接收数据!$E:$R,14,FALSE) -> 19608.53 | AQ69: =AO69+AP69 -> 34323 | AR69: =AQ69+AM69+AG69+AC69+AA69+Y69+W69+S69+Q69+O69+K69+I69 -> 481509.59
A70: 65 | C70: 南马庄村 | E70: 420 | G70: 0723907945 | H70: =VLOOKUP(G70,[1]分布式发票数据!$A:$D,4) -> 20909 | I70: =VLOOKUP(G70,[1]分布式发票数据!$A:$E,5,FALSE) -> 7619.24 | J70: =VLOOKUP(G70,[2]分布式发票数据!$A:$D,4,FALSE) -> 17675 | K70: =VLOOKUP(G70,[2]分布式发票数据!$A:$E,5,FALSE) -> 6440.77 | L70: 23053 | M70: 8400.51 | N70: =VLOOKUP(G70,'[7]2022年12月-2023年3月'!$A$4:$E$193,5,FALSE) -> 40327.63 | O70: =M70+N70 -> 48728.14 | P70: =VLOOKUP(G70,[3]分布式发票数据!$A:$E,4,FALSE) -> 18014 | Q70: =VLOOKUP(G70,[3]分布式发票数据!$A:$E,5,FALSE) -> 6564.3 | R70: =VLOOKUP(G:G,[4]分布式发票数据!$A:$E,4,FALSE) -> 19636 | S70: =VLOOKUP(G:G,[4]分布式发票数据!$A:$E,5,FALSE) -> 7155.36 | T70: =VLOOKUP(G70,[5]分布式发票数据!$A$4:$E$193,4,FALSE) -> 22530 | U70: =VLOOKUP(G70,[5]分布式发票数据!$A$4:$E$193,5,FALSE) -> 8209.93 | V70: =VLOOKUP(G70,'[8]2023年4-6月'!$A$4:$E$193,5,FALSE) -> 29223.41 | W70: =U70+V70 -> 37433.34 | X70: =VLOOKUP(G70,[6]分布式发票数据!$A$4:$D$193,4,FALSE) -> 18781 | Y70: =VLOOKUP(G70,[6]分布式发票数据!$A$4:$E$193,5,FALSE) -> 6843.8 | Z70: =VLOOKUP(G70,[9]分布式发票数据!$A$4:$E$193,4,FALSE) -> 20550 | AA70: =VLOOKUP(G70,[9]分布式发票数据!$A$4:$E$193,5,FALSE) -> 7488.42 | AB70: =VLOOKUP(G70,[10]分布式发票数据!$A:$D,4,FALSE) -> 17747 | AC70: =VLOOKUP(G70,[10]分布式发票数据!$A:$E,5,FALSE) -> 6467.01 | AD70: =VLOOKUP(G70,[12]sheet1!$G:$S,13,FALSE) -> 22800 | AE70: =VLOOKUP(G70,[12]sheet1!$G:$X,18,FALSE) -> 8308.32 | AF70: =VLOOKUP(G70,[11]Sheet1!$B:$E,4,FALSE) -> 27717.07 | AG70: =AE70+AF70 -> 36025.39 | AH70: =VLOOKUP(G70,[13]Sheet1!$C$1:$H$65536,6,FALSE) -> 20615 | AI70: =VLOOKUP(G70,[13]Sheet1!$C$1:$I$65536,7,FALSE) -> 7512.11 | AJ70: =VLOOKUP(G70,[14]Sheet1!$E$1:$I$65536,5,FALSE) -> 10010.64 | AK70: =VLOOKUP(G70,[15]Sheet1!$E$1:$I$65536,5,FALSE) -> 11071.68 | AL70: =AJ70+AK70 -> 21082.32 | AM70: =AI70+AL70 -> 28594.43 | AN70: =VLOOKUP(G70,[16]分布式营销结算明细接收数据!$E:$K,7,FALSE) -> 18034 | AO70: =VLOOKUP(G70,[16]分布式营销结算明细接收数据!$E:$O,11,FALSE) -> 6571.59 | AP70: =VLOOKUP(G70,[16]分布式营销结算明细接收数据!$E:$R,14,FALSE) -> 8757.31 | AQ70: =AO70+AP70 -> 15328.9 | AR70: =AQ70+AM70+AG70+AC70+AA70+Y70+W70+S70+Q70+O70+K70+I70 -> 214689.1
A71: 66 | C71: 小关城村 | E71: 420 | G71: 0723908111 | H71: =VLOOKUP(G71,[1]分布式发票数据!$A:$D,4) -> 36664 | I71: =VLOOKUP(G71,[1]分布式发票数据!$A:$E,5,FALSE) -> 13360.36 | J71: =VLOOKUP(G71,[2]分布式发票数据!$A:$D,4,FALSE) -> 34726 | K71: =VLOOKUP(G71,[2]分布式发票数据!$A:$E,5,FALSE) -> 12654.15 | L71: 47125 | M71: 17172.35 | N71: =VLOOKUP(G71,'[7]2022年12月-2023年3月'!$A$4:$E$193,5,FALSE) -> 75059.68 | O71: =M71+N71 -> 92232.03 | P71: =VLOOKUP(G71,[3]分布式发票数据!$A:$E,4,FALSE) -> 39474 | Q71: =VLOOKUP(G71,[3]分布式发票数据!$A:$E,5,FALSE) -> 14384.33 | R71: =VLOOKUP(G:G,[4]分布式发票数据!$A:$E,4,FALSE) -> 41878 | S71: =VLOOKUP(G:G,[4]分布式发票数据!$A:$E,5,FALSE) -> 15260.34 | T71: =VLOOKUP(G71,[5]分布式发票数据!$A$4:$E$193,4,FALSE) -> 50395 | U71: =VLOOKUP(G71,[5]分布式发票数据!$A$4:$E$193,5,FALSE) -> 18363.94 | V71: =VLOOKUP(G71,'[8]2023年4-6月'!$A$4:$E$193,5,FALSE) -> 63976.34 | W71: =U71+V71 -> 82340.28 | X71: =VLOOKUP(G71,[6]分布式发票数据!$A$4:$D$193,4,FALSE) -> 40930 | Y71: =VLOOKUP(G71,[6]分布式发票数据!$A$4:$E$193,5,FALSE) -> 14914.89 | Z71: =VLOOKUP(G71,[9]分布式发票数据!$A$4:$E$193,4,FALSE) -> 38746 | AA71: =VLOOKUP(G71,[9]分布式发票数据!$A$4:$E$193,5,FALSE) -> 14119.04 | AB71: =VLOOKUP(G71,[10]分布式发票数据!$A:$D,4,FALSE) -> 28585 | AC71: =VLOOKUP(G71,[10]分布式发票数据!$A:$E,5,FALSE) -> 10416.37 | AD71: =VLOOKUP(G71,[12]sheet1!$G:$S,13,FALSE) -> 44399 | AE71: =VLOOKUP(G71,[12]sheet1!$G:$X,18,FALSE) -> 16179 | AF71: =VLOOKUP(G71,[11]Sheet1!$B:$E,4,FALSE) -> 52571.55 | AG71: =AE71+AF71 -> 68750.55 | AH71: =VLOOKUP(G71,[13]Sheet1!$C$1:$H$65536,6,FALSE) -> 37204 | AI71: =VLOOKUP(G71,[13]Sheet1!$C$1:$I$65536,7,FALSE) -> 13557.14 | AJ71: =VLOOKUP(G71,[14]Sheet1!$E$1:$I$65536,5,FALSE) -> 18066.26 | AK71: =VLOOKUP(G71,[15]Sheet1!$E$1:$I$65536,5,FALSE) -> 21560.15 | AL71: =AJ71+AK71 -> 39626.41 | AM71: =AI71+AL71 -> 53183.55 | AN71: =VLOOKUP(G71,[16]分布式营销结算明细接收数据!$E:$K,7,FALSE) -> 28511 | AO71: =VLOOKUP(G71,[16]分布式营销结算明细接收数据!$E:$O,11,FALSE) -> 10389.41 | AP71: =VLOOKUP(G71,[16]分布式营销结算明细接收数据!$E:$R,14,FALSE) -> 13844.94 | AQ71: =AO71+AP71 -> 24234.35 | AR71: =AQ71+AM71+AG71+AC71+AA71+Y71+W71+S71+Q71+O71+K71+I71 -> 415850.24
A72: 67 | C72: 望天岭村 | E72: 420 | G72: 0723908166 | H72: =VLOOKUP(G72,[1]分布式发票数据!$A:$D,4) -> 44371 | I72: =VLOOKUP(G72,[1]分布式发票数据!$A:$E,5,FALSE) -> 16168.79 | J72: =VLOOKUP(G72,[2]分布式发票数据!$A:$D,4,FALSE) -> 39221 | K72: =VLOOKUP(G72,[2]分布式发票数据!$A:$E,5,FALSE) -> 14292.13 | L72: 50896 | M72: 18546.5 | N72: =VLOOKUP(G72,'[7]2022年12月-2023年3月'!$A$4:$E$193,5,FALSE) -> 86889.39 | O72: =M72+N72 -> 105435.89 | P72: =VLOOKUP(G72,[3]分布式发票数据!$A:$E,4,FALSE) -> 40561 | Q72: =VLOOKUP(G72,[3]分布式发票数据!$A:$E,5,FALSE) -> 14780.43 | R72: =VLOOKUP(G:G,[4]分布式发票数据!$A:$E,4,FALSE) -> 44281 | S72: =VLOOKUP(G:G,[4]分布式发票数据!$A:$E,5,FALSE) -> 16136 | T72: =VLOOKUP(G72,[5]分布式发票数据!$A$4:$E$193,4,FALSE) -> 50948 | U72: =VLOOKUP(G72,[5]分布式发票数据!$A$4:$E$193,5,FALSE) -> 18565.45 | V72: =VLOOKUP(G72,'[8]2023年4-6月'!$A$4:$E$193,5,FALSE) -> 65939.62 | W72: =U72+V72 -> 84505.07 | X72: =VLOOKUP(G72,[6]分布式发票数据!$A$4:$D$193,4,FALSE) -> 42325 | Y72: =VLOOKUP(G72,[6]分布式发票数据!$A$4:$E$193,5,FALSE) -> 15423.23 | Z72: =VLOOKUP(G72,[9]分布式发票数据!$A$4:$E$193,4,FALSE) -> 46123 | AA72: =VLOOKUP(G72,[9]分布式发票数据!$A$4:$E$193,5,FALSE) -> 16807.22 | AB72: =VLOOKUP(G72,[10]分布式发票数据!$A:$D,4,FALSE) -> 39203 | AC72: =VLOOKUP(G72,[10]分布式发票数据!$A:$E,5,FALSE) -> 14285.57 | AD72: =VLOOKUP(G72,[12]sheet1!$G:$S,13,FALSE) -> 50176 | AE72: =VLOOKUP(G72,[12]sheet1!$G:$X,18,FALSE) -> 18284.13 | AF72: =VLOOKUP(G72,[11]Sheet1!$B:$E,4,FALSE) -> 61987.33 | AG72: =AE72+AF72 -> 80271.46 | AH72: =VLOOKUP(G72,[13]Sheet1!$C$1:$H$65536,6,FALSE) -> 44736 | AI72: =VLOOKUP(G72,[13]Sheet1!$C$1:$I$65536,7,FALSE) -> 16301.8 | AJ72: =VLOOKUP(G72,[14]Sheet1!$E$1:$I$65536,5,FALSE) -> 21723.8 | AK72: =VLOOKUP(G72,[15]Sheet1!$E$1:$I$65536,5,FALSE) -> 24365.47 | AL72: =AJ72+AK72 -> 46089.27 | AM72: =AI72+AL72 -> 62391.07 | AN72: =VLOOKUP(G72,[16]分布式营销结算明细接收数据!$E:$K,7,FALSE) -> 37625 | AO72: =VLOOKUP(G72,[16]分布式营销结算明细接收数据!$E:$O,11,FALSE) -> 13710.55 | AP72: =VLOOKUP(G72,[16]分布式营销结算明细接收数据!$E:$R,14,FALSE) -> 18270.7 | AQ72: =AO72+AP72 -> 31981.25 | AR72: =AQ72+AM72+AG72+AC72+AA72+Y72+W72+S72+Q72+O72+K72+I72 -> 472478.11
A73: 68 | C73: 桑树堰村 | E73: 420 | G73: 0723908502 | H73: =VLOOKUP(G73,[1]分布式发票数据!$A:$D,4) -> 37751 | I73: =VLOOKUP(G73,[1]分布式发票数据!$A:$E,5,FALSE) -> 13756.46 | J73: =VLOOKUP(G73,[2]分布式发票数据!$A:$D,4,FALSE) -> 35377 | K73: =VLOOKUP(G73,[2]分布式发票数据!$A:$E,5,FALSE) -> 12891.38 | L73: 47634 | M73: 17357.83 | N73: =VLOOKUP(G73,'[7]2022年12月-2023年3月'!$A$4:$E$193,5,FALSE) -> 76538.82 | O73: =M73+N73 -> 93896.65 | P73: =VLOOKUP(G73,[3]分布式发票数据!$A:$E,4,FALSE) -> 39625 | Q73: =VLOOKUP(G73,[3]分布式发票数据!$A:$E,5,FALSE) -> 14439.35 | R73: =VLOOKUP(G:G,[4]分布式发票数据!$A:$E,4,FALSE) -> 41996 | S73: =VLOOKUP(G:G,[4]分布式发票数据!$A:$E,5,FALSE) -> 15303.34 | T73: =VLOOKUP(G73,[5]分布式发票数据!$A$4:$E$193,4,FALSE) -> 50436 | U73: =VLOOKUP(G73,[5]分布式发票数据!$A$4:$E$193,5,FALSE) -> 18378.88 | V73: =VLOOKUP(G73,'[8]2023年4-6月'!$A$4:$E$193,5,FALSE) -> 64126.88 | W73: =U73+V73 -> 82505.76 | X73: =VLOOKUP(G73,[6]分布式发票数据!$A$4:$D$193,4,FALSE) -> 41041 | Y73: =VLOOKUP(G73,[6]分布式发票数据!$A$4:$E$193,5,FALSE) -> 14955.34 | Z73: =VLOOKUP(G73,[9]分布式发票数据!$A$4:$E$193,4,FALSE) -> 44330 | AA73: =VLOOKUP(G73,[9]分布式发票数据!$A$4:$E$193,5,FALSE) -> 16153.85 | AB73: =VLOOKUP(G73,[10]分布式发票数据!$A:$D,4,FALSE) -> 37379 | AC73: =VLOOKUP(G73,[10]分布式发票数据!$A:$E,5,FALSE) -> 13620.91 | AD73: =VLOOKUP(G73,[12]sheet1!$G:$S,13,FALSE) -> 45100 | AE73: =VLOOKUP(G73,[12]sheet1!$G:$X,18,FALSE) -> 16434.44 | AF73: =VLOOKUP(G73,[11]Sheet1!$B:$E,4,FALSE) -> 59607.4 | AG73: =AE73+AF73 -> 76041.84 | AH73: =VLOOKUP(G73,[13]Sheet1!$C$1:$H$65536,6,FALSE) -> 38191 | AI73: =VLOOKUP(G73,[13]Sheet1!$C$1:$I$65536,7,FALSE) -> 13916.8 | AJ73: =VLOOKUP(G73,[14]Sheet1!$E$1:$I$65536,5,FALSE) -> 18545.55 | AK73: =VLOOKUP(G73,[15]Sheet1!$E$1:$I$65536,5,FALSE) -> 21900.56 | AL73: =AJ73+AK73 -> 40446.11 | AM73: =AI73+AL73 -> 54362.91 | AN73: =VLOOKUP(G73,[16]分布式营销结算明细接收数据!$E:$K,7,FALSE) -> 31241 | AO73: =VLOOKUP(G73,[16]分布式营销结算明细接收数据!$E:$O,11,FALSE) -> 11384.22 | AP73: =VLOOKUP(G73,[16]分布式营销结算明细接收数据!$E:$R,14,FALSE) -> 15170.63 | AQ73: =AO73+AP73 -> 26554.85 | AR73: =AQ73+AM73+AG73+AC73+AA73+Y73+W73+S73+Q73+O73+K73+I73 -> 434482.64
A74: 69 | C74: 黄柏寺村 | E74: 119 | G74: 0723911007 | H74: =VLOOKUP(G74,[1]分布式发票数据!$A:$D,4) -> 44738 | I74: =VLOOKUP(G74,[1]分布式发票数据!$A:$E,5,FALSE) -> 16302.53 | J74: =VLOOKUP(G74,[2]分布式发票数据!$A:$D,4,FALSE) -> 38761 | K74: =VLOOKUP(G74,[2]分布式发票数据!$A:$E,5,FALSE) -> 14124.51 | L74: 50710 | M74: 18478.72 | N74: =VLOOKUP(G74,'[7]2022年12月-2023年3月'!$A$4:$E$193,5,FALSE) -> 87147.23 | O74: =M74+N74 -> 105625.95 | P74: =VLOOKUP(G74,[3]分布式发票数据!$A:$E,4,FALSE) -> 40420 | Q74: =VLOOKUP(G74,[3]分布式发票数据!$A:$E,5,FALSE) -> 14729.05 | R74: =VLOOKUP(G:G,[4]分布式发票数据!$A:$E,4,FALSE) -> 43562 | S74: =VLOOKUP(G:G,[4]分布式发票数据!$A:$E,5,FALSE) -> 15873.99 | T74: =VLOOKUP(G74,[5]分布式发票数据!$A$4:$E$193,4,FALSE) -> 50443 | U74: =VLOOKUP(G74,[5]分布式发票数据!$A$4:$E$193,5,FALSE) -> 18381.43 | V74: =VLOOKUP(G74,'[8]2023年4-6月'!$A$4:$E$193,5,FALSE) -> 65276.78 | W74: =U74+V74 -> 83658.21 | X74: =VLOOKUP(G74,[6]分布式发票数据!$A$4:$D$193,4,FALSE) -> 41674 | Y74: =VLOOKUP(G74,[6]分布式发票数据!$A$4:$E$193,5,FALSE) -> 15186.01 | Z74: =VLOOKUP(G74,[9]分布式发票数据!$A$4:$E$193,4,FALSE) -> 45650 | AA74: =VLOOKUP(G74,[9]分布式发票数据!$A$4:$E$193,5,FALSE) -> 16634.86 | AB74: =VLOOKUP(G74,[10]分布式发票数据!$A:$D,4,FALSE) -> 38844 | AC74: =VLOOKUP(G74,[10]分布式发票数据!$A:$E,5,FALSE) -> 14154.75 | AD74: =VLOOKUP(G74,[12]sheet1!$G:$S,13,FALSE) -> 49664 | AE74: =VLOOKUP(G74,[12]sheet1!$G:$X,18,FALSE) -> 18097.56 | AF74: =VLOOKUP(G74,[11]Sheet1!$B:$E,4,FALSE) -> 61267.18 | AG74: =AE74+AF74 -> 79364.74 | AH74: =VLOOKUP(G74,[13]Sheet1!$C$1:$H$65536,6,FALSE) -> 44036 | AI74: =VLOOKUP(G74,[13]Sheet1!$C$1:$I$65536,7,FALSE) -> 16046.72 | AJ74: =VLOOKUP(G74,[14]Sheet1!$E$1:$I$65536,5,FALSE) -> 21383.88 | AK74: =VLOOKUP(G74,[15]Sheet1!$E$1:$I$65536,5,FALSE) -> 24116.84 | AL74: =AJ74+AK74 -> 45500.72 | AM74: =AI74+AL74 -> 61547.44 | AN74: =VLOOKUP(G74,[16]分布式营销结算明细接收数据!$E:$K,7,FALSE) -> 35747 | AO74: =VLOOKUP(G74,[16]分布式营销结算明细接收数据!$E:$O,11,FALSE) -> 13026.21 | AP74: =VLOOKUP(G74,[16]分布式营销结算明细接收数据!$E:$R,14,FALSE) -> 17358.74 | AQ74: =AO74+AP74 -> 30384.95 | AR74: =AQ74+AM74+AG74+AC74+AA74+Y74+W74+S74+Q74+O74+K74+I74 -> 467586.99
A75: 70 | C75: 向阳湾村 | E75: 420 | G75: 0723928953 | H75: =VLOOKUP(G75,[1]分布式发票数据!$A:$D,4) -> 45407 | I75: =VLOOKUP(G75,[1]分布式发票数据!$A:$E,5,FALSE) -> 16546.31 | J75: =VLOOKUP(G75,[2]分布式发票数据!$A:$D,4,FALSE) -> 39186 | K75: =VLOOKUP(G75,[2]分布式发票数据!$A:$E,5,FALSE) -> 14279.38 | L75: 50203 | M75: 18293.97 | N75: =VLOOKUP(G75,'[7]2022年12月-2023年3月'!$A$4:$E$193,5,FALSE) -> 88127.18 | O75: =M75+N75 -> 106421.15 | P75: =VLOOKUP(G75,[3]分布式发票数据!$A:$E,4,FALSE) -> 40198 | Q75: =VLOOKUP(G75,[3]分布式发票数据!$A:$E,5,FALSE) -> 14648.15 | R75: =VLOOKUP(G:G,[4]分布式发票数据!$A:$E,4,FALSE) -> 43450 | S75: =VLOOKUP(G:G,[4]分布式发票数据!$A:$E,5,FALSE) -> 15833.18 | T75: =VLOOKUP(G75,[5]分布式发票数据!$A$4:$E$193,4,FALSE) -> 50174 | U75: =VLOOKUP(G75,[5]分布式发票数据!$A$4:$E$193,5,FALSE) -> 18283.41 | V75: =VLOOKUP(G75,'[8]2023年4-6月'!$A$4:$E$193,5,FALSE) -> 64983.96 | W75: =U75+V75 -> 83267.37 | X75: =VLOOKUP(G75,[6]分布式发票数据!$A$4:$D$193,4,FALSE) -> 41616 | Y75: =VLOOKUP(G75,[6]分布式发票数据!$A$4:$E$193,5,FALSE) -> 15164.87 | Z75: =VLOOKUP(G75,[9]分布式发票数据!$A$4:$E$193,4,FALSE) -> 45640 | AA75: =VLOOKUP(G75,[9]分布式发票数据!$A$4:$E$193,5,FALSE) -> 16631.22 | AB75: =VLOOKUP(G75,[10]分布式发票数据!$A:$D,4,FALSE) -> 39023 | AC75: =VLOOKUP(G75,[10]分布式发票数据!$A:$E,5,FALSE) -> 14219.98 | AD75: =VLOOKUP(G75,[12]sheet1!$G:$S,13,FALSE) -> 50036 | AE75: =VLOOKUP(G75,[12]sheet1!$G:$X,18,FALSE) -> 18233.12 | AF75: =VLOOKUP(G75,[11]Sheet1!$B:$E,4,FALSE) -> 61321.08 | AG75: =AE75+AF75 -> 79554.2 | AH75: =VLOOKUP(G75,[13]Sheet1!$C$1:$H$65536,6,FALSE) -> 45218 | AI75: =VLOOKUP(G75,[13]Sheet1!$C$1:$I$65536,7,FALSE) -> 16477.44 | AJ75: =VLOOKUP(G75,[14]Sheet1!$E$1:$I$65536,5,FALSE) -> 21957.86 | AK75: =VLOOKUP(G75,[15]Sheet1!$E$1:$I$65536,5,FALSE) -> 24297.48 | AL75: =AJ75+AK75 -> 46255.34 | AM75: =AI75+AL75 -> 62732.78 | AN75: =VLOOKUP(G75,[16]分布式营销结算明细接收数据!$E:$K,7,FALSE) -> 39265 | AO75: =VLOOKUP(G75,[16]分布式营销结算明细接收数据!$E:$O,11,FALSE) -> 14308.17 | AP75: =VLOOKUP(G75,[16]分布式营销结算明细接收数据!$E:$R,14,FALSE) -> 19067.08 | AQ75: =AO75+AP75 -> 33375.25 | AR75: =AQ75+AM75+AG75+AC75+AA75+Y75+W75+S75+Q75+O75+K75+I75 -> 472673.84
A76: 71 | G76: 0723933816 | H76: =VLOOKUP(G76,[1]分布式发票数据!$A:$D,4) -> 41525 | I76: =VLOOKUP(G76,[1]分布式发票数据!$A:$E,5,FALSE) -> 15131.71 | J76: =VLOOKUP(G76,[2]分布式发票数据!$A:$D,4,FALSE) -> 36904 | K76: =VLOOKUP(G76,[2]分布式发票数据!$A:$E,5,FALSE) -> 13447.82 | L76: 48570 | M76: 17698.91 | N76: =VLOOKUP(G76,'[7]2022年12月-2023年3月'!$A$4:$E$193,5,FALSE) -> 81868.76 | O76: =M76+N76 -> 99567.67 | P76: =VLOOKUP(G76,[3]分布式发票数据!$A:$E,4,FALSE) -> 39091 | Q76: =VLOOKUP(G76,[3]分布式发票数据!$A:$E,5,FALSE) -> 14244.76 | R76: =VLOOKUP(G:G,[4]分布式发票数据!$A:$E,4,FALSE) -> 41654 | S76: =VLOOKUP(G:G,[4]分布式发票数据!$A:$E,5,FALSE) -> 15178.72 | T76: =VLOOKUP(G76,[5]分布式发票数据!$A$4:$E$193,4,FALSE) -> 48781 | U76: =VLOOKUP(G76,[5]分布式发票数据!$A$4:$E$193,5,FALSE) -> 17775.8 | V76: =VLOOKUP(G76,'[8]2023年4-6月'!$A$4:$E$193,5,FALSE) -> 62897.82 | W76: =U76+V76 -> 80673.62 | X76: =VLOOKUP(G76,[6]分布式发票数据!$A$4:$D$193,4,FALSE) -> 40066 | Y76: =VLOOKUP(G76,[6]分布式发票数据!$A$4:$E$193,5,FALSE) -> 14600.05 | Z76: =VLOOKUP(G76,[9]分布式发票数据!$A$4:$E$193,4,FALSE) -> 43468 | AA76: =VLOOKUP(G76,[9]分布式发票数据!$A$4:$E$193,5,FALSE) -> 15839.74 | AB76: =VLOOKUP(G76,[10]分布式发票数据!$A:$D,4,FALSE) -> 36646 | AC76: =VLOOKUP(G76,[10]分布式发票数据!$A:$E,5,FALSE) -> 13353.8 | AD76: =VLOOKUP(G76,[12]sheet1!$G:$S,13,FALSE) -> 46230 | AE76: =VLOOKUP(G76,[12]sheet1!$G:$X,18,FALSE) -> 16846.21 | AF76: =VLOOKUP(G76,[11]Sheet1!$B:$E,4,FALSE) -> 58359.41 | AG76: =AE76+AF76 -> 75205.62 | AH76: =VLOOKUP(G76,[13]Sheet1!$C$1:$H$65536,6,FALSE) -> 41480 | AI76: =VLOOKUP(G76,[13]Sheet1!$C$1:$I$65536,7,FALSE) -> 15115.31 | AJ76: =VLOOKUP(G76,[14]Sheet1!$E$1:$I$65536,5,FALSE) -> 20142.69 | AK76: =VLOOKUP(G76,[15]Sheet1!$E$1:$I$65536,5,FALSE) -> 22449.29 | AL76: =AJ76+AK76 -> 42591.98 | AM76: =AI76+AL76 -> 57707.29 | AN76: =VLOOKUP(G76,[16]分布式营销结算明细接收数据!$E:$K,7,FALSE) -> 34033 | AO76: =VLOOKUP(G76,[16]分布式营销结算明细接收数据!$E:$O,11,FALSE) -> 12401.63 | AP76: =VLOOKUP(G76,[16]分布式营销结算明细接收数据!$E:$R,14,FALSE) -> 16526.42 | AQ76: =AO76+AP76 -> 28928.05 | AR76: =AQ76+AM76+AG76+AC76+AA76+Y76+W76+S76+Q76+O76+K76+I76 -> 443878.85
A77: 72 | G77: 0723934170 | H77: =VLOOKUP(G77,[1]分布式发票数据!$A:$D,4) -> 29294 | I77: =VLOOKUP(G77,[1]分布式发票数据!$A:$E,5,FALSE) -> 10674.73 | J77: =VLOOKUP(G77,[2]分布式发票数据!$A:$D,4,FALSE) -> 25434 | K77: =VLOOKUP(G77,[2]分布式发票数据!$A:$E,5,FALSE) -> 9268.15 | L77: 32956 | M77: 12009.17 | N77: =VLOOKUP(G77,'[7]2022年12月-2023年3月'!$A$4:$E$193,5,FALSE) -> 57094.91 | O77: =M77+N77 -> 69104.08 | P77: =VLOOKUP(G77,[3]分布式发票数据!$A:$E,4,FALSE) -> 27790 | Q77: =VLOOKUP(G77,[3]分布式发票数据!$A:$E,5,FALSE) -> 10126.68 | R77: =VLOOKUP(G:G,[4]分布式发票数据!$A:$E,4,FALSE) -> 42449 | S77: =VLOOKUP(G:G,[4]分布式发票数据!$A:$E,5,FALSE) -> 15468.42 | T77: =VLOOKUP(G77,[5]分布式发票数据!$A$4:$E$193,4,FALSE) -> 49306 | U77: =VLOOKUP(G77,[5]分布式发票数据!$A$4:$E$193,5,FALSE) -> 17967.11 | V77: =VLOOKUP(G77,'[8]2023年4-6月'!$A$4:$E$193,5,FALSE) -> 58051.04 | W77: =U77+V77 -> 76018.15 | X77: =VLOOKUP(G77,[6]分布式发票数据!$A$4:$D$193,4,FALSE) -> 40734 | Y77: =VLOOKUP(G77,[6]分布式发票数据!$A$4:$E$193,5,FALSE) -> 14843.47 | Z77: =VLOOKUP(G77,[9]分布式发票数据!$A$4:$E$193,4,FALSE) -> 44612 | AA77: =VLOOKUP(G77,[9]分布式发票数据!$A$4:$E$193,5,FALSE) -> 16256.61 | AB77: =VLOOKUP(G77,[10]分布式发票数据!$A:$D,4,FALSE) -> 38000 | AC77: =VLOOKUP(G77,[10]分布式发票数据!$A:$E,5,FALSE) -> 13847.2 | AD77: =VLOOKUP(G77,[12]sheet1!$G:$S,13,FALSE) -> 48715 | AE77: =VLOOKUP(G77,[12]sheet1!$G:$X,18,FALSE) -> 17751.75 | AF77: =VLOOKUP(G77,[11]Sheet1!$B:$E,4,FALSE) -> 59896.82 | AG77: =AE77+AF77 -> 77648.57 | AH77: =VLOOKUP(G77,[13]Sheet1!$C$1:$H$65536,6,FALSE) -> 43768 | AI77: =VLOOKUP(G77,[13]Sheet1!$C$1:$I$65536,7,FALSE) -> 15949.06 | AJ77: =VLOOKUP(G77,[14]Sheet1!$E$1:$I$65536,5,FALSE) -> 21253.74 | AK77: =VLOOKUP(G77,[15]Sheet1!$E$1:$I$65536,5,FALSE) -> 23656 | AL77: =AJ77+AK77 -> 44909.74 | AM77: =AI77+AL77 -> 60858.8 | AN77: =VLOOKUP(G77,[16]分布式营销结算明细接收数据!$E:$K,7,FALSE) -> 38278 | AO77: =VLOOKUP(G77,[16]分布式营销结算明细接收数据!$E:$O,11,FALSE) -> 13948.5 | AP77: =VLOOKUP(G77,[16]分布式营销结算明细接收数据!$E:$R,14,FALSE) -> 18587.8 | AQ77: =AO77+AP77 -> 32536.3 | AR77: =AQ77+AM77+AG77+AC77+AA77+Y77+W77+S77+Q77+O77+K77+I77 -> 406651.16
A78: 73 | C78: 兰家庄村 | E78: 196 | G78: 0723948287 | H78: =VLOOKUP(G78,[1]分布式发票数据!$A:$D,4) -> 42032 | I78: =VLOOKUP(G78,[1]分布式发票数据!$A:$E,5,FALSE) -> 15316.46 | J78: =VLOOKUP(G78,[2]分布式发票数据!$A:$D,4,FALSE) -> 37162 | K78: =VLOOKUP(G78,[2]分布式发票数据!$A:$E,5,FALSE) -> 13541.83 | L78: 48856 | M78: 17803.13 | N78: =VLOOKUP(G78,'[7]2022年12月-2023年3月'!$A$4:$E$193,5,FALSE) -> 83138.6 | O78: =M78+N78 -> 100941.73 | P78: =VLOOKUP(G78,[3]分布式发票数据!$A:$E,4,FALSE) -> 39413 | Q78: =VLOOKUP(G78,[3]分布式发票数据!$A:$E,5,FALSE) -> 14362.1 | R78: =VLOOKUP(G:G,[4]分布式发票数据!$A:$E,4,FALSE) -> 43019 | S78: =VLOOKUP(G:G,[4]分布式发票数据!$A:$E,5,FALSE) -> 15676.12 | T78: =VLOOKUP(G78,[5]分布式发票数据!$A$4:$E$193,4,FALSE) -> 49884 | U78: =VLOOKUP(G78,[5]分布式发票数据!$A$4:$E$193,5,FALSE) -> 18177.73 | V78: =VLOOKUP(G78,'[8]2023年4-6月'!$A$4:$E$193,5,FALSE) -> 64252.65 | W78: =U78+V78 -> 82430.38 | X78: =VLOOKUP(G78,[6]分布式发票数据!$A$4:$D$193,4,FALSE) -> 41332 | Y78: =VLOOKUP(G78,[6]分布式发票数据!$A$4:$E$193,5,FALSE) -> 15061.38 | Z78: =VLOOKUP(G78,[9]分布式发票数据!$A$4:$E$193,4,FALSE) -> 44999 | AA78: =VLOOKUP(G78,[9]分布式发票数据!$A$4:$E$193,5,FALSE) -> 16397.64 | AB78: =VLOOKUP(G78,[10]分布式发票数据!$A:$D,4,FALSE) -> 38230 | AC78: =VLOOKUP(G78,[10]分布式发票数据!$A:$E,5,FALSE) -> 13931.01 | AD78: =VLOOKUP(G78,[12]sheet1!$G:$S,13,FALSE) -> 48853 | AE78: =VLOOKUP(G78,[12]sheet1!$G:$X,18,FALSE) -> 17802.03 | AF78: =VLOOKUP(G78,[11]Sheet1!$B:$E,4,FALSE) -> 60486.82 | AG78: =AE78+AF78 -> 78288.85 | AH78: =VLOOKUP(G78,[13]Sheet1!$C$1:$H$65536,6,FALSE) -> 42934 | AI78: =VLOOKUP(G78,[13]Sheet1!$C$1:$I$65536,7,FALSE) -> 15645.15 | AJ78: =VLOOKUP(G78,[14]Sheet1!$E$1:$I$65536,5,FALSE) -> 20848.75 | AK78: =VLOOKUP(G78,[15]Sheet1!$E$1:$I$65536,5,FALSE) -> 23723.02 | AL78: =AJ78+AK78 -> 44571.77 | AM78: =AI78+AL78 -> 60216.92 | AN78: =VLOOKUP(G78,[16]分布式营销结算明细接收数据!$E:$K,7,FALSE) -> 34372 | AO78: =VLOOKUP(G78,[16]分布式营销结算明细接收数据!$E:$O,11,FALSE) -> 12525.16 | AP78: =VLOOKUP(G78,[16]分布式营销结算明细接收数据!$E:$R,14,FALSE) -> 16691.04 | AQ78: =AO78+AP78 -> 29216.2 | AR78: =AQ78+AM78+AG78+AC78+AA78+Y78+W78+S78+Q78+O78+K78+I78 -> 455380.62
A79: 74 | C79: 南李庄村 | E79: 217 | G79: 0723950271 | H79: =VLOOKUP(G79,[1]分布式发票数据!$A:$D,4) -> 40811 | I79: =VLOOKUP(G79,[1]分布式发票数据!$A:$E,5,FALSE) -> 14871.53 | J79: =VLOOKUP(G79,[2]分布式发票数据!$A:$D,4,FALSE) -> 36870 | K79: =VLOOKUP(G79,[2]分布式发票数据!$A:$E,5,FALSE) -> 13435.43 | L79: 48611 | M79: 17713.85 | N79: =VLOOKUP(G79,'[7]2022年12月-2023年3月'!$A$4:$E$193,5,FALSE) -> 81190.37 | O79: =M79+N79 -> 98904.22 | P79: =VLOOKUP(G79,[3]分布式发票数据!$A:$E,4,FALSE) -> 30802 | Q79: =VLOOKUP(G79,[3]分布式发票数据!$A:$E,5,FALSE) -> 11224.25 | R79: =VLOOKUP(G:G,[4]分布式发票数据!$A:$E,4,FALSE) -> 36697 | S79: =VLOOKUP(G:G,[4]分布式发票数据!$A:$E,5,FALSE) -> 13372.39 | T79: =VLOOKUP(G79,[5]分布式发票数据!$A$4:$E$193,4,FALSE) -> 50573 | U79: =VLOOKUP(G79,[5]分布式发票数据!$A$4:$E$193,5,FALSE) -> 18428.8 | V79: =VLOOKUP(G79,'[8]2023年4-6月'!$A$4:$E$193,5,FALSE) -> 57335.76 | W79: =U79+V79 -> 75764.56 | X79: =VLOOKUP(G79,[6]分布式发票数据!$A$4:$D$193,4,FALSE) -> 41242 | Y79: =VLOOKUP(G79,[6]分布式发票数据!$A$4:$E$193,5,FALSE) -> 15028.58 | Z79: =VLOOKUP(G79,[9]分布式发票数据!$A$4:$E$193,4,FALSE) -> 44585 | AA79: =VLOOKUP(G79,[9]分布式发票数据!$A$4:$E$193,5,FALSE) -> 16246.77 | AB79: =VLOOKUP(G79,[10]分布式发票数据!$A:$D,4,FALSE) -> 37937 | AC79: =VLOOKUP(G79,[10]分布式发票数据!$A:$E,5,FALSE) -> 13824.24 | AD79: =VLOOKUP(G79,[12]sheet1!$G:$S,13,FALSE) -> 46565 | AE79: =VLOOKUP(G79,[12]sheet1!$G:$X,18,FALSE) -> 16968.29 | AF79: =VLOOKUP(G79,[11]Sheet1!$B:$E,4,FALSE) -> 60099.81 | AG79: =AE79+AF79 -> 77068.1 | AH79: =VLOOKUP(G79,[13]Sheet1!$C$1:$H$65536,6,FALSE) -> 40682 | AI79: =VLOOKUP(G79,[13]Sheet1!$C$1:$I$65536,7,FALSE) -> 14824.52 | AJ79: =VLOOKUP(G79,[14]Sheet1!$E$1:$I$65536,5,FALSE) -> 19755.18 | AK79: =VLOOKUP(G79,[15]Sheet1!$E$1:$I$65536,5,FALSE) -> 22611.96 | AL79: =AJ79+AK79 -> 42367.14 | AM79: =AI79+AL79 -> 57191.66 | AN79: =VLOOKUP(G79,[16]分布式营销结算明细接收数据!$E:$K,7,FALSE) -> 34152 | AO79: =VLOOKUP(G79,[16]分布式营销结算明细接收数据!$E:$O,11,FALSE) -> 12444.99 | AP79: =VLOOKUP(G79,[16]分布式营销结算明细接收数据!$E:$R,14,FALSE) -> 16584.21 | AQ79: =AO79+AP79 -> 29029.2 | AR79: =AQ79+AM79+AG79+AC79+AA79+Y79+W79+S79+Q79+O79+K79+I79 -> 435960.93
A80: 75 | C80: 土安村 | E80: 420 | G80: 0723950659 | H80: =VLOOKUP(G80,[1]分布式发票数据!$A:$D,4) -> 37368 | I80: =VLOOKUP(G80,[1]分布式发票数据!$A:$E,5,FALSE) -> 13616.9 | J80: =VLOOKUP(G80,[2]分布式发票数据!$A:$D,4,FALSE) -> 34628 | K80: =VLOOKUP(G80,[2]分布式发票数据!$A:$E,5,FALSE) -> 12618.44 | L80: 45926 | M80: 16735.43 | N80: =VLOOKUP(G80,'[7]2022年12月-2023年3月'!$A$4:$E$193,5,FALSE) -> 74347.31 | O80: =M80+N80 -> 91082.74 | P80: =VLOOKUP(G80,[3]分布式发票数据!$A:$E,4,FALSE) -> 38467 | Q80: =VLOOKUP(G80,[3]分布式发票数据!$A:$E,5,FALSE) -> 14017.37 | R80: =VLOOKUP(G:G,[4]分布式发票数据!$A:$E,4,FALSE) -> 40660 | S80: =VLOOKUP(G:G,[4]分布式发票数据!$A:$E,5,FALSE) -> 14816.5 | T80: =VLOOKUP(G80,[5]分布式发票数据!$A$4:$E$193,4,FALSE) -> 48982 | U80: =VLOOKUP(G80,[5]分布式发票数据!$A$4:$E$193,5,FALSE) -> 17849.04 | V80: =VLOOKUP(G80,'[8]2023年4-6月'!$A$4:$E$193,5,FALSE) -> 62209.74 | W80: =U80+V80 -> 80058.78 | X80: =VLOOKUP(G80,[6]分布式发票数据!$A$4:$D$193,4,FALSE) -> 39730 | Y80: =VLOOKUP(G80,[6]分布式发票数据!$A$4:$E$193,5,FALSE) -> 14477.61 | Z80: =VLOOKUP(G80,[9]分布式发票数据!$A$4:$E$193,4,FALSE) -> 42793 | AA80: =VLOOKUP(G80,[9]分布式发票数据!$A$4:$E$193,5,FALSE) -> 15593.77 | AB80: =VLOOKUP(G80,[10]分布式发票数据!$A:$D,4,FALSE) -> 36096 | AC80: =VLOOKUP(G80,[10]分布式发票数据!$A:$E,5,FALSE) -> 13153.38 | AD80: =VLOOKUP(G80,[12]sheet1!$G:$S,13,FALSE) -> 43723 | AE80: =VLOOKUP(G80,[12]sheet1!$G:$X,18,FALSE) -> 15932.66 | AF80: =VLOOKUP(G80,[11]Sheet1!$B:$E,4,FALSE) -> 57601.39 | AG80: =AE80+AF80 -> 73534.05 | AH80: =VLOOKUP(G80,[13]Sheet1!$C$1:$H$65536,6,FALSE) -> 37666 | AI80: =VLOOKUP(G80,[13]Sheet1!$C$1:$I$65536,7,FALSE) -> 13725.49 | AJ80: =VLOOKUP(G80,[14]Sheet1!$E$1:$I$65536,5,FALSE) -> 18290.61 | AK80: =VLOOKUP(G80,[15]Sheet1!$E$1:$I$65536,5,FALSE) -> 21231.89 | AL80: =AJ80+AK80 -> 39522.5 | AM80: =AI80+AL80 -> 53247.99 | AN80: =VLOOKUP(G80,[16]分布式营销结算明细接收数据!$E:$K,7,FALSE) -> 30293 | AO80: =VLOOKUP(G80,[16]分布式营销结算明细接收数据!$E:$O,11,FALSE) -> 11038.77 | AP80: =VLOOKUP(G80,[16]分布式营销结算明细接收数据!$E:$R,14,FALSE) -> 14710.28 | AQ80: =AO80+AP80 -> 25749.05 | AR80: =AQ80+AM80+AG80+AC80+AA80+Y80+W80+S80+Q80+O80+K80+I80 -> 421966.58
A81: 76 | C81: 三道城村 | E81: 420 | G81: 0723950880 | H81: =VLOOKUP(G81,[1]分布式发票数据!$A:$D,4) -> 35119 | I81: =VLOOKUP(G81,[1]分布式发票数据!$A:$E,5,FALSE) -> 12797.36 | J81: =VLOOKUP(G81,[2]分布式发票数据!$A:$D,4,FALSE) -> 33134 | K81: =VLOOKUP(G81,[2]分布式发票数据!$A:$E,5,FALSE) -> 12074.03 | L81: 44315 | M81: 16148.39 | N81: =VLOOKUP(G81,'[7]2022年12月-2023年3月'!$A$4:$E$193,5,FALSE) -> 71515.28 | O81: =M81+N81 -> 87663.67 | P81: =VLOOKUP(G81,[3]分布式发票数据!$A:$E,4,FALSE) -> 29103 | Q81: =VLOOKUP(G81,[3]分布式发票数据!$A:$E,5,FALSE) -> 10605.13 | R81: =VLOOKUP(G:G,[4]分布式发票数据!$A:$E,4,FALSE) -> 34502 | S81: =VLOOKUP(G:G,[4]分布式发票数据!$A:$E,5,FALSE) -> 12572.53 | T81: =VLOOKUP(G81,[5]分布式发票数据!$A$4:$E$193,4,FALSE) -> 41486 | U81: =VLOOKUP(G81,[5]分布式发票数据!$A$4:$E$193,5,FALSE) -> 15117.5 | V81: =VLOOKUP(G81,'[8]2023年4-6月'!$A$4:$E$193,5,FALSE) -> 51032.19 | W81: =U81+V81 -> 66149.69 | X81: =VLOOKUP(G81,[6]分布式发票数据!$A$4:$D$193,4,FALSE) -> 33076 | Y81: =VLOOKUP(G81,[6]分布式发票数据!$A$4:$E$193,5,FALSE) -> 12052.89 | Z81: =VLOOKUP(G81,[9]分布式发票数据!$A$4:$E$193,4,FALSE) -> 40702 | AA81: =VLOOKUP(G81,[9]分布式发票数据!$A$4:$E$193,5,FALSE) -> 14831.81 | AB81: =VLOOKUP(G81,[10]分布式发票数据!$A:$D,4,FALSE) -> 17923 | AC81: =VLOOKUP(G81,[10]分布式发票数据!$A:$E,5,FALSE) -> 6531.14 | AD81: =VLOOKUP(G81,[12]sheet1!$G:$S,13,FALSE) -> 21559 | AE81: =VLOOKUP(G81,[12]sheet1!$G:$X,18,FALSE) -> 7856.1 | AF81: =VLOOKUP(G81,[11]Sheet1!$B:$E,4,FALSE) -> 44530.01 | AG81: =AE81+AF81 -> 52386.11 | AH81: =VLOOKUP(G81,[13]Sheet1!$C$1:$H$65536,6,FALSE) -> 27948 | AI81: =VLOOKUP(G81,[13]Sheet1!$C$1:$I$65536,7,FALSE) -> 10184.25 | AJ81: =VLOOKUP(G81,[14]Sheet1!$E$1:$I$65536,5,FALSE) -> 13571.55 | AK81: =VLOOKUP(G81,[15]Sheet1!$E$1:$I$65536,5,FALSE) -> 10469.05 | AL81: =AJ81+AK81 -> 24040.6 | AM81: =AI81+AL81 -> 34224.85 | AN81: =VLOOKUP(G81,[16]分布式营销结算明细接收数据!$E:$K,7,FALSE) -> 28505 | AO81: =VLOOKUP(G81,[16]分布式营销结算明细接收数据!$E:$O,11,FALSE) -> 10387.22 | AP81: =VLOOKUP(G81,[16]分布式营销结算明细接收数据!$E:$R,14,FALSE) -> 13842.03 | AQ81: =AO81+AP81 -> 24229.25 | AR81: =AQ81+AM81+AG81+AC81+AA81+Y81+W81+S81+Q81+O81+K81+I81 -> 346118.46
A82: 77 | C82: 黄郊村 | E82: 1113 | G82: 0723956686 | H82: =VLOOKUP(G82,[1]分布式发票数据!$A:$D,4) -> 34511 | I82: =VLOOKUP(G82,[1]分布式发票数据!$A:$E,5,FALSE) -> 12575.81 | J82: =VLOOKUP(G82,[2]分布式发票数据!$A:$D,4,FALSE) -> 29815 | K82: =VLOOKUP(G82,[2]分布式发票数据!$A:$E,5,FALSE) -> 10864.59 | L82: 38639 | M82: 14080.05 | N82: =VLOOKUP(G82,'[7]2022年12月-2023年3月'!$A$4:$E$193,5,FALSE) -> 67220.15 | O82: =M82+N82 -> 81300.2 | P82: =VLOOKUP(G82,[3]分布式发票数据!$A:$E,4,FALSE) -> 30782 | Q82: =VLOOKUP(G82,[3]分布式发票数据!$A:$E,5,FALSE) -> 11216.96 | R82: =VLOOKUP(G:G,[4]分布式发票数据!$A:$E,4,FALSE) -> 33414 | S82: =VLOOKUP(G:G,[4]分布式发票数据!$A:$E,5,FALSE) -> 12176.06 | T82: =VLOOKUP(G82,[5]分布式发票数据!$A$4:$E$193,4,FALSE) -> 33462 | U82: =VLOOKUP(G82,[5]分布式发票数据!$A$4:$E$193,5,FALSE) -> 12193.55 | V82: =VLOOKUP(G82,'[8]2023年4-6月'!$A$4:$E$193,5,FALSE) -> 47422.73 | W82: =U82+V82 -> 59616.28 | X82: =VLOOKUP(G82,[6]分布式发票数据!$A$4:$D$193,4,FALSE) -> 27162 | Y82: =VLOOKUP(G82,[6]分布式发票数据!$A$4:$E$193,5,FALSE) -> 9897.83 | Z82: =VLOOKUP(G82,[9]分布式发票数据!$A$4:$E$193,4,FALSE) -> 34976 | AA82: =VLOOKUP(G82,[9]分布式发票数据!$A$4:$E$193,5,FALSE) -> 12745.25 | AB82: =VLOOKUP(G82,[10]分布式发票数据!$A:$D,4,FALSE) -> 29878 | AC82: =VLOOKUP(G82,[10]分布式发票数据!$A:$E,5,FALSE) -> 10887.54 | AD82: =VLOOKUP(G82,[12]sheet1!$G:$S,13,FALSE) -> 38515 | AE82: =VLOOKUP(G82,[12]sheet1!$G:$X,18,FALSE) -> 14034.87 | AF82: =VLOOKUP(G82,[11]Sheet1!$B:$E,4,FALSE) -> 44682.98 | AG82: =AE82+AF82 -> 58717.85 | AH82: =VLOOKUP(G82,[13]Sheet1!$C$1:$H$65536,6,FALSE) -> 34476 | AI82: =VLOOKUP(G82,[13]Sheet1!$C$1:$I$65536,7,FALSE) -> 12563.05 | AJ82: =VLOOKUP(G82,[14]Sheet1!$E$1:$I$65536,5,FALSE) -> 16741.55 | AK82: =VLOOKUP(G82,[15]Sheet1!$E$1:$I$65536,5,FALSE) -> 18702.88 | AL82: =AJ82+AK82 -> 35444.43 | AM82: =AI82+AL82 -> 48007.48 | AN82: =VLOOKUP(G82,[16]分布式营销结算明细接收数据!$E:$K,7,FALSE) -> 30352 | AO82: =VLOOKUP(G82,[16]分布式营销结算明细接收数据!$E:$O,11,FALSE) -> 11060.27 | AP82: =VLOOKUP(G82,[16]分布式营销结算明细接收数据!$E:$R,14,FALSE) -> 14738.93 | AQ82: =AO82+AP82 -> 25799.2 | AR82: =AQ82+AM82+AG82+AC82+AA82+Y82+W82+S82+Q82+O82+K82+I82 -> 353805.05
A83: 78 | C83: 沙岭 | G83: 0723956833 | H83: =VLOOKUP(G83,[1]分布式发票数据!$A:$D,4) -> 44994 | I83: =VLOOKUP(G83,[1]分布式发票数据!$A:$E,5,FALSE) -> 16395.81 | J83: =VLOOKUP(G83,[2]分布式发票数据!$A:$D,4,FALSE) -> 39018 | K83: =VLOOKUP(G83,[2]分布式发票数据!$A:$E,5,FALSE) -> 14218.16 | L83: 51104 | M83: 18622.3 | N83: =VLOOKUP(G83,'[7]2022年12月-2023年3月'!$A$4:$E$193,5,FALSE) -> 87983.44 | O83: =M83+N83 -> 106605.74 | P83: =VLOOKUP(G83,[3]分布式发票数据!$A:$E,4,FALSE) -> 40698 | Q83: =VLOOKUP(G83,[3]分布式发票数据!$A:$E,5,FALSE) -> 14830.35 | R83: =VLOOKUP(G:G,[4]分布式发票数据!$A:$E,4,FALSE) -> 44516 | S83: =VLOOKUP(G:G,[4]分布式发票数据!$A:$E,5,FALSE) -> 16221.63 | T83: =VLOOKUP(G83,[5]分布式发票数据!$A$4:$E$193,4,FALSE) -> 51277 | U83: =VLOOKUP(G83,[5]分布式发票数据!$A$4:$E$193,5,FALSE) -> 18685.34 | V83: =VLOOKUP(G83,'[8]2023年4-6月'!$A$4:$E$193,5,FALSE) -> 66280.03 | W83: =U83+V83 -> 84965.37 | X83: =VLOOKUP(G83,[6]分布式发票数据!$A$4:$D$193,4,FALSE) -> 42602 | Y83: =VLOOKUP(G83,[6]分布式发票数据!$A$4:$E$193,5,FALSE) -> 15524.17 | Z83: =VLOOKUP(G83,[9]分布式发票数据!$A$4:$E$193,4,FALSE) -> 17378 | AA83: =VLOOKUP(G83,[9]分布式发票数据!$A$4:$E$193,5,FALSE) -> 6332.54 | AB83: =VLOOKUP(G83,[10]分布式发票数据!$A:$D,4,FALSE) -> 29892 | AC83: =VLOOKUP(G83,[10]分布式发票数据!$A:$E,5,FALSE) -> 10892.64 | AD83: =VLOOKUP(G83,[12]sheet1!$G:$S,13,FALSE) -> 49507 | AE83: =VLOOKUP(G83,[12]sheet1!$G:$X,18,FALSE) -> 18040.35 | AF83: =VLOOKUP(G83,[11]Sheet1!$B:$E,4,FALSE) -> 43641.85 | AG83: =AE83+AF83 -> 61682.2 | AH83: =VLOOKUP(G83,[13]Sheet1!$C$1:$H$65536,6,FALSE) -> 44773 | AI83: =VLOOKUP(G83,[13]Sheet1!$C$1:$I$65536,7,FALSE) -> 16315.28 | AJ83: =VLOOKUP(G83,[14]Sheet1!$E$1:$I$65536,5,FALSE) -> 21741.77 | AK83: =VLOOKUP(G83,[15]Sheet1!$E$1:$I$65536,5,FALSE) -> 24040.6 | AL83: =AJ83+AK83 -> 45782.37 | AM83: =AI83+AL83 -> 62097.65 | AN83: =VLOOKUP(G83,[16]分布式营销结算明细接收数据!$E:$K,7,FALSE) -> 37313 | AO83: =VLOOKUP(G83,[16]分布式营销结算明细接收数据!$E:$O,11,FALSE) -> 13596.86 | AP83: =VLOOKUP(G83,[16]分布式营销结算明细接收数据!$E:$R,14,FALSE) -> 18119.19 | AQ83: =AO83+AP83 -> 31716.05 | AR83: =AQ83+AM83+AG83+AC83+AA83+Y83+W83+S83+Q83+O83+K83+I83 -> 441482.31
A84: 79 | C84: 衙庭 | G84: 0723960852 | H84: =VLOOKUP(G84,[1]分布式发票数据!$A:$D,4) -> 45698 | I84: =VLOOKUP(G84,[1]分布式发票数据!$A:$E,5,FALSE) -> 16652.35 | J84: =VLOOKUP(G84,[2]分布式发票数据!$A:$D,4,FALSE) -> 39565 | K84: =VLOOKUP(G84,[2]分布式发票数据!$A:$E,5,FALSE) -> 14417.49 | L84: 51329 | M84: 18704.29 | N84: =VLOOKUP(G84,'[7]2022年12月-2023年3月'!$A$4:$E$193,5,FALSE) -> 88769.13 | O84: =M84+N84 -> 107473.42 | P84: =VLOOKUP(G84,[3]分布式发票数据!$A:$E,4,FALSE) -> 40835 | Q84: =VLOOKUP(G84,[3]分布式发票数据!$A:$E,5,FALSE) -> 14880.27 | R84: =VLOOKUP(G:G,[4]分布式发票数据!$A:$E,4,FALSE) -> 44368 | S84: =VLOOKUP(G:G,[4]分布式发票数据!$A:$E,5,FALSE) -> 16167.7 | T84: =VLOOKUP(G84,[5]分布式发票数据!$A$4:$E$193,4,FALSE) -> 44362 | U84: =VLOOKUP(G84,[5]分布式发票数据!$A$4:$E$193,5,FALSE) -> 16165.51 | V84: =VLOOKUP(G84,'[8]2023年4-6月'!$A$4:$E$193,5,FALSE) -> 62916.77 | W84: =U84+V84 -> 79082.28 | X84: =VLOOKUP(G84,[6]分布式发票数据!$A$4:$D$193,4,FALSE) -> 35984 | Y84: =VLOOKUP(G84,[6]分布式发票数据!$A$4:$E$193,5,FALSE) -> 13112.57 | Z84: =VLOOKUP(G84,[9]分布式发票数据!$A$4:$E$193,4,FALSE) -> 42737 | AA84: =VLOOKUP(G84,[9]分布式发票数据!$A$4:$E$193,5,FALSE) -> 15573.36 | AB84: =VLOOKUP(G84,[10]分布式发票数据!$A:$D,4,FALSE) -> 35396 | AC84: =VLOOKUP(G84,[10]分布式发票数据!$A:$E,5,FALSE) -> 12898.3 | AD84: =VLOOKUP(G84,[12]sheet1!$G:$S,13,FALSE) -> 45518 | AE84: =VLOOKUP(G84,[12]sheet1!$G:$X,18,FALSE) -> 16586.76 | AF84: =VLOOKUP(G84,[11]Sheet1!$B:$E,4,FALSE) -> 55415.22 | AG84: =AE84+AF84 -> 72001.98 | AH84: =VLOOKUP(G84,[13]Sheet1!$C$1:$H$65536,6,FALSE) -> 41064 | AI84: =VLOOKUP(G84,[13]Sheet1!$C$1:$I$65536,7,FALSE) -> 14963.72 | AJ84: =VLOOKUP(G84,[14]Sheet1!$E$1:$I$65536,5,FALSE) -> 19940.68 | AK84: =VLOOKUP(G84,[15]Sheet1!$E$1:$I$65536,5,FALSE) -> 22103.54 | AL84: =AJ84+AK84 -> 42044.22 | AM84: =AI84+AL84 -> 57007.94 | AN84: =VLOOKUP(G84,[16]分布式营销结算明细接收数据!$E:$K,7,FALSE) -> 35525 | AO84: =VLOOKUP(G84,[16]分布式营销结算明细接收数据!$E:$O,11,FALSE) -> 12945.31 | AP84: =VLOOKUP(G84,[16]分布式营销结算明细接收数据!$E:$R,14,FALSE) -> 17250.94 | AQ84: =AO84+AP84 -> 30196.25 | AR84: =AQ84+AM84+AG84+AC84+AA84+Y84+W84+S84+Q84+O84+K84+I84 -> 449463.91
A85: 80 | C85: 二十亩地村 | E85: 420 | G85: 0726198728 | H85: =VLOOKUP(G85,[1]分布式发票数据!$A:$D,4) -> 44864 | I85: =VLOOKUP(G85,[1]分布式发票数据!$A:$E,5,FALSE) -> 16348.44 | J85: =VLOOKUP(G85,[2]分布式发票数据!$A:$D,4,FALSE) -> 38754 | K85: =VLOOKUP(G85,[2]分布式发票数据!$A:$E,5,FALSE) -> 14121.96 | L85: 51330 | M85: 18704.65 | N85: =VLOOKUP(G85,'[7]2022年12月-2023年3月'!$A$4:$E$193,5,FALSE) -> 87918.37 | O85: =M85+N85 -> 106623.02 | P85: =VLOOKUP(G85,[3]分布式发票数据!$A:$E,4,FALSE) -> 40675 | Q85: =VLOOKUP(G85,[3]分布式发票数据!$A:$E,5,FALSE) -> 14821.97 | R85: =VLOOKUP(G:G,[4]分布式发票数据!$A:$E,4,FALSE) -> 44662 | S85: =VLOOKUP(G:G,[4]分布式发票数据!$A:$E,5,FALSE) -> 16274.83 | T85: =VLOOKUP(G85,[5]分布式发票数据!$A$4:$E$193,4,FALSE) -> 51336 | U85: =VLOOKUP(G85,[5]分布式发票数据!$A$4:$E$193,5,FALSE) -> 18706.84 | V85: =VLOOKUP(G85,'[8]2023年4-6月'!$A$4:$E$193,5,FALSE) -> 66368.41 | W85: =U85+V85 -> 85075.25 | X85: =VLOOKUP(G85,[6]分布式发票数据!$A$4:$D$193,4,FALSE) -> 42805 | Y85: =VLOOKUP(G85,[6]分布式发票数据!$A$4:$E$193,5,FALSE) -> 15598.14 | Z85: =VLOOKUP(G85,[9]分布式发票数据!$A$4:$E$193,4,FALSE) -> 46667 | AA85: =VLOOKUP(G85,[9]分布式发票数据!$A$4:$E$193,5,FALSE) -> 17005.45 | AB85: =VLOOKUP(G85,[10]分布式发票数据!$A:$D,4,FALSE) -> 39914 | AC85: =VLOOKUP(G85,[10]分布式发票数据!$A:$E,5,FALSE) -> 14544.66 | AD85: =VLOOKUP(G85,[12]sheet1!$G:$S,13,FALSE) -> 51013 | AE85: =VLOOKUP(G85,[12]sheet1!$G:$X,18,FALSE) -> 18589.14 | AF85: =VLOOKUP(G85,[11]Sheet1!$B:$E,4,FALSE) -> 62829.85 | AG85: =AE85+AF85 -> 81418.99 | AH85: =VLOOKUP(G85,[13]Sheet1!$C$1:$H$65536,6,FALSE) -> 45517 | AI85: =VLOOKUP(G85,[13]Sheet1!$C$1:$I$65536,7,FALSE) -> 16586.39 | AJ85: =VLOOKUP(G85,[14]Sheet1!$E$1:$I$65536,5,FALSE) -> 22103.06 | AK85: =VLOOKUP(G85,[15]Sheet1!$E$1:$I$65536,5,FALSE) -> 24771.91 | AL85: =AJ85+AK85 -> 46874.97 | AM85: =AI85+AL85 -> 63461.36 | AN85: =VLOOKUP(G85,[16]分布式营销结算明细接收数据!$E:$K,7,FALSE) -> 39194 | AO85: =VLOOKUP(G85,[16]分布式营销结算明细接收数据!$E:$O,11,FALSE) -> 14282.29 | AP85: =VLOOKUP(G85,[16]分布式营销结算明细接收数据!$E:$R,14,FALSE) -> 19032.61 | AQ85: =AO85+AP85 -> 33314.9 | AR85: =AQ85+AM85+AG85+AC85+AA85+Y85+W85+S85+Q85+O85+K85+I85 -> 478608.97
A86: 81 | C86: 西团堡 | D86: 西团堡村联村电站 | E86: 896 | F86: 1316 | G86: 0723960591 | H86: =VLOOKUP(G86,[1]分布式发票数据!$A:$D,4) -> 42898 | I86: =VLOOKUP(G86,[1]分布式发票数据!$A:$E,5,FALSE) -> 15632.03 | J86: =VLOOKUP(G86,[2]分布式发票数据!$A:$D,4,FALSE) -> 37456 | K86: =VLOOKUP(G86,[2]分布式发票数据!$A:$E,5,FALSE) -> 13648.97 | L86: 49188 | M86: 17924.11 | N86: =VLOOKUP(G86,'[7]2022年12月-2023年3月'!$A$4:$E$193,5,FALSE) -> 84333.18 | O86: =M86+N86 -> 102257.29 | P86: =VLOOKUP(G86,[3]分布式发票数据!$A:$E,4,FALSE) -> 39449 | Q86: =VLOOKUP(G86,[3]分布式发票数据!$A:$E,5,FALSE) -> 14375.22 | R86: =VLOOKUP(G:G,[4]分布式发票数据!$A:$E,4,FALSE) -> 43183 | S86: =VLOOKUP(G:G,[4]分布式发票数据!$A:$E,5,FALSE) -> 15735.89 | T86: =VLOOKUP(G86,[5]分布式发票数据!$A$4:$E$193,4,FALSE) -> 49968 | U86: =VLOOKUP(G86,[5]分布式发票数据!$A$4:$E$193,5,FALSE) -> 18208.34 | V86: =VLOOKUP(G86,'[8]2023年4-6月'!$A$4:$E$193,5,FALSE) -> 64390.55 | W86: =U86+V86 -> 82598.89 | X86: =VLOOKUP(G86,[6]分布式发票数据!$A$4:$D$193,4,FALSE) -> 41435 | Y86: =VLOOKUP(G86,[6]分布式发票数据!$A$4:$E$193,5,FALSE) -> 15098.91 | Z86: =VLOOKUP(G86,[9]分布式发票数据!$A$4:$E$193,4,FALSE) -> 45076 | AA86: =VLOOKUP(G86,[9]分布式发票数据!$A$4:$E$193,5,FALSE) -> 16425.69 | AB86: =VLOOKUP(G86,[10]分布式发票数据!$A:$D,4,FALSE) -> 38257 | AC86: =VLOOKUP(G86,[10]分布式发票数据!$A:$E,5,FALSE) -> 13940.85 | AD86: =VLOOKUP(G86,[12]sheet1!$G:$S,13,FALSE) -> 48864 | AE86: =VLOOKUP(G86,[12]sheet1!$G:$X,18,FALSE) -> 17806.04 | AF86: =VLOOKUP(G86,[11]Sheet1!$B:$E,4,FALSE) -> 60587.35 | AG86: =AE86+AF86 -> 78393.39 | AH86: =VLOOKUP(G86,[13]Sheet1!$C$1:$H$65536,6,FALSE) -> 43222 | AI86: =VLOOKUP(G86,[13]Sheet1!$C$1:$I$65536,7,FALSE) -> 15750.1 | AJ86: =VLOOKUP(G86,[14]Sheet1!$E$1:$I$65536,5,FALSE) -> 20988.6 | AK86: =VLOOKUP(G86,[15]Sheet1!$E$1:$I$65536,5,FALSE) -> 23728.36 | AL86: =AJ86+AK86 -> 44716.96 | AM86: =AI86+AL86 -> 60467.06 | AN86: =VLOOKUP(G86,[16]分布式营销结算明细接收数据!$E:$K,7,FALSE) -> 34588 | AO86: =VLOOKUP(G86,[16]分布式营销结算明细接收数据!$E:$O,11,FALSE) -> 12603.87 | AP86: =VLOOKUP(G86,[16]分布式营销结算明细接收数据!$E:$R,14,FALSE) -> 16795.93 | AQ86: =AO86+AP86 -> 29399.8 | AR86: =AQ86+AM86+AG86+AC86+AA86+Y86+W86+S86+Q86+O86+K86+I86 -> 457973.99
A87: 82 | G87: 0723962005 | H87: =VLOOKUP(G87,[1]分布式发票数据!$A:$D,4) -> 42385 | I87: =VLOOKUP(G87,[1]分布式发票数据!$A:$E,5,FALSE) -> 15445.09 | J87: =VLOOKUP(G87,[2]分布式发票数据!$A:$D,4,FALSE) -> 37358 | K87: =VLOOKUP(G87,[2]分布式发票数据!$A:$E,5,FALSE) -> 13613.26 | L87: 48834 | M87: 17795.11 | N87: =VLOOKUP(G87,'[7]2022年12月-2023年3月'!$A$4:$E$193,5,FALSE) -> 83389.17 | O87: =M87+N87 -> 101184.28 | P87: =VLOOKUP(G87,[3]分布式发票数据!$A:$E,4,FALSE) -> 35482 | Q87: =VLOOKUP(G87,[3]分布式发票数据!$A:$E,5,FALSE) -> 12929.64 | R87: =VLOOKUP(G:G,[4]分布式发票数据!$A:$E,4,FALSE) -> 41983 | S87: =VLOOKUP(G:G,[4]分布式发票数据!$A:$E,5,FALSE) -> 15298.61 | T87: =VLOOKUP(G87,[5]分布式发票数据!$A$4:$E$193,4,FALSE) -> 37103 | U87: =VLOOKUP(G87,[5]分布式发票数据!$A$4:$E$193,5,FALSE) -> 13520.33 | V87: =VLOOKUP(G87,'[8]2023年4-6月'!$A$4:$E$193,5,FALSE) -> 55634.22 | W87: =U87+V87 -> 69154.55 | X87: =VLOOKUP(G87,[6]分布式发票数据!$A$4:$D$193,4,FALSE) -> 37824 | Y87: =VLOOKUP(G87,[6]分布式发票数据!$A$4:$E$193,5,FALSE) -> 13783.07 | Z87: =VLOOKUP(G87,[9]分布式发票数据!$A$4:$E$193,4,FALSE) -> 44184 | AA87: =VLOOKUP(G87,[9]分布式发票数据!$A$4:$E$193,5,FALSE) -> 16100.65 | AB87: =VLOOKUP(G87,[10]分布式发票数据!$A:$D,4,FALSE) -> 37336 | AC87: =VLOOKUP(G87,[10]分布式发票数据!$A:$E,5,FALSE) -> 13605.24 | AD87: =VLOOKUP(G87,[12]sheet1!$G:$S,13,FALSE) -> 47285 | AE87: =VLOOKUP(G87,[12]sheet1!$G:$X,18,FALSE) -> 17230.65 | AF87: =VLOOKUP(G87,[11]Sheet1!$B:$E,4,FALSE) -> 57953.44 | AG87: =AE87+AF87 -> 75184.09 | AH87: =VLOOKUP(G87,[13]Sheet1!$C$1:$H$65536,6,FALSE) -> 42203 | AI87: =VLOOKUP(G87,[13]Sheet1!$C$1:$I$65536,7,FALSE) -> 15378.77 | AJ87: =VLOOKUP(G87,[14]Sheet1!$E$1:$I$65536,5,FALSE) -> 20493.78 | AK87: =VLOOKUP(G87,[15]Sheet1!$E$1:$I$65536,5,FALSE) -> 22961.6 | AL87: =AJ87+AK87 -> 43455.38 | AM87: =AI87+AL87 -> 58834.15 | AN87: =VLOOKUP(G87,[16]分布式营销结算明细接收数据!$E:$K,7,FALSE) -> 35411 | AO87: =VLOOKUP(G87,[16]分布式营销结算明细接收数据!$E:$O,11,FALSE) -> 12903.77 | AP87: =VLOOKUP(G87,[16]分布式营销结算明细接收数据!$E:$R,14,FALSE) -> 17195.58 | AQ87: =AO87+AP87 -> 30099.35 | AR87: =AQ87+AM87+AG87+AC87+AA87+Y87+W87+S87+Q87+O87+K87+I87 -> 435231.98
A88: 83 | C88: 红花峪 | G88: 0723963499 | H88: =VLOOKUP(G88,[1]分布式发票数据!$A:$D,4) -> 43307 | I88: =VLOOKUP(G88,[1]分布式发票数据!$A:$E,5,FALSE) -> 15781.07 | J88: =VLOOKUP(G88,[2]分布式发票数据!$A:$D,4,FALSE) -> 38076 | K88: =VLOOKUP(G88,[2]分布式发票数据!$A:$E,5,FALSE) -> 13874.89 | L88: 49688 | M88: 18106.31 | N88: =VLOOKUP(G88,'[7]2022年12月-2023年3月'!$A$4:$E$193,5,FALSE) -> 84959.12 | O88: =M88+N88 -> 103065.43 | P88: =VLOOKUP(G88,[3]分布式发票数据!$A:$E,4,FALSE) -> 40289 | Q88: =VLOOKUP(G88,[3]分布式发票数据!$A:$E,5,FALSE) -> 14681.31 | R88: =VLOOKUP(G:G,[4]分布式发票数据!$A:$E,4,FALSE) -> 43012 | S88: =VLOOKUP(G:G,[4]分布式发票数据!$A:$E,5,FALSE) -> 15673.57 | T88: =VLOOKUP(G88,[5]分布式发票数据!$A$4:$E$193,4,FALSE) -> 50978 | U88: =VLOOKUP(G88,[5]分布式发票数据!$A$4:$E$193,5,FALSE) -> 18576.38 | V88: =VLOOKUP(G88,'[8]2023年4-6月'!$A$4:$E$193,5,FALSE) -> 65205.89 | W88: =U88+V88 -> 83782.27 | X88: =VLOOKUP(G88,[6]分布式发票数据!$A$4:$D$193,4,FALSE) -> 41643 | Y88: =VLOOKUP(G88,[6]分布式发票数据!$A$4:$E$193,5,FALSE) -> 15174.71 | Z88: =VLOOKUP(G88,[9]分布式发票数据!$A$4:$E$193,4,FALSE) -> 45230 | AA88: =VLOOKUP(G88,[9]分布式发票数据!$A$4:$E$193,5,FALSE) -> 16481.81 | AB88: =VLOOKUP(G88,[10]分布式发票数据!$A:$D,4,FALSE) -> 38728 | AC88: =VLOOKUP(G88,[10]分布式发票数据!$A:$E,5,FALSE) -> 14112.48 | AD88: =VLOOKUP(G88,[12]sheet1!$G:$S,13,FALSE) -> 48145 | AE88: =VLOOKUP(G88,[12]sheet1!$G:$X,18,FALSE) -> 17544.04 | AF88: =VLOOKUP(G88,[11]Sheet1!$B:$E,4,FALSE) -> 60991.85 | AG88: =AE88+AF88 -> 78535.89 | AH88: =VLOOKUP(G88,[13]Sheet1!$C$1:$H$65536,6,FALSE) -> 42956 | AI88: =VLOOKUP(G88,[13]Sheet1!$C$1:$I$65536,7,FALSE) -> 15653.17 | AJ88: =VLOOKUP(G88,[14]Sheet1!$E$1:$I$65536,5,FALSE) -> 20859.43 | AK88: =VLOOKUP(G88,[15]Sheet1!$E$1:$I$65536,5,FALSE) -> 23379.21 | AL88: =AJ88+AK88 -> 44238.64 | AM88: =AI88+AL88 -> 59891.81 | AN88: =VLOOKUP(G88,[16]分布式营销结算明细接收数据!$E:$K,7,FALSE) -> 37296 | AO88: =VLOOKUP(G88,[16]分布式营销结算明细接收数据!$E:$O,11,FALSE) -> 13590.66 | AP88: =VLOOKUP(G88,[16]分布式营销结算明细接收数据!$E:$R,14,FALSE) -> 18110.94 | AQ88: =AO88+AP88 -> 31701.6 | AR88: =AQ88+AM88+AG88+AC88+AA88+Y88+W88+S88+Q88+O88+K88+I88 -> 462756.84
A89: 84 | C89: 大道沟 | E89: 420 | G89: 0723963532 | H89: =VLOOKUP(G89,[1]分布式发票数据!$A:$D,4) -> 44335 | I89: =VLOOKUP(G89,[1]分布式发票数据!$A:$E,5,FALSE) -> 16155.67 | J89: =VLOOKUP(G89,[2]分布式发票数据!$A:$D,4,FALSE) -> 38522 | K89: =VLOOKUP(G89,[2]分布式发票数据!$A:$E,5,FALSE) -> 14037.42 | L89: 50407 | M89: 18368.31 | N89: =VLOOKUP(G89,'[7]2022年12月-2023年3月'!$A$4:$E$193,5,FALSE) -> 86312.49 | O89: =M89+N89 -> 104680.8 | P89: =VLOOKUP(G89,[3]分布式发票数据!$A:$E,4,FALSE) -> 40579 | Q89: =VLOOKUP(G89,[3]分布式发票数据!$A:$E,5,FALSE) -> 14786.99 | R89: =VLOOKUP(G:G,[4]分布式发票数据!$A:$E,4,FALSE) -> 44144 | S89: =VLOOKUP(G:G,[4]分布式发票数据!$A:$E,5,FALSE) -> 16086.07 | T89: =VLOOKUP(G89,[5]分布式发票数据!$A$4:$E$193,4,FALSE) -> 47682 | U89: =VLOOKUP(G89,[5]分布式发票数据!$A$4:$E$193,5,FALSE) -> 17375.32 | V89: =VLOOKUP(G89,'[8]2023年4-6月'!$A$4:$E$193,5,FALSE) -> 64295.87 | W89: =U89+V89 -> 81671.19 | X89: =VLOOKUP(G89,[6]分布式发票数据!$A$4:$D$193,4,FALSE) -> 42306 | Y89: =VLOOKUP(G89,[6]分布式发票数据!$A$4:$E$193,5,FALSE) -> 15416.31 | Z89: =VLOOKUP(G89,[9]分布式发票数据!$A$4:$E$193,4,FALSE) -> 46081 | AA89: =VLOOKUP(G89,[9]分布式发票数据!$A$4:$E$193,5,FALSE) -> 16791.92 | AB89: =VLOOKUP(G89,[10]分布式发票数据!$A:$D,4,FALSE) -> 39124 | AC89: =VLOOKUP(G89,[10]分布式发票数据!$A:$E,5,FALSE) -> 14256.79 | AD89: =VLOOKUP(G89,[12]sheet1!$G:$S,13,FALSE) -> 50063 | AE89: =VLOOKUP(G89,[12]sheet1!$G:$X,18,FALSE) -> 18242.96 | AF89: =VLOOKUP(G89,[11]Sheet1!$B:$E,4,FALSE) -> 61919.33 | AG89: =AE89+AF89 -> 80162.29 | AH89: =VLOOKUP(G89,[13]Sheet1!$C$1:$H$65536,6,FALSE) -> 44699 | AI89: =VLOOKUP(G89,[13]Sheet1!$C$1:$I$65536,7,FALSE) -> 16288.32 | AJ89: =VLOOKUP(G89,[14]Sheet1!$E$1:$I$65536,5,FALSE) -> 21705.83 | AK89: =VLOOKUP(G89,[15]Sheet1!$E$1:$I$65536,5,FALSE) -> 24310.59 | AL89: =AJ89+AK89 -> 46016.42 | AM89: =AI89+AL89 -> 62304.74 | AN89: =VLOOKUP(G89,[16]分布式营销结算明细接收数据!$E:$K,7,FALSE) -> 37596 | AO89: =VLOOKUP(G89,[16]分布式营销结算明细接收数据!$E:$O,11,FALSE) -> 13699.98 | AP89: =VLOOKUP(G89,[16]分布式营销结算明细接收数据!$E:$R,14,FALSE) -> 18256.62 | AQ89: =AO89+AP89 -> 31956.6 | AR89: =AQ89+AM89+AG89+AC89+AA89+Y89+W89+S89+Q89+O89+K89+I89 -> 468306.79
A90: 85 | G90: 0723963620 | H90: =VLOOKUP(G90,[1]分布式发票数据!$A:$D,4) -> 11315 | I90: =VLOOKUP(G90,[1]分布式发票数据!$A:$E,5,FALSE) -> 4123.19 | J90: =VLOOKUP(G90,[2]分布式发票数据!$A:$D,4,FALSE) -> 9856 | K90: =VLOOKUP(G90,[2]分布式发票数据!$A:$E,5,FALSE) -> 3591.53 | L90: 12897 | M90: 4699.67 | N90: =VLOOKUP(G90,'[7]2022年12月-2023年3月'!$A$4:$E$193,5,FALSE) -> 22227.36 | O90: =M90+N90 -> 26927.03 | P90: =VLOOKUP(G90,[3]分布式发票数据!$A:$E,4,FALSE) -> 9862 | Q90: =VLOOKUP(G90,[3]分布式发票数据!$A:$E,5,FALSE) -> 3593.71 | R90: =VLOOKUP(G:G,[4]分布式发票数据!$A:$E,4,FALSE) -> 11426 | S90: =VLOOKUP(G:G,[4]分布式发票数据!$A:$E,5,FALSE) -> 4163.63 | T90: =VLOOKUP(G90,[5]分布式发票数据!$A$4:$E$193,4,FALSE) -> 13061 | U90: =VLOOKUP(G90,[5]分布式发票数据!$A$4:$E$193,5,FALSE) -> 4759.43 | V90: =VLOOKUP(G90,'[8]2023年4-6月'!$A$4:$E$193,5,FALSE) -> 16679.88 | W90: =U90+V90 -> 21439.31 | X90: =VLOOKUP(G90,[6]分布式发票数据!$A$4:$D$193,4,FALSE) -> 10888 | Y90: =VLOOKUP(G90,[6]分布式发票数据!$A$4:$E$193,5,FALSE) -> 3967.59 | Z90: =VLOOKUP(G90,[9]分布式发票数据!$A$4:$E$193,4,FALSE) -> 11832 | AA90: =VLOOKUP(G90,[9]分布式发票数据!$A$4:$E$193,5,FALSE) -> 4311.58 | AB90: =VLOOKUP(G90,[10]分布式发票数据!$A:$D,4,FALSE) -> 10042 | AC90: =VLOOKUP(G90,[10]分布式发票数据!$A:$E,5,FALSE) -> 3659.3 | AD90: =VLOOKUP(G90,[12]sheet1!$G:$S,13,FALSE) -> 12884 | AE90: =VLOOKUP(G90,[12]sheet1!$G:$X,18,FALSE) -> 4694.93 | AF90: =VLOOKUP(G90,[11]Sheet1!$B:$E,4,FALSE) -> 15909.23 | AG90: =AE90+AF90 -> 20604.16 | AH90: =VLOOKUP(G90,[13]Sheet1!$C$1:$H$65536,6,FALSE) -> 11422 | AI90: =VLOOKUP(G90,[13]Sheet1!$C$1:$I$65536,7,FALSE) -> 4162.18 | AJ90: =VLOOKUP(G90,[14]Sheet1!$E$1:$I$65536,5,FALSE) -> 5546.52 | AK90: =VLOOKUP(G90,[15]Sheet1!$E$1:$I$65536,5,FALSE) -> 6256.47 | AL90: =AJ90+AK90 -> 11802.99 | AM90: =AI90+AL90 -> 15965.17 | AN90: =VLOOKUP(G90,[16]分布式营销结算明细接收数据!$E:$K,7,FALSE) -> 9319 | AO90: =VLOOKUP(G90,[16]分布式营销结算明细接收数据!$E:$O,11,FALSE) -> 3395.84 | AP90: =VLOOKUP(G90,[16]分布式营销结算明细接收数据!$E:$R,14,FALSE) -> 4525.31 | AQ90: =AO90+AP90 -> 7921.15 | AR90: =AQ90+AM90+AG90+AC90+AA90+Y90+W90+S90+Q90+O90+K90+I90 -> 120267.35
A91: 86 | C91: 北牛栏村级电站 | F91: 300 | G91: 0705545123 | H91: =VLOOKUP(G91,[1]分布式发票数据!$A:$D,4) -> 42343 | I91: =VLOOKUP(G91,[1]分布式发票数据!$A:$E,5,FALSE) -> 15429.79 | J91: =VLOOKUP(G91,[2]分布式发票数据!$A:$D,4,FALSE) -> 36011 | K91: =VLOOKUP(G91,[2]分布式发票数据!$A:$E,5,FALSE) -> 13122.41 | L91: 50904 | M91: 18549.42 | N91: =VLOOKUP(G91,'[7]2022年12月-2023年3月'!$A$4:$E$193,5,FALSE) -> 105444.89 | O91: =M91+N91 -> 123994.31 | P91: =VLOOKUP(G91,[3]分布式发票数据!$A:$E,4,FALSE) -> 37585 | Q91: =VLOOKUP(G91,[3]分布式发票数据!$A:$E,5,FALSE) -> 13695.97 | R91: =VLOOKUP(G:G,[4]分布式发票数据!$A:$E,4,FALSE) -> 40500 | S91: =VLOOKUP(G:G,[4]分布式发票数据!$A:$E,5,FALSE) -> 14758.2 | T91: =VLOOKUP(G91,[5]分布式发票数据!$A$4:$E$193,4,FALSE) -> 41972 | U91: =VLOOKUP(G91,[5]分布式发票数据!$A$4:$E$193,5,FALSE) -> 15294.6 | V91: =VLOOKUP(G91,'[8]2023年4-6月'!$A$4:$E$193,5,FALSE) -> 73907.09 | W91: =U91+V91 -> 89201.69 | X91: =VLOOKUP(G91,[6]分布式发票数据!$A$4:$D$193,4,FALSE) -> 34025 | Y91: =VLOOKUP(G91,[6]分布式发票数据!$A$4:$E$193,5,FALSE) -> 12398.71 | Z91: =VLOOKUP(G91,[9]分布式发票数据!$A$4:$E$193,4,FALSE) -> 35038 | AA91: =VLOOKUP(G91,[9]分布式发票数据!$A$4:$E$193,5,FALSE) -> 12767.85 | AB91: =VLOOKUP(G91,[10]分布式发票数据!$A:$D,4,FALSE) -> 28674 | AC91: =VLOOKUP(G91,[10]分布式发票数据!$A:$E,5,FALSE) -> 10448.81 | AD91: =VLOOKUP(G91,[12]sheet1!$G:$S,13,FALSE) -> 35767 | AE91: =VLOOKUP(G91,[12]sheet1!$G:$X,18,FALSE) -> 13033.49 | AF91: =VLOOKUP(G91,[11]Sheet1!$B:$E,4,FALSE) -> 60166.89 | AG91: =AE91+AF91 -> 73200.38 | AH91: =VLOOKUP(G91,[13]Sheet1!$C$1:$H$65536,6,FALSE) -> 31936 | AI91: =VLOOKUP(G91,[13]Sheet1!$C$1:$I$65536,7,FALSE) -> 11637.48 | AJ91: =VLOOKUP(G91,[14]Sheet1!$E$1:$I$65536,5,FALSE) -> 19659.8 | AK91: =VLOOKUP(G91,[15]Sheet1!$E$1:$I$65536,5,FALSE) -> 22018.17 | AL91: =AJ91+AK91 -> 41677.97 | AM91: =AI91+AL91 -> 53315.45 | AN91: =VLOOKUP(G91,[16]分布式营销结算明细接收数据!$E:$K,7,FALSE) -> 25918 | AO91: =VLOOKUP(G91,[16]分布式营销结算明细接收数据!$E:$O,11,FALSE) -> 9444.52 | AP91: =VLOOKUP(G91,[16]分布式营销结算明细接收数据!$E:$R,14,FALSE) -> 15955.12 | AQ91: =AO91+AP91 -> 25399.64 | AR91: =AQ91+AM91+AG91+AC91+AA91+Y91+W91+S91+Q91+O91+K91+I91 -> 457733.21
A92: 87 | C92: 东泉头 | D92: 东泉头村联村电站 | E92: 54 | F92: 5964 | G92: 0724712034 | H92: =VLOOKUP(G92,[1]分布式发票数据!$A:$D,4) -> 32090 | I92: =VLOOKUP(G92,[1]分布式发票数据!$A:$E,5,FALSE) -> 11693.6 | J92: =VLOOKUP(G92,[2]分布式发票数据!$A:$D,4,FALSE) -> 29466 | K92: =VLOOKUP(G92,[2]分布式发票数据!$A:$E,5,FALSE) -> 10737.41 | L92: 49747 | M92: 18127.81 | N92: =VLOOKUP(G92,'[7]2022年12月-2023年3月'!$A$4:$E$193,5,FALSE) -> 72472.39 | O92: =M92+N92 -> 90600.2 | P92: =VLOOKUP(G92,[3]分布式发票数据!$A:$E,4,FALSE) -> 38026 | Q92: =VLOOKUP(G92,[3]分布式发票数据!$A:$E,5,FALSE) -> 13856.67 | R92: =VLOOKUP(G:G,[4]分布式发票数据!$A:$E,4,FALSE) -> 39799 | S92: =VLOOKUP(G:G,[4]分布式发票数据!$A:$E,5,FALSE) -> 14502.76 | T92: =VLOOKUP(G92,[5]分布式发票数据!$A$4:$E$193,4,FALSE) -> 49781 | U92: =VLOOKUP(G92,[5]分布式发票数据!$A$4:$E$193,5,FALSE) -> 18140.2 | V92: =VLOOKUP(G92,'[8]2023年4-6月'!$A$4:$E$193,5,FALSE) -> 61965.47 | W92: =U92+V92 -> 80105.67 | X92: =VLOOKUP(G92,[6]分布式发票数据!$A$4:$D$193,4,FALSE) -> 41039 | Y92: =VLOOKUP(G92,[6]分布式发票数据!$A$4:$E$193,5,FALSE) -> 14954.61 | Z92: =VLOOKUP(G92,[9]分布式发票数据!$A$4:$E$193,4,FALSE) -> 44060 | AA92: =VLOOKUP(G92,[9]分布式发票数据!$A$4:$E$193,5,FALSE) -> 16055.46 | AB92: =VLOOKUP(G92,[10]分布式发票数据!$A:$D,4,FALSE) -> 38857 | AC92: =VLOOKUP(G92,[10]分布式发票数据!$A:$E,5,FALSE) -> 14159.49 | AD92: =VLOOKUP(G92,[12]sheet1!$G:$S,13,FALSE) -> 47581 | AE92: =VLOOKUP(G92,[12]sheet1!$G:$X,18,FALSE) -> 17338.52 | AF92: =VLOOKUP(G92,[11]Sheet1!$B:$E,4,FALSE) -> 60193.04 | AG92: =AE92+AF92 -> 77531.56 | AH92: =VLOOKUP(G92,[13]Sheet1!$C$1:$H$65536,6,FALSE) -> 41468 | AI92: =VLOOKUP(G92,[13]Sheet1!$C$1:$I$65536,7,FALSE) -> 15110.94 | AJ92: =VLOOKUP(G92,[14]Sheet1!$E$1:$I$65536,5,FALSE) -> 20136.86 | AK92: =VLOOKUP(G92,[15]Sheet1!$E$1:$I$65536,5,FALSE) -> 23105.33 | AL92: =AJ92+AK92 -> 43242.19 | AM92: =AI92+AL92 -> 58353.13 | AN92: =VLOOKUP(G92,[16]分布式营销结算明细接收数据!$E:$K,7,FALSE) -> 33437 | AO92: =VLOOKUP(G92,[16]分布式营销结算明细接收数据!$E:$O,11,FALSE) -> 12184.44 | AP92: =VLOOKUP(G92,[16]分布式营销结算明细接收数据!$E:$R,14,FALSE) -> 16237.01 | AQ92: =AO92+AP92 -> 28421.45 | AR92: =AQ92+AM92+AG92+AC92+AA92+Y92+W92+S92+Q92+O92+K92+I92 -> 430972.01
A93: 88 | C93: 峨头村 | E93: 59 | G93: 0724712076 | H93: =VLOOKUP(G93,[1]分布式发票数据!$A:$D,4) -> 42835 | I93: =VLOOKUP(G93,[1]分布式发票数据!$A:$E,5,FALSE) -> 15609.07 | J93: =VLOOKUP(G93,[2]分布式发票数据!$A:$D,4,FALSE) -> 37952 | K93: =VLOOKUP(G93,[2]分布式发票数据!$A:$E,5,FALSE) -> 13829.71 | L93: 51384 | M93: 18724.33 | N93: =VLOOKUP(G93,'[7]2022年12月-2023年3月'!$A$4:$E$193,5,FALSE) -> 85730.74 | O93: =M93+N93 -> 104455.07 | P93: =VLOOKUP(G93,[3]分布式发票数据!$A:$E,4,FALSE) -> 38663 | Q93: =VLOOKUP(G93,[3]分布式发票数据!$A:$E,5,FALSE) -> 14088.8 | R93: =VLOOKUP(G:G,[4]分布式发票数据!$A:$E,4,FALSE) -> 40782 | S93: =VLOOKUP(G:G,[4]分布式发票数据!$A:$E,5,FALSE) -> 14860.96 | T93: =VLOOKUP(G93,[5]分布式发票数据!$A$4:$E$193,4,FALSE) -> 49504 | U93: =VLOOKUP(G93,[5]分布式发票数据!$A$4:$E$193,5,FALSE) -> 18039.26 | V93: =VLOOKUP(G93,'[8]2023年4-6月'!$A$4:$E$193,5,FALSE) -> 62617.63 | W93: =U93+V93 -> 80656.89 | X93: =VLOOKUP(G93,[6]分布式发票数据!$A$4:$D$193,4,FALSE) -> 42896 | Y93: =VLOOKUP(G93,[6]分布式发票数据!$A$4:$E$193,5,FALSE) -> 15631.3 | Z93: =VLOOKUP(G93,[9]分布式发票数据!$A$4:$E$193,4,FALSE) -> 46552 | AA93: =VLOOKUP(G93,[9]分布式发票数据!$A$4:$E$193,5,FALSE) -> 16963.55 | AB93: =VLOOKUP(G93,[10]分布式发票数据!$A:$D,4,FALSE) -> 40308 | AC93: =VLOOKUP(G93,[10]分布式发票数据!$A:$E,5,FALSE) -> 14688.24 | AD93: =VLOOKUP(G93,[12]sheet1!$G:$S,13,FALSE) -> 50174 | AE93: =VLOOKUP(G93,[12]sheet1!$G:$X,18,FALSE) -> 18283.41 | AF93: =VLOOKUP(G93,[11]Sheet1!$B:$E,4,FALSE) -> 63009.51 | AG93: =AE93+AF93 -> 81292.92 | AH93: =VLOOKUP(G93,[13]Sheet1!$C$1:$H$65536,6,FALSE) -> 44958 | AI93: =VLOOKUP(G93,[13]Sheet1!$C$1:$I$65536,7,FALSE) -> 16382.7 | AJ93: =VLOOKUP(G93,[14]Sheet1!$E$1:$I$65536,5,FALSE) -> 21831.6 | AK93: =VLOOKUP(G93,[15]Sheet1!$E$1:$I$65536,5,FALSE) -> 24364.49 | AL93: =AJ93+AK93 -> 46196.09 | AM93: =AI93+AL93 -> 62578.79 | AN93: =VLOOKUP(G93,[16]分布式营销结算明细接收数据!$E:$K,7,FALSE) -> 34528 | AO93: =VLOOKUP(G93,[16]分布式营销结算明细接收数据!$E:$O,11,FALSE) -> 12582 | AP93: =VLOOKUP(G93,[16]分布式营销结算明细接收数据!$E:$R,14,FALSE) -> 16766.8 | AQ93: =AO93+AP93 -> 29348.8 | AR93: =AQ93+AM93+AG93+AC93+AA93+Y93+W93+S93+Q93+O93+K93+I93 -> 464004.1
A94: 89 | C94: 中庄村 | E94: 60 | G94: 0724716805 | H94: =VLOOKUP(G94,[1]分布式发票数据!$A:$D,4) -> 44671 | I94: =VLOOKUP(G94,[1]分布式发票数据!$A:$E,5,FALSE) -> 16278.11 | J94: =VLOOKUP(G94,[2]分布式发票数据!$A:$D,4,FALSE) -> 39767 | K94: =VLOOKUP(G94,[2]分布式发票数据!$A:$E,5,FALSE) -> 14491.09 | L94: 53428 | M94: 19469.16 | N94: =VLOOKUP(G94,'[7]2022年12月-2023年3月'!$A$4:$E$193,5,FALSE) -> 86576.18 | O94: =M94+N94 -> 106045.34 | P94: =VLOOKUP(G94,[3]分布式发票数据!$A:$E,4,FALSE) -> 39911 | Q94: =VLOOKUP(G94,[3]分布式发票数据!$A:$E,5,FALSE) -> 14543.57 | R94: =VLOOKUP(G:G,[4]分布式发票数据!$A:$E,4,FALSE) -> 42881 | S94: =VLOOKUP(G:G,[4]分布式发票数据!$A:$E,5,FALSE) -> 15625.84 | T94: =VLOOKUP(G94,[5]分布式发票数据!$A$4:$E$193,4,FALSE) -> 50082 | U94: =VLOOKUP(G94,[5]分布式发票数据!$A$4:$E$193,5,FALSE) -> 18249.88 | V94: =VLOOKUP(G94,'[8]2023年4-6月'!$A$4:$E$193,5,FALSE) -> 64523.61 | W94: =U94+V94 -> 82773.49 | X94: =VLOOKUP(G94,[6]分布式发票数据!$A$4:$D$193,4,FALSE) -> 41658 | Y94: =VLOOKUP(G94,[6]分布式发票数据!$A$4:$E$193,5,FALSE) -> 15180.18 | Z94: =VLOOKUP(G94,[9]分布式发票数据!$A$4:$E$193,4,FALSE) -> 45493 | AA94: =VLOOKUP(G94,[9]分布式发票数据!$A$4:$E$193,5,FALSE) -> 16577.65 | AB94: =VLOOKUP(G94,[10]分布式发票数据!$A:$D,4,FALSE) -> 40168 | AC94: =VLOOKUP(G94,[10]分布式发票数据!$A:$E,5,FALSE) -> 14637.22 | AD94: =VLOOKUP(G94,[12]sheet1!$G:$S,13,FALSE) -> 50184 | AE94: =VLOOKUP(G94,[12]sheet1!$G:$X,18,FALSE) -> 18287.05 | AF94: =VLOOKUP(G94,[11]Sheet1!$B:$E,4,FALSE) -> 61826.1 | AG94: =AE94+AF94 -> 80113.15 | AH94: =VLOOKUP(G94,[13]Sheet1!$C$1:$H$65536,6,FALSE) -> 45083 | AI94: =VLOOKUP(G94,[13]Sheet1!$C$1:$I$65536,7,FALSE) -> 16428.25 | AJ94: =VLOOKUP(G94,[14]Sheet1!$E$1:$I$65536,5,FALSE) -> 21892.3 | AK94: =VLOOKUP(G94,[15]Sheet1!$E$1:$I$65536,5,FALSE) -> 24369.35 | AL94: =AJ94+AK94 -> 46261.65 | AM94: =AI94+AL94 -> 62689.9 | AN94: =VLOOKUP(G94,[16]分布式营销结算明细接收数据!$E:$K,7,FALSE) -> 37879 | AO94: =VLOOKUP(G94,[16]分布式营销结算明细接收数据!$E:$O,11,FALSE) -> 13803.11 | AP94: =VLOOKUP(G94,[16]分布式营销结算明细接收数据!$E:$R,14,FALSE) -> 18394.04 | AQ94: =AO94+AP94 -> 32197.15 | AR94: =AQ94+AM94+AG94+AC94+AA94+Y94+W94+S94+Q94+O94+K94+I94 -> 471152.69
A95: 90 | C95: 下老芳村 | E95: 60 | G95: 0724716850 | H95: =VLOOKUP(G95,[1]分布式发票数据!$A:$D,4) -> 45636 | I95: =VLOOKUP(G95,[1]分布式发票数据!$A:$E,5,FALSE) -> 16629.76 | J95: =VLOOKUP(G95,[2]分布式发票数据!$A:$D,4,FALSE) -> 40620 | K95: =VLOOKUP(G95,[2]分布式发票数据!$A:$E,5,FALSE) -> 14801.93 | L95: 54677 | M95: 19924.3 | N95: =VLOOKUP(G95,'[7]2022年12月-2023年3月'!$A$4:$E$193,5,FALSE) -> 91309.79 | O95: =M95+N95 -> 111234.09 | P95: =VLOOKUP(G95,[3]分布式发票数据!$A:$E,4,FALSE) -> 41022 | Q95: =VLOOKUP(G95,[3]分布式发票数据!$A:$E,5,FALSE) -> 14948.42 | R95: =VLOOKUP(G:G,[4]分布式发票数据!$A:$E,4,FALSE) -> 42547 | S95: =VLOOKUP(G:G,[4]分布式发票数据!$A:$E,5,FALSE) -> 15504.13 | T95: =VLOOKUP(G95,[5]分布式发票数据!$A$4:$E$193,4,FALSE) -> 51341 | U95: =VLOOKUP(G95,[5]分布式发票数据!$A$4:$E$193,5,FALSE) -> 18708.66 | V95: =VLOOKUP(G95,'[8]2023年4-6月'!$A$4:$E$193,5,FALSE) -> 65512.29 | W95: =U95+V95 -> 84220.95 | X95: =VLOOKUP(G95,[6]分布式发票数据!$A$4:$D$193,4,FALSE) -> 42721 | Y95: =VLOOKUP(G95,[6]分布式发票数据!$A$4:$E$193,5,FALSE) -> 15567.53 | Z95: =VLOOKUP(G95,[9]分布式发票数据!$A$4:$E$193,4,FALSE) -> 46259 | AA95: =VLOOKUP(G95,[9]分布式发票数据!$A$4:$E$193,5,FALSE) -> 16856.78 | AB95: =VLOOKUP(G95,[10]分布式发票数据!$A:$D,4,FALSE) -> 40444 | AC95: =VLOOKUP(G95,[10]分布式发票数据!$A:$E,5,FALSE) -> 14737.79 | AD95: =VLOOKUP(G95,[12]sheet1!$G:$S,13,FALSE) -> 50222 | AE95: =VLOOKUP(G95,[12]sheet1!$G:$X,18,FALSE) -> 18300.9 | AF95: =VLOOKUP(G95,[11]Sheet1!$B:$E,4,FALSE) -> 62848.3 | AG95: =AE95+AF95 -> 81149.2 | AH95: =VLOOKUP(G95,[13]Sheet1!$C$1:$H$65536,6,FALSE) -> 45344 | AI95: =VLOOKUP(G95,[13]Sheet1!$C$1:$I$65536,7,FALSE) -> 16523.35 | AJ95: =VLOOKUP(G95,[14]Sheet1!$E$1:$I$65536,5,FALSE) -> 22019.05 | AK95: =VLOOKUP(G95,[15]Sheet1!$E$1:$I$65536,5,FALSE) -> 24387.8 | AL95: =AJ95+AK95 -> 46406.85 | AM95: =AI95+AL95 -> 62930.2 | AN95: =VLOOKUP(G95,[16]分布式营销结算明细接收数据!$E:$K,7,FALSE) -> 38924 | AO95: =VLOOKUP(G95,[16]分布式营销结算明细接收数据!$E:$O,11,FALSE) -> 14183.91 | AP95: =VLOOKUP(G95,[16]分布式营销结算明细接收数据!$E:$R,14,FALSE) -> 18901.49 | AQ95: =AO95+AP95 -> 33085.4 | AR95: =AQ95+AM95+AG95+AC95+AA95+Y95+W95+S95+Q95+O95+K95+I95 -> 481666.18
A96: 91 | C96: 横山岭 | E96: 60 | G96: 0724716964 | H96: =VLOOKUP(G96,[1]分布式发票数据!$A:$D,4) -> 45044 | I96: =VLOOKUP(G96,[1]分布式发票数据!$A:$E,5,FALSE) -> 16414.03 | J96: =VLOOKUP(G96,[2]分布式发票数据!$A:$D,4,FALSE) -> 40093 | K96: =VLOOKUP(G96,[2]分布式发票数据!$A:$E,5,FALSE) -> 14609.89 | L96: 54239 | M96: 19764.69 | N96: =VLOOKUP(G96,'[7]2022年12月-2023年3月'!$A$4:$E$193,5,FALSE) -> 90370.16 | O96: =M96+N96 -> 110134.85 | P96: =VLOOKUP(G96,[3]分布式发票数据!$A:$E,4,FALSE) -> 40736 | Q96: =VLOOKUP(G96,[3]分布式发票数据!$A:$E,5,FALSE) -> 14844.2 | R96: =VLOOKUP(G:G,[4]分布式发票数据!$A:$E,4,FALSE) -> 44425 | S96: =VLOOKUP(G:G,[4]分布式发票数据!$A:$E,5,FALSE) -> 16188.47 | T96: =VLOOKUP(G96,[5]分布式发票数据!$A$4:$E$193,4,FALSE) -> 51131 | U96: =VLOOKUP(G96,[5]分布式发票数据!$A$4:$E$193,5,FALSE) -> 18632.14 | V96: =VLOOKUP(G96,'[8]2023年4-6月'!$A$4:$E$193,5,FALSE) -> 66183.39 | W96: =U96+V96 -> 84815.53 | X96: =VLOOKUP(G96,[6]分布式发票数据!$A$4:$D$193,4,FALSE) -> 42764 | Y96: =VLOOKUP(G96,[6]分布式发票数据!$A$4:$E$193,5,FALSE) -> 15583.2 | Z96: =VLOOKUP(G96,[9]分布式发票数据!$A$4:$E$193,4,FALSE) -> 46136 | AA96: =VLOOKUP(G96,[9]分布式发票数据!$A$4:$E$193,5,FALSE) -> 16811.96 | AB96: =VLOOKUP(G96,[10]分布式发票数据!$A:$D,4,FALSE) -> 40526 | AC96: =VLOOKUP(G96,[10]分布式发票数据!$A:$E,5,FALSE) -> 14767.67 | AD96: =VLOOKUP(G96,[12]sheet1!$G:$S,13,FALSE) -> 50864 | AE96: =VLOOKUP(G96,[12]sheet1!$G:$X,18,FALSE) -> 18534.84 | AF96: =VLOOKUP(G96,[11]Sheet1!$B:$E,4,FALSE) -> 62849.27 | AG96: =AE96+AF96 -> 81384.11 | AH96: =VLOOKUP(G96,[13]Sheet1!$C$1:$H$65536,6,FALSE) -> 45583 | AI96: =VLOOKUP(G96,[13]Sheet1!$C$1:$I$65536,7,FALSE) -> 16610.45 | AJ96: =VLOOKUP(G96,[14]Sheet1!$E$1:$I$65536,5,FALSE) -> 22135.1 | AK96: =VLOOKUP(G96,[15]Sheet1!$E$1:$I$65536,5,FALSE) -> 24699.56 | AL96: =AJ96+AK96 -> 46834.66 | AM96: =AI96+AL96 -> 63445.11 | AN96: =VLOOKUP(G96,[16]分布式营销结算明细接收数据!$E:$K,7,FALSE) -> 38350 | AO96: =VLOOKUP(G96,[16]分布式营销结算明细接收数据!$E:$O,11,FALSE) -> 13974.74 | AP96: =VLOOKUP(G96,[16]分布式营销结算明细接收数据!$E:$R,14,FALSE) -> 18622.76 | AQ96: =AO96+AP96 -> 32597.5 | AR96: =AQ96+AM96+AG96+AC96+AA96+Y96+W96+S96+Q96+O96+K96+I96 -> 481596.52
A97: 92 | C97: 北台村 | E97: 60 | G97: 0724717071 | H97: =VLOOKUP(G97,[1]分布式发票数据!$A:$D,4) -> 38750 | I97: =VLOOKUP(G97,[1]分布式发票数据!$A:$E,5,FALSE) -> 14120.5 | J97: =VLOOKUP(G97,[2]分布式发票数据!$A:$D,4,FALSE) -> 38764 | K97: =VLOOKUP(G97,[2]分布式发票数据!$A:$E,5,FALSE) -> 14125.6 | L97: 52123 | M97: 18993.62 | N97: =VLOOKUP(G97,'[7]2022年12月-2023年3月'!$A$4:$E$193,5,FALSE) -> 80447.9 | O97: =M97+N97 -> 99441.52 | P97: =VLOOKUP(G97,[3]分布式发票数据!$A:$E,4,FALSE) -> 40265 | Q97: =VLOOKUP(G97,[3]分布式发票数据!$A:$E,5,FALSE) -> 14672.57 | R97: =VLOOKUP(G:G,[4]分布式发票数据!$A:$E,4,FALSE) -> 42576 | S97: =VLOOKUP(G:G,[4]分布式发票数据!$A:$E,5,FALSE) -> 15514.69 | T97: =VLOOKUP(G97,[5]分布式发票数据!$A$4:$E$193,4,FALSE) -> 50012 | U97: =VLOOKUP(G97,[5]分布式发票数据!$A$4:$E$193,5,FALSE) -> 18224.37 | V97: =VLOOKUP(G97,'[8]2023年4-6月'!$A$4:$E$193,5,FALSE) -> 64513.42 | W97: =U97+V97 -> 82737.79 | X97: =VLOOKUP(G97,[6]分布式发票数据!$A$4:$D$193,4,FALSE) -> 41252 | Y97: =VLOOKUP(G97,[6]分布式发票数据!$A$4:$E$193,5,FALSE) -> 15032.23 | Z97: =VLOOKUP(G97,[9]分布式发票数据!$A$4:$E$193,4,FALSE) -> 44364 | AA97: =VLOOKUP(G97,[9]分布式发票数据!$A$4:$E$193,5,FALSE) -> 16166.24 | AB97: =VLOOKUP(G97,[10]分布式发票数据!$A:$D,4,FALSE) -> 39152 | AC97: =VLOOKUP(G97,[10]分布式发票数据!$A:$E,5,FALSE) -> 14266.99 | AD97: =VLOOKUP(G97,[12]sheet1!$G:$S,13,FALSE) -> 48113 | AE97: =VLOOKUP(G97,[12]sheet1!$G:$X,18,FALSE) -> 17532.38 | AF97: =VLOOKUP(G97,[11]Sheet1!$B:$E,4,FALSE) -> 60587.34 | AG97: =AE97+AF97 -> 78119.72 | AH97: =VLOOKUP(G97,[13]Sheet1!$C$1:$H$65536,6,FALSE) -> 42240 | AI97: =VLOOKUP(G97,[13]Sheet1!$C$1:$I$65536,7,FALSE) -> 15392.26 | AJ97: =VLOOKUP(G97,[14]Sheet1!$E$1:$I$65536,5,FALSE) -> 20511.74 | AK97: =VLOOKUP(G97,[15]Sheet1!$E$1:$I$65536,5,FALSE) -> 23363.67 | AL97: =AJ97+AK97 -> 43875.41 | AM97: =AI97+AL97 -> 59267.67 | AN97: =VLOOKUP(G97,[16]分布式营销结算明细接收数据!$E:$K,7,FALSE) -> 34598 | AO97: =VLOOKUP(G97,[16]分布式营销结算明细接收数据!$E:$O,11,FALSE) -> 12607.51 | AP97: =VLOOKUP(G97,[16]分布式营销结算明细接收数据!$E:$R,14,FALSE) -> 16800.79 | AQ97: =AO97+AP97 -> 29408.3 | AR97: =AQ97+AM97+AG97+AC97+AA97+Y97+W97+S97+Q97+O97+K97+I97 -> 452873.82
A98: 93 | C98: 北韩村 | E98: 60 | G98: 0724717101 | H98: =VLOOKUP(G98,[1]分布式发票数据!$A:$D,4) -> 43522 | I98: =VLOOKUP(G98,[1]分布式发票数据!$A:$E,5,FALSE) -> 15859.42 | J98: =VLOOKUP(G98,[2]分布式发票数据!$A:$D,4,FALSE) -> 39782 | K98: =VLOOKUP(G98,[2]分布式发票数据!$A:$E,5,FALSE) -> 14496.56 | L98: 53454 | M98: 19478.64 | N98: =VLOOKUP(G98,'[7]2022年12月-2023年3月'!$A$4:$E$193,5,FALSE) -> 86887.43 | O98: =M98+N98 -> 106366.07 | P98: =VLOOKUP(G98,[3]分布式发票数据!$A:$E,4,FALSE) -> 40094 | Q98: =VLOOKUP(G98,[3]分布式发票数据!$A:$E,5,FALSE) -> 14610.25 | R98: =VLOOKUP(G:G,[4]分布式发票数据!$A:$E,4,FALSE) -> 43472 | S98: =VLOOKUP(G:G,[4]分布式发票数据!$A:$E,5,FALSE) -> 15841.2 | T98: =VLOOKUP(G98,[5]分布式发票数据!$A$4:$E$193,4,FALSE) -> 50782 | U98: =VLOOKUP(G98,[5]分布式发票数据!$A$4:$E$193,5,FALSE) -> 18504.96 | V98: =VLOOKUP(G98,'[8]2023年4-6月'!$A$4:$E$193,5,FALSE) -> 65239.39 | W98: =U98+V98 -> 83744.35 | X98: =VLOOKUP(G98,[6]分布式发票数据!$A$4:$D$193,4,FALSE) -> 38450 | Y98: =VLOOKUP(G98,[6]分布式发票数据!$A$4:$E$193,5,FALSE) -> 14011.18 | Z98: =VLOOKUP(G98,[9]分布式发票数据!$A$4:$E$193,4,FALSE) -> 41390 | AA98: =VLOOKUP(G98,[9]分布式发票数据!$A$4:$E$193,5,FALSE) -> 15082.52 | AB98: =VLOOKUP(G98,[10]分布式发票数据!$A:$D,4,FALSE) -> 39829 | AC98: =VLOOKUP(G98,[10]分布式发票数据!$A:$E,5,FALSE) -> 14513.69 | AD98: =VLOOKUP(G98,[12]sheet1!$G:$S,13,FALSE) -> 49511 | AE98: =VLOOKUP(G98,[12]sheet1!$G:$X,18,FALSE) -> 18041.81 | AF98: =VLOOKUP(G98,[11]Sheet1!$B:$E,4,FALSE) -> 58111.26 | AG98: =AE98+AF98 -> 76153.07 | AH98: =VLOOKUP(G98,[13]Sheet1!$C$1:$H$65536,6,FALSE) -> 43934 | AI98: =VLOOKUP(G98,[13]Sheet1!$C$1:$I$65536,7,FALSE) -> 16009.55 | AJ98: =VLOOKUP(G98,[14]Sheet1!$E$1:$I$65536,5,FALSE) -> 21334.35 | AK98: =VLOOKUP(G98,[15]Sheet1!$E$1:$I$65536,5,FALSE) -> 24042.54 | AL98: =AJ98+AK98 -> 45376.89 | AM98: =AI98+AL98 -> 61386.44 | AN98: =VLOOKUP(G98,[16]分布式营销结算明细接收数据!$E:$K,7,FALSE) -> 37446 | AO98: =VLOOKUP(G98,[16]分布式营销结算明细接收数据!$E:$O,11,FALSE) -> 13645.32 | AP98: =VLOOKUP(G98,[16]分布式营销结算明细接收数据!$E:$R,14,FALSE) -> 18183.78 | AQ98: =AO98+AP98 -> 31829.1 | AR98: =AQ98+AM98+AG98+AC98+AA98+Y98+W98+S98+Q98+O98+K98+I98 -> 463893.85
A99: 94 | C99: 后堡子村 | E99: 60 | G99: 0724719598 | H99: =VLOOKUP(G99,[1]分布式发票数据!$A:$D,4) -> 43561 | I99: =VLOOKUP(G99,[1]分布式发票数据!$A:$E,5,FALSE) -> 15873.63 | J99: =VLOOKUP(G99,[2]分布式发票数据!$A:$D,4,FALSE) -> 38858 | K99: =VLOOKUP(G99,[2]分布式发票数据!$A:$E,5,FALSE) -> 14159.86 | L99: 52580 | M99: 19160.15 | N99: =VLOOKUP(G99,'[7]2022年12月-2023年3月'!$A$4:$E$193,5,FALSE) -> 87521.63 | O99: =M99+N99 -> 106681.78 | P99: =VLOOKUP(G99,[3]分布式发票数据!$A:$E,4,FALSE) -> 39575 | Q99: =VLOOKUP(G99,[3]分布式发票数据!$A:$E,5,FALSE) -> 14421.13 | R99: =VLOOKUP(G:G,[4]分布式发票数据!$A:$E,4,FALSE) -> 43282 | S99: =VLOOKUP(G:G,[4]分布式发票数据!$A:$E,5,FALSE) -> 15771.96 | T99: =VLOOKUP(G99,[5]分布式发票数据!$A$4:$E$193,4,FALSE) -> 50162 | U99: =VLOOKUP(G99,[5]分布式发票数据!$A$4:$E$193,5,FALSE) -> 18279.03 | V99: =VLOOKUP(G99,'[8]2023年4-6月'!$A$4:$E$193,5,FALSE) -> 64594.03 | W99: =U99+V99 -> 82873.06 | X99: =VLOOKUP(G99,[6]分布式发票数据!$A$4:$D$193,4,FALSE) -> 42476 | Y99: =VLOOKUP(G99,[6]分布式发票数据!$A$4:$E$193,5,FALSE) -> 15478.25 | Z99: =VLOOKUP(G99,[9]分布式发票数据!$A$4:$E$193,4,FALSE) -> 46033 | AA99: =VLOOKUP(G99,[9]分布式发票数据!$A$4:$E$193,5,FALSE) -> 16774.43 | AB99: =VLOOKUP(G99,[10]分布式发票数据!$A:$D,4,FALSE) -> 40232 | AC99: =VLOOKUP(G99,[10]分布式发票数据!$A:$E,5,FALSE) -> 14660.54 | AD99: =VLOOKUP(G99,[12]sheet1!$G:$S,13,FALSE) -> 50552 | AE99: =VLOOKUP(G99,[12]sheet1!$G:$X,18,FALSE) -> 18421.15 | AF99: =VLOOKUP(G99,[11]Sheet1!$B:$E,4,FALSE) -> 62516.63 | AG99: =AE99+AF99 -> 80937.78 | AH99: =VLOOKUP(G99,[13]Sheet1!$C$1:$H$65536,6,FALSE) -> 45065 | AI99: =VLOOKUP(G99,[13]Sheet1!$C$1:$I$65536,7,FALSE) -> 16421.69 | AJ99: =VLOOKUP(G99,[14]Sheet1!$E$1:$I$65536,5,FALSE) -> 21883.56 | AK99: =VLOOKUP(G99,[15]Sheet1!$E$1:$I$65536,5,FALSE) -> 24548.05 | AL99: =AJ99+AK99 -> 46431.61 | AM99: =AI99+AL99 -> 62853.3 | AN99: =VLOOKUP(G99,[16]分布式营销结算明细接收数据!$E:$K,7,FALSE) -> 36904 | AO99: =VLOOKUP(G99,[16]分布式营销结算明细接收数据!$E:$O,11,FALSE) -> 13447.82 | AP99: =VLOOKUP(G99,[16]分布式营销结算明细接收数据!$E:$R,14,FALSE) -> 17920.58 | AQ99: =AO99+AP99 -> 31368.4 | AR99: =AQ99+AM99+AG99+AC99+AA99+Y99+W99+S99+Q99+O99+K99+I99 -> 471854.12
A100: 95 | C100: 小西庄村 | E100: 60 | G100: 0724722194 | H100: =VLOOKUP(G100,[1]分布式发票数据!$A:$D,4) -> 45162 | I100: =VLOOKUP(G100,[1]分布式发票数据!$A:$E,5,FALSE) -> 16457.03 | J100: =VLOOKUP(G100,[2]分布式发票数据!$A:$D,4,FALSE) -> 40369 | K100: =VLOOKUP(G100,[2]分布式发票数据!$A:$E,5,FALSE) -> 14710.46 | L100: 54485 | M100: 19854.33 | N100: =VLOOKUP(G100,'[7]2022年12月-2023年3月'!$A$4:$E$193,5,FALSE) -> 90645.51 | O100: =M100+N100 -> 110499.84 | P100: =VLOOKUP(G100,[3]分布式发票数据!$A:$E,4,FALSE) -> 40811 | Q100: =VLOOKUP(G100,[3]分布式发票数据!$A:$E,5,FALSE) -> 14871.53 | R100: =VLOOKUP(G:G,[4]分布式发票数据!$A:$E,4,FALSE) -> 44454 | S100: =VLOOKUP(G:G,[4]分布式发票数据!$A:$E,5,FALSE) -> 16199.04 | T100: =VLOOKUP(G100,[5]分布式发票数据!$A$4:$E$193,4,FALSE) -> 51581 | U100: =VLOOKUP(G100,[5]分布式发票数据!$A$4:$E$193,5,FALSE) -> 18796.12 | V100: =VLOOKUP(G100,'[8]2023年4-6月'!$A$4:$E$193,5,FALSE) -> 66452.41 | W100: =U100+V100 -> 85248.53 | X100: =VLOOKUP(G100,[6]分布式发票数据!$A$4:$D$193,4,FALSE) -> 42928 | Y100: =VLOOKUP(G100,[6]分布式发票数据!$A$4:$E$193,5,FALSE) -> 15642.96 | Z100: =VLOOKUP(G100,[9]分布式发票数据!$A$4:$E$193,4,FALSE) -> 46817 | AA100: =VLOOKUP(G100,[9]分布式发票数据!$A$4:$E$193,5,FALSE) -> 17060.11 | AB100: =VLOOKUP(G100,[10]分布式发票数据!$A:$D,4,FALSE) -> 41011 | AC100: =VLOOKUP(G100,[10]分布式发票数据!$A:$E,5,FALSE) -> 14944.41 | AD100: =VLOOKUP(G100,[12]sheet1!$G:$S,13,FALSE) -> 49402 | AE100: =VLOOKUP(G100,[12]sheet1!$G:$X,18,FALSE) -> 18002.09 | AF100: =VLOOKUP(G100,[11]Sheet1!$B:$E,4,FALSE) -> 63495.12 | AG100: =AE100+AF100 -> 81497.21 | AH100: =VLOOKUP(G100,[13]Sheet1!$C$1:$H$65536,6,FALSE) -> 41298 | AI100: =VLOOKUP(G100,[13]Sheet1!$C$1:$I$65536,7,FALSE) -> 15048.99 | AJ100: =VLOOKUP(G100,[14]Sheet1!$E$1:$I$65536,5,FALSE) -> 20054.31 | AK100: =VLOOKUP(G100,[15]Sheet1!$E$1:$I$65536,5,FALSE) -> 23989.61 | AL100: =AJ100+AK100 -> 44043.92 | AM100: =AI100+AL100 -> 59092.91 | AN100: =VLOOKUP(G100,[16]分布式营销结算明细接收数据!$E:$K,7,FALSE) -> 32531 | AO100: =VLOOKUP(G100,[16]分布式营销结算明细接收数据!$E:$O,11,FALSE) -> 11854.3 | AP100: =VLOOKUP(G100,[16]分布式营销结算明细接收数据!$E:$R,14,FALSE) -> 15797.05 | AQ100: =AO100+AP100 -> 27651.35 | AR100: =AQ100+AM100+AG100+AC100+AA100+Y100+W100+S100+Q100+O100+K100+I100 -> 473875.38
A101: 96 | C101: 十八堰村 | E101: 60 | G101: 0724722471 | H101: =VLOOKUP(G101,[1]分布式发票数据!$A:$D,4) -> 39826 | I101: =VLOOKUP(G101,[1]分布式发票数据!$A:$E,5,FALSE) -> 14512.59 | J101: =VLOOKUP(G101,[2]分布式发票数据!$A:$D,4,FALSE) -> 36767 | K101: =VLOOKUP(G101,[2]分布式发票数据!$A:$E,5,FALSE) -> 13397.89 | L101: 51444 | M101: 18746.19 | N101: =VLOOKUP(G101,'[7]2022年12月-2023年3月'!$A$4:$E$193,5,FALSE) -> 81900.82 | O101: =M101+N101 -> 100647.01 | P101: =VLOOKUP(G101,[3]分布式发票数据!$A:$E,4,FALSE) -> 39007 | Q101: =VLOOKUP(G101,[3]分布式发票数据!$A:$E,5,FALSE) -> 14214.15 | R101: =VLOOKUP(G:G,[4]分布式发票数据!$A:$E,4,FALSE) -> 43306 | S101: =VLOOKUP(G:G,[4]分布式发票数据!$A:$E,5,FALSE) -> 15780.71 | T101: =VLOOKUP(G101,[5]分布式发票数据!$A$4:$E$193,4,FALSE) -> 49909 | U101: =VLOOKUP(G101,[5]分布式发票数据!$A$4:$E$193,5,FALSE) -> 18186.84 | V101: =VLOOKUP(G101,'[8]2023年4-6月'!$A$4:$E$193,5,FALSE) -> 64207 | W101: =U101+V101 -> 82393.84 | X101: =VLOOKUP(G101,[6]分布式发票数据!$A$4:$D$193,4,FALSE) -> 41617 | Y101: =VLOOKUP(G101,[6]分布式发票数据!$A$4:$E$193,5,FALSE) -> 15165.23 | Z101: =VLOOKUP(G101,[9]分布式发票数据!$A$4:$E$193,4,FALSE) -> 44844 | AA101: =VLOOKUP(G101,[9]分布式发票数据!$A$4:$E$193,5,FALSE) -> 16341.15 | AB101: =VLOOKUP(G101,[10]分布式发票数据!$A:$D,4,FALSE) -> 38521 | AC101: =VLOOKUP(G101,[10]分布式发票数据!$A:$E,5,FALSE) -> 14037.05 | AD101: =VLOOKUP(G101,[12]sheet1!$G:$S,13,FALSE) -> 47885 | AE101: =VLOOKUP(G101,[12]sheet1!$G:$X,18,FALSE) -> 17449.29 | AF101: =VLOOKUP(G101,[11]Sheet1!$B:$E,4,FALSE) -> 60691.27 | AG101: =AE101+AF101 -> 78140.56 | AH101: =VLOOKUP(G101,[13]Sheet1!$C$1:$H$65536,6,FALSE) -> 41377 | AI101: =VLOOKUP(G101,[13]Sheet1!$C$1:$I$65536,7,FALSE) -> 15077.78 | AJ101: =VLOOKUP(G101,[14]Sheet1!$E$1:$I$65536,5,FALSE) -> 20092.67 | AK101: =VLOOKUP(G101,[15]Sheet1!$E$1:$I$65536,5,FALSE) -> 23252.96 | AL101: =AJ101+AK101 -> 43345.63 | AM101: =AI101+AL101 -> 58423.41 | AN101: =VLOOKUP(G101,[16]分布式营销结算明细接收数据!$E:$K,7,FALSE) -> 30934 | AO101: =VLOOKUP(G101,[16]分布式营销结算明细接收数据!$E:$O,11,FALSE) -> 11272.35 | AP101: =VLOOKUP(G101,[16]分布式营销结算明细接收数据!$E:$R,14,FALSE) -> 15021.55 | AQ101: =AO101+AP101 -> 26293.9 | AR101: =AQ101+AM101+AG101+AC101+AA101+Y101+W101+S101+Q101+O101+K101+I101 -> 449347.49
A102: 97 | C102: 王家庄村 | E102: 60 | G102: 0724722673 | H102: =VLOOKUP(G102,[1]分布式发票数据!$A:$D,4) -> 43530 | I102: =VLOOKUP(G102,[1]分布式发票数据!$A:$E,5,FALSE) -> 15862.33 | J102: =VLOOKUP(G102,[2]分布式发票数据!$A:$D,4,FALSE) -> 38941 | K102: =VLOOKUP(G102,[2]分布式发票数据!$A:$E,5,FALSE) -> 14190.1 | L102: 52526 | M102: 19140.47 | N102: =VLOOKUP(G102,'[7]2022年12月-2023年3月'!$A$4:$E$193,5,FALSE) -> 87391.98 | O102: =M102+N102 -> 106532.45 | P102: =VLOOKUP(G102,[3]分布式发票数据!$A:$E,4,FALSE) -> 39506 | Q102: =VLOOKUP(G102,[3]分布式发票数据!$A:$E,5,FALSE) -> 14395.99 | R102: =VLOOKUP(G:G,[4]分布式发票数据!$A:$E,4,FALSE) -> 43394 | S102: =VLOOKUP(G:G,[4]分布式发票数据!$A:$E,5,FALSE) -> 15812.77 | T102: =VLOOKUP(G102,[5]分布式发票数据!$A$4:$E$193,4,FALSE) -> 49878 | U102: =VLOOKUP(G102,[5]分布式发票数据!$A$4:$E$193,5,FALSE) -> 18175.54 | V102: =VLOOKUP(G102,'[8]2023年4-6月'!$A$4:$E$193,5,FALSE) -> 64477 | W102: =U102+V102 -> 82652.54 | X102: =VLOOKUP(G102,[6]分布式发票数据!$A$4:$D$193,4,FALSE) -> 41658 | Y102: =VLOOKUP(G102,[6]分布式发票数据!$A$4:$E$193,5,FALSE) -> 15180.18 | Z102: =VLOOKUP(G102,[9]分布式发票数据!$A$4:$E$193,4,FALSE) -> 45180 | AA102: =VLOOKUP(G102,[9]分布式发票数据!$A$4:$E$193,5,FALSE) -> 16463.59 | AB102: =VLOOKUP(G102,[10]分布式发票数据!$A:$D,4,FALSE) -> 39359 | AC102: =VLOOKUP(G102,[10]分布式发票数据!$A:$E,5,FALSE) -> 14342.42 | AD102: =VLOOKUP(G102,[12]sheet1!$G:$S,13,FALSE) -> 49490 | AE102: =VLOOKUP(G102,[12]sheet1!$G:$X,18,FALSE) -> 18034.16 | AF102: =VLOOKUP(G102,[11]Sheet1!$B:$E,4,FALSE) -> 61281.26 | AG102: =AE102+AF102 -> 79315.42 | AH102: =VLOOKUP(G102,[13]Sheet1!$C$1:$H$65536,6,FALSE) -> 44353 | AI102: =VLOOKUP(G102,[13]Sheet1!$C$1:$I$65536,7,FALSE) -> 16162.23 | AJ102: =VLOOKUP(G102,[14]Sheet1!$E$1:$I$65536,5,FALSE) -> 21537.82 | AK102: =VLOOKUP(G102,[15]Sheet1!$E$1:$I$65536,5,FALSE) -> 24032.34 | AL102: =AJ102+AK102 -> 45570.16 | AM102: =AI102+AL102 -> 61732.39 | AN102: =VLOOKUP(G102,[16]分布式营销结算明细接收数据!$E:$K,7,FALSE) -> 33894 | AO102: =VLOOKUP(G102,[16]分布式营销结算明细接收数据!$E:$O,11,FALSE) -> 12350.97 | AP102: =VLOOKUP(G102,[16]分布式营销结算明细接收数据!$E:$R,14,FALSE) -> 16458.93 | AQ102: =AO102+AP102 -> 28809.9 | AR102: =AQ102+AM102+AG102+AC102+AA102+Y102+W102+S102+Q102+O102+K102+I102 -> 465290.08
...

Sheet Sheet1
